Workbook

Sheet Notes
B2: Notes on content of file
B4: Exchange Rates File includes: | C4: Worksheet Name | D4: Description | E4: Frequency | F4: Start of series | G4: As at:
C5: USD | D5: SCR/USD mid Exchange Rates, Published, Average of all authorised dealers | E5: Daily | F5: 36529 | G5: =MAX(USD!A:A) -> 46296
C6: EUR | D6: SCR/EUR mid Exchange Rates, Published, Average of all authorised dealers | E6: Daily | F6: 36529 | G6: =MAX(EUR!A:A) -> 46296
C7: GDP | D7: SCR/GBP mid Exchange Rates, Published, Average of all authorised dealers | E7: Daily | F7: 36529 | G7: =MAX(GBP!A:A) -> 46296
B10: Source: | C10: Central Bank of Seychelles
B11: Contact Details: | C11: statistics@cbs.sc
B12: Tel: | C12: +(248) 4282115, 4282117, 4282116, 4282114, 4282113
B14: Unlisted Dates: | C14: =HYPERLINK("https://www.cbs.sc/PublicHolidays.html","Weekends and Public Holidays(PH)") -> Weekends and Public Holidays(PH)

Sheet USD
A3: Date | B3: SCR/USD | D3: Change
A4: 36529 | B4: 5.3441
A5: 36530 | B5: 5.3125 | D5: =IFERROR(B5-B4," ") -> -0.0316
A6: 36531 | B6: 5.307 | D6: =IFERROR(B6-B5," ") -> -0.0055
A7: 36532 | B7: 5.3057 | D7: =IFERROR(B7-B6," ") -> -0.0013
A8: 36535 | B8: 5.3141 | D8: =IFERROR(B8-B7," ") -> 0.0084
A9: 36536 | B9: 5.3222 | D9: =IFERROR(B9-B8," ") -> 0.0081
A10: 36537 | B10: 5.3089 | D10: =IFERROR(B10-B9," ") -> -0.0133
A11: 36538 | B11: 5.3156 | D11: =IFERROR(B11-B10," ") -> 0.0067
A12: 36539 | B12: 5.317 | D12: =IFERROR(B12-B11," ") -> 0.0014
A13: 36542 | B13: 5.348 | D13: =IFERROR(B13-B12," ") -> 0.031
A14: 36543 | B14: 5.348 | D14: =IFERROR(B14-B13," ") -> 0
A15: 36544 | B15: 5.3477 | D15: =IFERROR(B15-B14," ") -> -0.0003
A16: 36545 | B16: 5.3475 | D16: =IFERROR(B16-B15," ") -> -0.0002
... A4500: 43098 | B4500: 13.8357 | D4500: =IFERROR(B4500-B4499," ") -> 0.0522
A4501: =5+A4500 -> 43103 | B4501: 13.7981 | D4501: =IFERROR(B4501-B4500," ") -> -0.0376
A4502: 43104 | B4502: 13.8245 | D4502: =IFERROR(B4502-B4501," ") -> 0.0264
A4503: 43105 | B4503: 13.8288 | D4503: =IFERROR(B4503-B4502," ") -> 0.0043
A4504: 43108 | B4504: 13.7891 | D4504: =IFERROR(B4504-B4503," ") -> -0.0397
A4505: 43109 | B4505: 13.7904 | D4505: =IFERROR(B4505-B4504," ") -> 0.0013
A4506: 43110 | B4506: 13.8157 | D4506: =IFERROR(B4506-B4505," ") -> 0.0253
A4507: 43111 | B4507: 13.8412 | D4507: =IFERROR(B4507-B4506," ") -> 0.0255
A4508: 43112 | B4508: 13.8267 | D4508: =IFERROR(B4508-B4507," ") -> -0.0145
A4509: 43115 | B4509: 13.8882 | D4509: =IFERROR(B4509-B4508," ") -> 0.0615
A4510: 43116 | B4510: 13.8039 | D4510: =IFERROR(B4510-B4509," ") -> -0.0843
A4511: 43117 | B4511: 13.8715 | D4511: =IFERROR(B4511-B4510," ") -> 0.0676
A4512: 43118 | B4512: 13.8321 | D4512: =IFERROR(B4512-B4511," ") -> -0.0394
A4513: 43119 | B4513: 13.8563 | D4513: =IFERROR(B4513-B4512," ") -> 0.0242
... A5921: 45177 | B5921: 14.046933 | D5921: =IFERROR(B5921-B5920," ") -> -0.015869548
A5922: =WORKDAY(A5921,1) -> 45180 | B5922: 14.041063 | D5922: =IFERROR(B5922-B5921," ") -> -0.0058706774
A5923: =WORKDAY(A5922,1) -> 45181 | B5923: 14.072812 | D5923: =IFERROR(B5923-B5922," ") -> 0.031749408
A5924: =WORKDAY(A5923,1) -> 45182 | B5924: 14.122308 | D5924: =IFERROR(B5924-B5923," ") -> 0.049495844
A5925: =WORKDAY(A5924,1) -> 45183 | B5925: 14.079904 | D5925: =IFERROR(B5925-B5924," ") -> -0.042404356
A5926: =WORKDAY(A5925,1) -> 45184 | B5926: 14.092461 | D5926: =IFERROR(B5926-B5925," ") -> 0.01255749
A5927: =WORKDAY(A5926,1) -> 45187 | B5927: 14.164765 | D5927: =IFERROR(B5927-B5926," ") -> 0.072303777
A5928: =WORKDAY(A5927,1) -> 45188 | B5928: 14.144306 | D5928: =IFERROR(B5928-B5927," ") -> -0.02045926
A5929: =WORKDAY(A5928,1) -> 45189 | B5929: 14.222307 | D5929: =IFERROR(B5929-B5928," ") -> 0.078000974
A5930: =WORKDAY(A5929,1) -> 45190 | B5930: 14.180058 | D5930: =IFERROR(B5930-B5929," ") -> -0.042248324
A5931: =WORKDAY(A5930,1) -> 45191 | B5931: 14.146247 | D5931: =IFERROR(B5931-B5930," ") -> -0.033811439
A5932: =WORKDAY(A5931,1) -> 45194 | B5932: 14.162732 | D5932: =IFERROR(B5932-B5931," ") -> 0.016485198
A5933: =WORKDAY(A5932,1) -> 45195 | B5933: 14.147376 | D5933: =IFERROR(B5933-B5932," ") -> -0.015356206
... A5958: =WORKDAY(A5957,1) -> 45230 | B5958: 14.513625 | D5958: =IFERROR(B5958-B5957," ") -> -0.021748544
A5959: =WORKDAY(A5958,2) -> 45232 | B5959: 14.580905 | D5959: =IFERROR(B5959-B5958," ") -> 0.067280229
A5960: =WORKDAY(A5959,1) -> 45233 | B5960: 14.544612 | D5960: =IFERROR(B5960-B5959," ") -> -0.036292781
A5961: =WORKDAY(A5960,1) -> 45236 | B5961: 14.490494 | D5961: =IFERROR(B5961-B5960," ") -> -0.054118198
A5962: =WORKDAY(A5961,1) -> 45237 | B5962: 14.540813 | D5962: =IFERROR(B5962-B5961," ") -> 0.050318397
A5963: =WORKDAY(A5962,1) -> 45238 | B5963: 14.584358 | D5963: =IFERROR(B5963-B5962," ") -> 0.043545536
A5964: =WORKDAY(A5963,1) -> 45239 | B5964: 14.489449 | D5964: =IFERROR(B5964-B5963," ") -> -0.094909332
A5965: =WORKDAY(A5964,1) -> 45240 | B5965: 14.429724 | D5965: =IFERROR(B5965-B5964," ") -> -0.059724808
A5966: =WORKDAY(A5965,1) -> 45243 | B5966: 14.519912 | D5966: =IFERROR(B5966-B5965," ") -> 0.090187588
A5967: =WORKDAY(A5966,1) -> 45244 | B5967: 14.540449 | D5967: =IFERROR(B5967-B5966," ") -> 0.020537709
A5968: =WORKDAY(A5967,1) -> 45245 | B5968: 14.508954 | D5968: =IFERROR(B5968-B5967," ") -> -0.03149524
A5969: =WORKDAY(A5968,1) -> 45246 | B5969: 14.528271 | D5969: =IFERROR(B5969-B5968," ") -> 0.01931682
A5970: =WORKDAY(A5969,1) -> 45247 | B5970: 14.455823 | D5970: =IFERROR(B5970-B5969," ") -> -0.072448386
A5971: =WORKDAY(A5970,1) -> 45250 | B5971: 14.501313 | D5971: =IFERROR(B5971-B5970," ") -> 0.045490384
... A5983: =WORKDAY(A5982,1) -> 45266 | B5983: 14.263328 | D5983: =IFERROR(B5983-B5982," ") -> -0.031018651
A5984: =WORKDAY(A5983,3) -> 45271 | B5984: 14.251331 | D5984: =IFERROR(B5984-B5983," ") -> -0.011997434
A5985: =WORKDAY(A5984,1) -> 45272 | B5985: 14.254257 | D5985: =IFERROR(B5985-B5984," ") -> 0.0029264824
A5986: =WORKDAY(A5985,1) -> 45273 | B5986: 14.226791 | D5986: =IFERROR(B5986-B5985," ") -> -0.027466716
A5987: =WORKDAY(A5986,1) -> 45274 | B5987: 14.259266 | D5987: =IFERROR(B5987-B5986," ") -> 0.032475285
A5988: =WORKDAY(A5987,1) -> 45275 | B5988: 14.258602 | D5988: =IFERROR(B5988-B5987," ") -> -0.00066380355
A5989: =WORKDAY(A5988,1) -> 45278 | B5989: 14.204973 | D5989: =IFERROR(B5989-B5988," ") -> -0.053629015
A5990: =WORKDAY(A5989,1) -> 45279 | B5990: 14.115989 | D5990: =IFERROR(B5990-B5989," ") -> -0.088984237
A5991: =WORKDAY(A5990,1) -> 45280 | B5991: 14.161539 | D5991: =IFERROR(B5991-B5990," ") -> 0.045550599
A5992: =WORKDAY(A5991,1) -> 45281 | B5992: 14.106348 | D5992: =IFERROR(B5992-B5991," ") -> -0.055191628
A5993: =WORKDAY(A5992,1) -> 45282 | B5993: 14.086565 | D5993: =IFERROR(B5993-B5992," ") -> -0.019782302
A5994: =WORKDAY(A5993,2) -> 45286 | B5994: 14.188294 | D5994: =IFERROR(B5994-B5993," ") -> 0.10172847
A5995: =WORKDAY(A5994,1) -> 45287 | B5995: 14.157985 | D5995: =IFERROR(B5995-B5994," ") -> -0.03030886
A5996: =WORKDAY(A5995,1) -> 45288 | B5996: 14.160602 | D5996: =IFERROR(B5996-B5995," ") -> 0.0026169956
A5997: =WORKDAY(A5996,1) -> 45289 | B5997: 14.194708 | D5997: =IFERROR(B5997-B5996," ") -> 0.034105688
A5998: =WORKDAY(A5997,3) -> 45294 | B5998: 14.13492 | D5998: =IFERROR(B5998-B5997," ") -> -0.059787974
A5999: =WORKDAY(A5998,1) -> 45295 | B5999: 14.176538 | D5999: =IFERROR(B5999-B5998," ") -> 0.041618414
A6000: =WORKDAY(A5999,1) -> 45296 | B6000: 14.122977 | D6000: =IFERROR(B6000-B5999," ") -> -0.053561045
A6001: =WORKDAY(A6000,1) -> 45299 | B6001: 14.064762 | D6001: =IFERROR(B6001-B6000," ") -> -0.058215149
A6002: =WORKDAY(A6001,1) -> 45300 | B6002: 14.152571 | D6002: =IFERROR(B6002-B6001," ") -> 0.087808637
A6003: =WORKDAY(A6002,1) -> 45301 | B6003: 14.176225 | D6003: =IFERROR(B6003-B6002," ") -> 0.023654263
A6004: =WORKDAY(A6003,1) -> 45302 | B6004: 14.18253 | D6004: =IFERROR(B6004-B6003," ") -> 0.0063050976
A6005: =WORKDAY(A6004,1) -> 45303 | B6005: 14.233219 | D6005: =IFERROR(B6005-B6004," ") -> 0.050688707
A6006: =WORKDAY(A6005,1) -> 45306 | B6006: 14.061858 | D6006: =IFERROR(B6006-B6005," ") -> -0.17136082
A6007: =WORKDAY(A6006,1) -> 45307 | B6007: 14.128167 | D6007: =IFERROR(B6007-B6006," ") -> 0.066308969
A6008: =WORKDAY(A6007,1) -> 45308 | B6008: 14.117777 | D6008: =IFERROR(B6008-B6007," ") -> -0.010389523
A6009: =WORKDAY(A6008,1) -> 45309 | B6009: 14.114424 | D6009: =IFERROR(B6009-B6008," ") -> -0.0033531483
A6010: =WORKDAY(A6009,1) -> 45310 | B6010: 14.160135 | D6010: =IFERROR(B6010-B6009," ") -> 0.045711205
... A6059: =WORKDAY(A6058,1) -> 45379 | B6059: 14.309087 | D6059: =IFERROR(B6059-B6058," ") -> -0.012711389
A6060: =WORKDAY(A6059,3) -> 45384 | B6060: 14.33751 | D6060: =IFERROR(B6060-B6059," ") -> 0.028423029
A6061: =WORKDAY(A6060,1) -> 45385 | B6061: 14.358426 | D6061: =IFERROR(B6061-B6060," ") -> 0.020915485
A6062: =WORKDAY(A6061,1) -> 45386 | B6062: 14.322164 | D6062: =IFERROR(B6062-B6061," ") -> -0.03626137
A6063: =WORKDAY(A6062,1) -> 45387 | B6063: 14.31106 | D6063: =IFERROR(B6063-B6062," ") -> -0.011104379
A6064: =WORKDAY(A6063,1) -> 45390 | B6064: 14.330668 | D6064: =IFERROR(B6064-B6063," ") -> 0.019608117
A6065: =WORKDAY(A6064,1) -> 45391 | B6065: 14.392487 | D6065: =IFERROR(B6065-B6064," ") -> 0.061818601
A6066: =WORKDAY(A6065,1) -> 45392 | B6066: 14.367953 | D6066: =IFERROR(B6066-B6065," ") -> -0.024533281
A6067: =WORKDAY(A6066,1) -> 45393 | B6067: 14.409117 | D6067: =IFERROR(B6067-B6066," ") -> 0.041163819
A6068: =WORKDAY(A6067,1) -> 45394 | B6068: 14.395277 | D6068: =IFERROR(B6068-B6067," ") -> -0.013839703
A6069: =WORKDAY(A6068,1) -> 45397 | B6069: 14.52064 | D6069: =IFERROR(B6069-B6068," ") -> 0.12536255
A6070: =WORKDAY(A6069,1) -> 45398 | B6070: 14.432355 | D6070: =IFERROR(B6070-B6069," ") -> -0.088285035
A6071: =WORKDAY(A6070,1) -> 45399 | B6071: 14.396852 | D6071: =IFERROR(B6071-B6070," ") -> -0.035502906
A6072: =WORKDAY(A6071,1) -> 45400 | B6072: 14.451514 | D6072: =IFERROR(B6072-B6071," ") -> 0.05466214
... A6080: =WORKDAY(A6079,1) -> 45412 | B6080: 14.402647 | D6080: =IFERROR(B6080-B6079," ") -> 0.052624974
A6081: =WORKDAY(A6080,2) -> 45414 | B6081: 14.432886 | D6081: =IFERROR(B6081-B6080," ") -> 0.03023847
A6082: =WORKDAY(A6081,1) -> 45415 | B6082: 14.504711 | D6082: =IFERROR(B6082-B6081," ") -> 0.071825735
...

Sheet EUR
A3: Date | B3: SCR/EUR | D3: Change
A4: 36529 | B4: 5.427
A5: 36530 | B5: 5.4766 | D5: =IFERROR(B5-B4," ") -> 0.0496
A6: 36531 | B6: 5.4848 | D6: =IFERROR(B6-B5," ") -> 0.0082
A7: 36532 | B7: 5.4776 | D7: =IFERROR(B7-B6," ") -> -0.0072
A8: 36535 | B8: 5.4703 | D8: =IFERROR(B8-B7," ") -> -0.0073 | L8: =1200*3.8 -> 4560
A9: 36536 | B9: 5.4563 | D9: =IFERROR(B9-B8," ") -> -0.014
A10: 36537 | B10: 5.4798 | D10: =IFERROR(B10-B9," ") -> 0.0235
A11: 36538 | B11: 5.465 | D11: =IFERROR(B11-B10," ") -> -0.0148
A12: 36539 | B12: 5.4606 | D12: =IFERROR(B12-B11," ") -> -0.0044
A13: 36542 | B13: 5.4165 | D13: =IFERROR(B13-B12," ") -> -0.0441
A14: 36543 | B14: 5.4165 | D14: =IFERROR(B14-B13," ") -> 0
A15: 36544 | B15: 5.4124 | D15: =IFERROR(B15-B14," ") -> -0.0041
A16: 36545 | B16: 5.409 | D16: =IFERROR(B16-B15," ") -> -0.0034
A17: 36546 | B17: 5.4105 | D17: =IFERROR(B17-B16," ") -> 0.0015
A18: 36549 | B18: 5.3999 | D18: =IFERROR(B18-B17," ") -> -0.0106
A19: 36550 | B19: 5.3747 | D19: =IFERROR(B19-B18," ") -> -0.0252
A20: 36551 | B20: 5.386 | D20: =IFERROR(B20-B19," ") -> 0.0113
... A4500: 43098 | B4500: 16.5296 | D4500: =IFERROR(B4500-B4499," ") -> 0.1882
A4501: =5+A4500 -> 43103 | B4501: 16.5771 | D4501: =IFERROR(B4501-B4500," ") -> 0.0475
A4502: 43104 | B4502: 16.6278 | D4502: =IFERROR(B4502-B4501," ") -> 0.0507
A4503: 43105 | B4503: 16.6512 | D4503: =IFERROR(B4503-B4502," ") -> 0.0234
A4504: 43108 | B4504: 16.7539 | D4504: =IFERROR(B4504-B4503," ") -> 0.1027
A4505: 43109 | B4505: 16.6282 | D4505: =IFERROR(B4505-B4504," ") -> -0.1257
A4506: 43110 | B4506: 16.5424 | D4506: =IFERROR(B4506-B4505," ") -> -0.0858
A4507: 43111 | B4507: 16.5491 | D4507: =IFERROR(B4507-B4506," ") -> 0.0067
A4508: 43112 | B4508: 16.7202 | D4508: =IFERROR(B4508-B4507," ") -> 0.1711
A4509: 43115 | B4509: 16.8109 | D4509: =IFERROR(B4509-B4508," ") -> 0.0907
A4510: 43116 | B4510: 16.9575 | D4510: =IFERROR(B4510-B4509," ") -> 0.1466
A4511: 43117 | B4511: 16.8961 | D4511: =IFERROR(B4511-B4510," ") -> -0.0614
A4512: 43118 | B4512: 16.9428 | D4512: =IFERROR(B4512-B4511," ") -> 0.0467
A4513: 43119 | B4513: 16.9718 | D4513: =IFERROR(B4513-B4512," ") -> 0.029
... A5319: 44300 | B5319: 19.3928 | D5319: =IFERROR(B5319-B5318," ") -> -1.5039
A5320: =IFERROR(USD!A5320,"") -> 44301 | B5320: 19.2213 | D5320: =IFERROR(B5320-B5319," ") -> -0.1715
A5321: =IFERROR(USD!A5321,"") -> 44302 | B5321: 18.8222 | D5321: =IFERROR(B5321-B5320," ") -> -0.3991
A5322: 44305 | B5322: 19.0732 | D5322: =IFERROR(B5322-B5321," ") -> 0.251
A5323: 44306 | B5323: 19.2507 | D5323: =IFERROR(B5323-B5322," ") -> 0.1775
A5324: 44307 | B5324: 19.0841 | D5324: =IFERROR(B5324-B5323," ") -> -0.1666
A5325: 44308 | B5325: 18.6861 | D5325: =IFERROR(B5325-B5324," ") -> -0.398
A5326: 44309 | B5326: 18.2146 | D5326: =IFERROR(B5326-B5325," ") -> -0.4715
A5327: 44312 | B5327: 17.7147 | D5327: =IFERROR(B5327-B5326," ") -> -0.4999
A5328: 44313 | B5328: 17.6933 | D5328: =IFERROR(B5328-B5327," ") -> -0.0214
A5329: 44314 | B5329: 17.6649 | D5329: =IFERROR(B5329-B5328," ") -> -0.0284
A5330: 44315 | B5330: 17.745 | D5330: =IFERROR(B5330-B5329," ") -> 0.0801
A5331: 44316 | B5331: 17.8463 | D5331: =IFERROR(B5331-B5330," ") -> 0.1013
A5332: 44319 | B5332: 18.1165 | D5332: =IFERROR(B5332-B5331," ") -> 0.2702
A5333: 44320 | B5333: 17.9515 | D5333: =IFERROR(B5333-B5332," ") -> -0.165
... A5921: 45177 | B5921: 15.179948 | D5921: =IFERROR(B5921-B5920," ") -> 0.047073707
A5922: =WORKDAY(A5921,1) -> 45180 | B5922: 15.212011 | D5922: =IFERROR(B5922-B5921," ") -> 0.032062952
A5923: =WORKDAY(A5922,1) -> 45181 | B5923: 15.346409 | D5923: =IFERROR(B5923-B5922," ") -> 0.13439731
A5924: =WORKDAY(A5923,1) -> 45182 | B5924: 15.175714 | D5924: =IFERROR(B5924-B5923," ") -> -0.17069499
A5925: =WORKDAY(A5924,1) -> 45183 | B5925: 15.262228 | D5925: =IFERROR(B5925-B5924," ") -> 0.086514154
A5926: =WORKDAY(A5925,1) -> 45184 | B5926: 15.188957 | D5926: =IFERROR(B5926-B5925," ") -> -0.073270409
A5927: =WORKDAY(A5926,1) -> 45187 | B5927: 15.157258 | D5927: =IFERROR(B5927-B5926," ") -> -0.031699485
A5928: =WORKDAY(A5927,1) -> 45188 | B5928: 15.15757 | D5928: =IFERROR(B5928-B5927," ") -> 0.00031178433
A5929: =WORKDAY(A5928,1) -> 45189 | B5929: 15.12572 | D5929: =IFERROR(B5929-B5928," ") -> -0.031849706
A5930: =WORKDAY(A5929,1) -> 45190 | B5930: 15.143426 | D5930: =IFERROR(B5930-B5929," ") -> 0.017706088
A5931: =WORKDAY(A5930,1) -> 45191 | B5931: 15.214559 | D5931: =IFERROR(B5931-B5930," ") -> 0.071133042
A5932: =WORKDAY(A5931,1) -> 45194 | B5932: 15.223333 | D5932: =IFERROR(B5932-B5931," ") -> 0.0087741795
A5933: =WORKDAY(A5932,1) -> 45195 | B5933: 15.104307 | D5933: =IFERROR(B5933-B5932," ") -> -0.11902655
... A5958: =WORKDAY(A5957,1) -> 45230 | B5958: 15.264638 | D5958: =IFERROR(B5958-B5957," ") -> -0.10427634
A5959: =WORKDAY(A5958,2) -> 45232 | B5959: 15.412218 | D5959: =IFERROR(B5959-B5958," ") -> 0.14757977
A5960: =WORKDAY(A5959,1) -> 45233 | B5960: 15.393065 | D5960: =IFERROR(B5960-B5959," ") -> -0.019153048
A5961: =WORKDAY(A5960,1) -> 45236 | B5961: 15.302825 | D5961: =IFERROR(B5961-B5960," ") -> -0.090239636
A5962: =WORKDAY(A5961,1) -> 45237 | B5962: 15.605735 | D5962: =IFERROR(B5962-B5961," ") -> 0.30290957
A5963: =WORKDAY(A5962,1) -> 45238 | B5963: 15.566339 | D5963: =IFERROR(B5963-B5962," ") -> -0.039396349
A5964: =WORKDAY(A5963,1) -> 45239 | B5964: 15.596188 | D5964: =IFERROR(B5964-B5963," ") -> 0.029849572
A5965: =WORKDAY(A5964,1) -> 45240 | B5965: 15.561986 | D5965: =IFERROR(B5965-B5964," ") -> -0.03420164
A5966: =WORKDAY(A5965,1) -> 45243 | B5966: 15.610741 | D5966: =IFERROR(B5966-B5965," ") -> 0.048754496
A5967: =WORKDAY(A5966,1) -> 45244 | B5967: 15.5628 | D5967: =IFERROR(B5967-B5966," ") -> -0.047940747
A5968: =WORKDAY(A5967,1) -> 45245 | B5968: 15.746533 | D5968: =IFERROR(B5968-B5967," ") -> 0.18373321
A5969: =WORKDAY(A5968,1) -> 45246 | B5969: 15.81877 | D5969: =IFERROR(B5969-B5968," ") -> 0.072236982
A5970: =WORKDAY(A5969,1) -> 45247 | B5970: 15.724407 | D5970: =IFERROR(B5970-B5969," ") -> -0.094363574
A5971: =WORKDAY(A5970,1) -> 45250 | B5971: 15.858483 | D5971: =IFERROR(B5971-B5970," ") -> 0.13407625
... A5983: =WORKDAY(A5982,1) -> 45266 | B5983: 15.380778 | D5983: =IFERROR(B5983-B5982," ") -> -0.17089628
A5984: =WORKDAY(A5983,3) -> 45271 | B5984: 15.388916 | D5984: =IFERROR(B5984-B5983," ") -> 0.0081377699
A5985: =WORKDAY(A5984,1) -> 45272 | B5985: 15.354142 | D5985: =IFERROR(B5985-B5984," ") -> -0.034773388
A5986: =WORKDAY(A5985,1) -> 45273 | B5986: 15.433911 | D5986: =IFERROR(B5986-B5985," ") -> 0.07976831
A5987: =WORKDAY(A5986,1) -> 45274 | B5987: 15.365249 | D5987: =IFERROR(B5987-B5986," ") -> -0.068661667
A5988: =WORKDAY(A5987,1) -> 45275 | B5988: 15.638915 | D5988: =IFERROR(B5988-B5987," ") -> 0.27366625
A5989: =WORKDAY(A5988,1) -> 45278 | B5989: 15.692669 | D5989: =IFERROR(B5989-B5988," ") -> 0.053753888
A5990: =WORKDAY(A5989,1) -> 45279 | B5990: 15.429317 | D5990: =IFERROR(B5990-B5989," ") -> -0.26335242
A5991: =WORKDAY(A5990,1) -> 45280 | B5991: 15.514174 | D5991: =IFERROR(B5991-B5990," ") -> 0.084856745
A5992: =WORKDAY(A5991,1) -> 45281 | B5992: 15.557065 | D5992: =IFERROR(B5992-B5991," ") -> 0.042891635
A5993: =WORKDAY(A5992,1) -> 45282 | B5993: 15.402752 | D5993: =IFERROR(B5993-B5992," ") -> -0.15431306
A5994: =WORKDAY(A5993,2) -> 45286 | B5994: 15.605145 | D5994: =IFERROR(B5994-B5993," ") -> 0.20239261
A5995: =WORKDAY(A5994,1) -> 45287 | B5995: 15.672327 | D5995: =IFERROR(B5995-B5994," ") -> 0.067182729
A5996: =WORKDAY(A5995,1) -> 45288 | B5996: 15.700351 | D5996: =IFERROR(B5996-B5995," ") -> 0.028023312
A5997: =WORKDAY(A5996,1) -> 45289 | B5997: 15.847507 | D5997: =IFERROR(B5997-B5996," ") -> 0.1471558
A5998: =WORKDAY(A5997,3) -> 45294 | B5998: 15.635814 | D5998: =IFERROR(B5998-B5997," ") -> -0.21169279
A5999: =WORKDAY(A5998,1) -> 45295 | B5999: 15.46938 | D5999: =IFERROR(B5999-B5998," ") -> -0.16643337
A6000: =WORKDAY(A5999,1) -> 45296 | B6000: 15.399676 | D6000: =IFERROR(B6000-B5999," ") -> -0.069704313
A6001: =WORKDAY(A6000,1) -> 45299 | B6001: 15.517646 | D6001: =IFERROR(B6001-B6000," ") -> 0.11796995
A6002: =WORKDAY(A6001,1) -> 45300 | B6002: 15.532029 | D6002: =IFERROR(B6002-B6001," ") -> 0.014382762
A6003: =WORKDAY(A6002,1) -> 45301 | B6003: 15.511575 | D6003: =IFERROR(B6003-B6002," ") -> -0.020453622
A6004: =WORKDAY(A6003,1) -> 45302 | B6004: 15.633423 | D6004: =IFERROR(B6004-B6003," ") -> 0.12184817
A6005: =WORKDAY(A6004,1) -> 45303 | B6005: 15.499557 | D6005: =IFERROR(B6005-B6004," ") -> -0.13386616
A6006: =WORKDAY(A6005,1) -> 45306 | B6006: 15.470574 | D6006: =IFERROR(B6006-B6005," ") -> -0.028983691
A6007: =WORKDAY(A6006,1) -> 45307 | B6007: 15.445381 | D6007: =IFERROR(B6007-B6006," ") -> -0.025192383
A6008: =WORKDAY(A6007,1) -> 45308 | B6008: 15.442452 | D6008: =IFERROR(B6008-B6007," ") -> -0.0029289652
...

Sheet GBP
A3: Date | B3: SCR/GBP | D3: Change
A4: 36529 | B4: 8.6949
A5: 36530 | B5: 8.6965 | D5: =IFERROR(B5-B4," ") -> 0.0016
A6: 36531 | B6: 8.7115 | D6: =IFERROR(B6-B5," ") -> 0.015
A7: 36532 | B7: 8.7411 | D7: =IFERROR(B7-B6," ") -> 0.0296
A8: 36535 | B8: 8.7066 | D8: =IFERROR(B8-B7," ") -> -0.0345
A9: 36536 | B9: 8.7145 | D9: =IFERROR(B9-B8," ") -> 0.0079
A10: 36537 | B10: 8.7494 | D10: =IFERROR(B10-B9," ") -> 0.0349
A11: 36538 | B11: 8.7522 | D11: =IFERROR(B11-B10," ") -> 0.0028
A12: 36539 | B12: 8.7635 | D12: =IFERROR(B12-B11," ") -> 0.0113
A13: 36542 | B13: 8.7456 | D13: =IFERROR(B13-B12," ") -> -0.0179
A14: 36543 | B14: 8.7456 | D14: =IFERROR(B14-B13," ") -> 0
A15: 36544 | B15: 8.7595 | D15: =IFERROR(B15-B14," ") -> 0.0139
A16: 36545 | B16: 8.7903 | D16: =IFERROR(B16-B15," ") -> 0.0308
... A4500: 43098 | B4500: 18.4591 | D4500: =IFERROR(B4500-B4499," ") -> 0.0826
A4501: =5+A4500 -> 43103 | B4501: 18.6818 | D4501: =IFERROR(B4501-B4500," ") -> 0.2227
A4502: 43104 | B4502: 18.5809 | D4502: =IFERROR(B4502-B4501," ") -> -0.1009
A4503: 43105 | B4503: 18.5252 | D4503: =IFERROR(B4503-B4502," ") -> -0.0557
A4504: 43108 | B4504: 18.6143 | D4504: =IFERROR(B4504-B4503," ") -> 0.0891
A4505: 43109 | B4505: 18.6709 | D4505: =IFERROR(B4505-B4504," ") -> 0.0566
A4506: 43110 | B4506: 18.5257 | D4506: =IFERROR(B4506-B4505," ") -> -0.1452
A4507: 43111 | B4507: 18.7792 | D4507: =IFERROR(B4507-B4506," ") -> 0.2535
A4508: 43112 | B4508: 18.5442 | D4508: =IFERROR(B4508-B4507," ") -> -0.235
A4509: 43115 | B4509: 18.9931 | D4509: =IFERROR(B4509-B4508," ") -> 0.4489
A4510: 43116 | B4510: 18.9376 | D4510: =IFERROR(B4510-B4509," ") -> -0.0555
A4511: 43117 | B4511: 18.959 | D4511: =IFERROR(B4511-B4510," ") -> 0.0214
A4512: 43118 | B4512: 19.0732 | D4512: =IFERROR(B4512-B4511," ") -> 0.1142
A4513: 43119 | B4513: 19.0754 | D4513: =IFERROR(B4513-B4512," ") -> 0.0022
... A5067: 43929 | B5067: 19.9935 | D5067: =IFERROR(B5067-B5066," ") -> 1.7546
A5068: 43930 | B5068: - | D5068: =IFERROR(B5068-B5067,"- ") -> -
A5069: 43935 | B5069: 21.2703 | D5069: =IFERROR(B5069-B5068,"- ") -> -
A5070: 43936 | B5070: 21.5316 | D5070: =IFERROR(B5070-B5069,"- ") -> 0.2613
A5071: 43937 | B5071: 21.774 | D5071: =IFERROR(B5071-B5070,"- ") -> 0.2424
A5072: 43938 | B5072: 22.0821 | D5072: =IFERROR(B5072-B5071,"- ") -> 0.3081
A5073: 43941 | B5073: 22.0104 | D5073: =IFERROR(B5073-B5072,"- ") -> -0.0717
A5074: 43942 | B5074: 21.9436 | D5074: =IFERROR(B5074-B5073,"- ") -> -0.0668
A5075: 43943 | B5075: 21.7683 | D5075: =IFERROR(B5075-B5074,"- ") -> -0.1753
A5076: 43944 | B5076: 21.8217 | D5076: =IFERROR(B5076-B5075,"- ") -> 0.0534
A5077: 43945 | B5077: 22.1009 | D5077: =IFERROR(B5077-B5076,"- ") -> 0.2792
A5078: 43948 | B5078: 21.919 | D5078: =IFERROR(B5078-B5077,"- ") -> -0.1819
A5079: 43949 | B5079: 22.1007 | D5079: =IFERROR(B5079-B5078,"- ") -> 0.1817
A5080: 43950 | B5080: 22.1163 | D5080: =IFERROR(B5080-B5079,"- ") -> 0.0156
... A5261: 44216 | B5261: 29.7463 | D5261: =IFERROR(B5261-B5260,"- ") -> 0.7387
A5262: 44217 | B5262: 29.5337 | D5262: =IFERROR(B5262-B5261," ") -> -0.2126
A5263: 44218 | B5263: 29.4145 | D5263: =IFERROR(B5263-B5262," ") -> -0.1192
A5264: 44221 | B5264: 29.6436 | D5264: =IFERROR(B5264-B5263," ") -> 0.2291
A5265: 44222 | B5265: 29.2186 | D5265: =IFERROR(B5265-B5264," ") -> -0.425
A5266: 44223 | B5266: 29.2479 | D5266: =IFERROR(B5266-B5265," ") -> 0.0293
A5267: 44224 | B5267: 29.1382 | D5267: =IFERROR(B5267-B5266," ") -> -0.1097
A5268: 44225 | B5268: 29.374 | D5268: =IFERROR(B5268-B5267," ") -> 0.2358
A5269: 44228 | B5269: 29.3112 | D5269: =IFERROR(B5269-B5268," ") -> -0.0628
A5270: 44229 | B5270: 29.0487 | D5270: =IFERROR(B5270-B5269," ") -> -0.2625
A5271: 44230 | B5271: 28.7362 | D5271: =IFERROR(B5271-B5270," ") -> -0.3125
A5272: 44231 | B5272: 29.0263 | D5272: =IFERROR(B5272-B5271," ") -> 0.2901
A5273: 44232 | B5273: 29.3471 | D5273: =IFERROR(B5273-B5272," ") -> 0.3208
... A5319: 44300 | B5319: 22.3388 | D5319: =IFERROR(B5319-B5318," ") -> -1.6355
A5320: =IFERROR(USD!A5320,"") -> 44301 | B5320: 22.1424 | D5320: =IFERROR(B5320-B5319," ") -> -0.1964
A5321: =IFERROR(USD!A5321,"") -> 44302 | B5321: 22.3646 | D5321: =IFERROR(B5321-B5320," ") -> 0.2222
A5322: 44305 | B5322: 22.0065 | D5322: =IFERROR(B5322-B5321," ") -> -0.3581
A5323: 44306 | B5323: 22.3008 | D5323: =IFERROR(B5323-B5322," ") -> 0.2943
A5324: 44307 | B5324: 21.9798 | D5324: =IFERROR(B5324-B5323," ") -> -0.321
A5325: 44308 | B5325: 22.0463 | D5325: =IFERROR(B5325-B5324," ") -> 0.0665
A5326: 44309 | B5326: 19.6408 | D5326: =IFERROR(B5326-B5325," ") -> -2.4055
A5327: 44312 | B5327: 20.6083 | D5327: =IFERROR(B5327-B5326," ") -> 0.9675
A5328: 44313 | B5328: 20.4081 | D5328: =IFERROR(B5328-B5327," ") -> -0.2002
A5329: 44314 | B5329: 20.3963 | D5329: =IFERROR(B5329-B5328," ") -> -0.0118
A5330: 44315 | B5330: 20.5785 | D5330: =IFERROR(B5330-B5329," ") -> 0.1822
A5331: 44316 | B5331: 20.6248 | D5331: =IFERROR(B5331-B5330," ") -> 0.0463
A5332: 44319 | B5332: 20.4095 | D5332: =IFERROR(B5332-B5331," ") -> -0.2153
A5333: 44320 | B5333: 20.5095 | D5333: =IFERROR(B5333-B5332," ") -> 0.1
... A5921: 45177 | B5921: 17.41362 | D5921: =IFERROR(B5921-B5920," ") -> 0.036478819
A5922: =WORKDAY(A5921,1) -> 45180 | B5922: 17.42211 | D5922: =IFERROR(B5922-B5921," ") -> 0.008489284
A5923: =WORKDAY(A5922,1) -> 45181 | B5923: 17.451887 | D5923: =IFERROR(B5923-B5922," ") -> 0.029777227
A5924: =WORKDAY(A5923,1) -> 45182 | B5924: 17.523475 | D5924: =IFERROR(B5924-B5923," ") -> 0.071587776
A5925: =WORKDAY(A5924,1) -> 45183 | B5925: 17.528076 | D5925: =IFERROR(B5925-B5924," ") -> 0.0046018276
A5926: =WORKDAY(A5925,1) -> 45184 | B5926: 17.322816 | D5926: =IFERROR(B5926-B5925," ") -> -0.20525999
A5927: =WORKDAY(A5926,1) -> 45187 | B5927: 17.338989 | D5927: =IFERROR(B5927-B5926," ") -> 0.016172828
A5928: =WORKDAY(A5927,1) -> 45188 | B5928: 17.315867 | D5928: =IFERROR(B5928-B5927," ") -> -0.023122733
A5929: =WORKDAY(A5928,1) -> 45189 | B5929: 17.366184 | D5929: =IFERROR(B5929-B5928," ") -> 0.050317725
A5930: =WORKDAY(A5929,1) -> 45190 | B5930: 17.359068 | D5930: =IFERROR(B5930-B5929," ") -> -0.0071158682
A5931: =WORKDAY(A5930,1) -> 45191 | B5931: 17.189712 | D5931: =IFERROR(B5931-B5930," ") -> -0.16935611
A5932: =WORKDAY(A5931,1) -> 45194 | B5932: 17.546411 | D5932: =IFERROR(B5932-B5931," ") -> 0.35669914
A5933: =WORKDAY(A5932,1) -> 45195 | B5933: 17.075324 | D5933: =IFERROR(B5933-B5932," ") -> -0.47108769
... A5958: =WORKDAY(A5957,1) -> 45230 | B5958: 17.477533 | D5958: =IFERROR(B5958-B5957," ") -> 0.031200953
A5959: =WORKDAY(A5958,2) -> 45232 | B5959: 17.478177 | D5959: =IFERROR(B5959-B5958," ") -> 0.0006439844
A5960: =WORKDAY(A5959,1) -> 45233 | B5960: 17.49734 | D5960: =IFERROR(B5960-B5959," ") -> 0.01916321
A5961: =WORKDAY(A5960,1) -> 45236 | B5961: 17.780853 | D5961: =IFERROR(B5961-B5960," ") -> 0.2835126
A5962: =WORKDAY(A5961,1) -> 45237 | B5962: 18.118111 | D5962: =IFERROR(B5962-B5961," ") -> 0.33725776
A5963: =WORKDAY(A5962,1) -> 45238 | B5963: 17.794018 | D5963: =IFERROR(B5963-B5962," ") -> -0.32409235
A5964: =WORKDAY(A5963,1) -> 45239 | B5964: 17.562186 | D5964: =IFERROR(B5964-B5963," ") -> -0.23183255
A5965: =WORKDAY(A5964,1) -> 45240 | B5965: 17.566333 | D5965: =IFERROR(B5965-B5964," ") -> 0.004146961
A5966: =WORKDAY(A5965,1) -> 45243 | B5966: 17.615619 | D5966: =IFERROR(B5966-B5965," ") -> 0.049286849
A5967: =WORKDAY(A5966,1) -> 45244 | B5967: 17.956711 | D5967: =IFERROR(B5967-B5966," ") -> 0.34109159
A5968: =WORKDAY(A5967,1) -> 45245 | B5968: 17.876878 | D5968: =IFERROR(B5968-B5967," ") -> -0.079832719
A5969: =WORKDAY(A5968,1) -> 45246 | B5969: 17.880299 | D5969: =IFERROR(B5969-B5968," ") -> 0.0034210715
A5970: =WORKDAY(A5969,1) -> 45247 | B5970: 17.78517 | D5970: =IFERROR(B5970-B5969," ") -> -0.095129156
A5971: =WORKDAY(A5970,1) -> 45250 | B5971: 17.888087 | D5971: =IFERROR(B5971-B5970," ") -> 0.10291639
... A5983: =WORKDAY(A5982,1) -> 45266 | B5983: 17.996089 | D5983: =IFERROR(B5983-B5982," ") -> -0.059902027
A5984: =WORKDAY(A5983,3) -> 45271 | B5984: 17.845948 | D5984: =IFERROR(B5984-B5983," ") -> -0.15014029
A5985: =WORKDAY(A5984,1) -> 45272 | B5985: 17.848839 | D5985: =IFERROR(B5985-B5984," ") -> 0.0028906457
...

Sheet AVG
C1: 2000 | D1: 2001 | E1: 2002 | F1: 2003 | G1: 2004 | H1: 2005 | I1: 2006 | J1: 2007 | K1: 2008 | L1: 2009 | M1: 2010 | N1: 2011 | O1: 2012 | P1: 2013 | Q1: 2014 | R1: 2015 | S1: 2016 | T1: 2017 | U1: 2018 | V1: 2019 | W1: 2020 | X1: 2021
A3: 1 | B3: Jan | C3: {=IFERROR(ROUND(AVERAGE(IF((MONTH(USD!$A$4:$A$15000)=$A3)*(YEAR(USD!$A$4:$A$15000)=C$1),USD!$B$4:$B$15000)),4),"-")} -> 5.3434 | D3: {=IFERROR(ROUND(AVERAGE(IF((MONTH(USD!$A$4:$A$15000)=$A3)*(YEAR(USD!$A$4:$A$15000)=D$1),USD!$B$4:$B$15000)),4),"-")} -> 6.3772 | E3: {=IFERROR(ROUND(AVERAGE(IF((MONTH(USD!$A$4:$A$15000)=$A3)*(YEAR(USD!$A$4:$A$15000)=E$1),USD!$B$4:$B$15000)),4),"-")} -> 5.7458 | F3: {=IFERROR(ROUND(AVERAGE(IF((MONTH(USD!$A$4:$A$15000)=$A3)*(YEAR(USD!$A$4:$A$15000)=F$1),USD!$B$4:$B$15000)),4),"-")} -> 5.0136 | G3: {=IFERROR(ROUND(AVERAGE(IF((MONTH(USD!$A$4:$A$15000)=$A3)*(YEAR(USD!$A$4:$A$15000)=G$1),USD!$B$4:$B$15000)),4),"-")} -> 5.5 | H3: {=IFERROR(ROUND(AVERAGE(IF((MONTH(USD!$A$4:$A$15000)=$A3)*(YEAR(USD!$A$4:$A$15000)=H$1),USD!$B$4:$B$15000)),4),"-")} -> 5.5 | I3: {=IFERROR(ROUND(AVERAGE(IF((MONTH(USD!$A$4:$A$15000)=$A3)*(YEAR(USD!$A$4:$A$15000)=I$1),USD!$B$4:$B$15000)),4),"-")} -> 5.5 | J3: {=IFERROR(ROUND(AVERAGE(IF((MONTH(USD!$A$4:$A$15000)=$A3)*(YEAR(USD!$A$4:$A$15000)=J$1),USD!$B$4:$B$15000)),4),"-")} -> 5.9436 | ... X3: {=IFERROR(ROUND(AVERAGE(IF((MONTH(USD!$A$4:$A$15000)=$A3)*(YEAR(USD!$A$4:$A$15000)=X$1),USD!$B$4:$B$15000)),4),"-")} -> 21.6005
A4: 2 | B4: Feb | C4: {=IFERROR(ROUND(AVERAGE(IF((MONTH(USD!$A$4:$A$15000)=$A4)*(YEAR(USD!$A$4:$A$15000)=C$1),USD!$B$4:$B$15000)),4),"-")} -> 5.4556 | D4: {=IFERROR(ROUND(AVERAGE(IF((MONTH(USD!$A$4:$A$15000)=$A4)*(YEAR(USD!$A$4:$A$15000)=D$1),USD!$B$4:$B$15000)),4),"-")} -> 6.4499 | E4: {=IFERROR(ROUND(AVERAGE(IF((MONTH(USD!$A$4:$A$15000)=$A4)*(YEAR(USD!$A$4:$A$15000)=E$1),USD!$B$4:$B$15000)),4),"-")} -> 5.7829 | F4: {=IFERROR(ROUND(AVERAGE(IF((MONTH(USD!$A$4:$A$15000)=$A4)*(YEAR(USD!$A$4:$A$15000)=F$1),USD!$B$4:$B$15000)),4),"-")} -> 5.0096 | G4: {=IFERROR(ROUND(AVERAGE(IF((MONTH(USD!$A$4:$A$15000)=$A4)*(YEAR(USD!$A$4:$A$15000)=G$1),USD!$B$4:$B$15000)),4),"-")} -> 5.5 | H4: {=IFERROR(ROUND(AVERAGE(IF((MONTH(USD!$A$4:$A$15000)=$A4)*(YEAR(USD!$A$4:$A$15000)=H$1),USD!$B$4:$B$15000)),4),"-")} -> 5.5 | I4: {=IFERROR(ROUND(AVERAGE(IF((MONTH(USD!$A$4:$A$15000)=$A4)*(YEAR(USD!$A$4:$A$15000)=I$1),USD!$B$4:$B$15000)),4),"-")} -> 5.5 | J4: {=IFERROR(ROUND(AVERAGE(IF((MONTH(USD!$A$4:$A$15000)=$A4)*(YEAR(USD!$A$4:$A$15000)=J$1),USD!$B$4:$B$15000)),4),"-")} -> 6.0704 | ... X4: {=IFERROR(ROUND(AVERAGE(IF((MONTH(USD!$A$4:$A$15000)=$A4)*(YEAR(USD!$A$4:$A$15000)=X$1),USD!$B$4:$B$15000)),4),"-")} -> 21.5048
A5: 3 | B5: Mar | C5: {=IFERROR(ROUND(AVERAGE(IF((MONTH(USD!$A$4:$A$15000)=$A5)*(YEAR(USD!$A$4:$A$15000)=C$1),USD!$B$4:$B$15000)),4),"-")} -> 5.5113 | D5: {=IFERROR(ROUND(AVERAGE(IF((MONTH(USD!$A$4:$A$15000)=$A5)*(YEAR(USD!$A$4:$A$15000)=D$1),USD!$B$4:$B$15000)),4),"-")} -> 6.4465 | E5: {=IFERROR(ROUND(AVERAGE(IF((MONTH(USD!$A$4:$A$15000)=$A5)*(YEAR(USD!$A$4:$A$15000)=E$1),USD!$B$4:$B$15000)),4),"-")} -> 5.7652 | F5: {=IFERROR(ROUND(AVERAGE(IF((MONTH(USD!$A$4:$A$15000)=$A5)*(YEAR(USD!$A$4:$A$15000)=F$1),USD!$B$4:$B$15000)),4),"-")} -> 5.1845 | G5: {=IFERROR(ROUND(AVERAGE(IF((MONTH(USD!$A$4:$A$15000)=$A5)*(YEAR(USD!$A$4:$A$15000)=G$1),USD!$B$4:$B$15000)),4),"-")} -> 5.5 | H5: {=IFERROR(ROUND(AVERAGE(IF((MONTH(USD!$A$4:$A$15000)=$A5)*(YEAR(USD!$A$4:$A$15000)=H$1),USD!$B$4:$B$15000)),4),"-")} -> 5.5 | I5: {=IFERROR(ROUND(AVERAGE(IF((MONTH(USD!$A$4:$A$15000)=$A5)*(YEAR(USD!$A$4:$A$15000)=I$1),USD!$B$4:$B$15000)),4),"-")} -> 5.5 | J5: {=IFERROR(ROUND(AVERAGE(IF((MONTH(USD!$A$4:$A$15000)=$A5)*(YEAR(USD!$A$4:$A$15000)=J$1),USD!$B$4:$B$15000)),4),"-")} -> 6.0905 | ... X5: {=IFERROR(ROUND(AVERAGE(IF((MONTH(USD!$A$4:$A$15000)=$A5)*(YEAR(USD!$A$4:$A$15000)=X$1),USD!$B$4:$B$15000)),4),"-")} -> 21.4043
A6: 4 | B6: Apr | C6: {=IFERROR(ROUND(AVERAGE(IF((MONTH(USD!$A$4:$A$15000)=$A6)*(YEAR(USD!$A$4:$A$15000)=C$1),USD!$B$4:$B$15000)),4),"-")} -> 5.5459 | D6: {=IFERROR(ROUND(AVERAGE(IF((MONTH(USD!$A$4:$A$15000)=$A6)*(YEAR(USD!$A$4:$A$15000)=D$1),USD!$B$4:$B$15000)),4),"-")} -> 6.0435 | E6: {=IFERROR(ROUND(AVERAGE(IF((MONTH(USD!$A$4:$A$15000)=$A6)*(YEAR(USD!$A$4:$A$15000)=E$1),USD!$B$4:$B$15000)),4),"-")} -> 5.7188 | F6: {=IFERROR(ROUND(AVERAGE(IF((MONTH(USD!$A$4:$A$15000)=$A6)*(YEAR(USD!$A$4:$A$15000)=F$1),USD!$B$4:$B$15000)),4),"-")} -> 5.4037 | G6: {=IFERROR(ROUND(AVERAGE(IF((MONTH(USD!$A$4:$A$15000)=$A6)*(YEAR(USD!$A$4:$A$15000)=G$1),USD!$B$4:$B$15000)),4),"-")} -> 5.5 | H6: {=IFERROR(ROUND(AVERAGE(IF((MONTH(USD!$A$4:$A$15000)=$A6)*(YEAR(USD!$A$4:$A$15000)=H$1),USD!$B$4:$B$15000)),4),"-")} -> 5.5 | I6: {=IFERROR(ROUND(AVERAGE(IF((MONTH(USD!$A$4:$A$15000)=$A6)*(YEAR(USD!$A$4:$A$15000)=I$1),USD!$B$4:$B$15000)),4),"-")} -> 5.5 | J6: {=IFERROR(ROUND(AVERAGE(IF((MONTH(USD!$A$4:$A$15000)=$A6)*(YEAR(USD!$A$4:$A$15000)=J$1),USD!$B$4:$B$15000)),4),"-")} -> 6.1045 | ... X6: {=IFERROR(ROUND(AVERAGE(IF((MONTH(USD!$A$4:$A$15000)=$A6)*(YEAR(USD!$A$4:$A$15000)=X$1),USD!$B$4:$B$15000)),4),"-")} -> 16.959
A7: 5 | B7: May | C7: {=IFERROR(ROUND(AVERAGE(IF((MONTH(USD!$A$4:$A$15000)=$A7)*(YEAR(USD!$A$4:$A$15000)=C$1),USD!$B$4:$B$15000)),4),"-")} -> 5.7249 | D7: {=IFERROR(ROUND(AVERAGE(IF((MONTH(USD!$A$4:$A$15000)=$A7)*(YEAR(USD!$A$4:$A$15000)=D$1),USD!$B$4:$B$15000)),4),"-")} -> 5.7539 | E7: {=IFERROR(ROUND(AVERAGE(IF((MONTH(USD!$A$4:$A$15000)=$A7)*(YEAR(USD!$A$4:$A$15000)=E$1),USD!$B$4:$B$15000)),4),"-")} -> 5.5828 | F7: {=IFERROR(ROUND(AVERAGE(IF((MONTH(USD!$A$4:$A$15000)=$A7)*(YEAR(USD!$A$4:$A$15000)=F$1),USD!$B$4:$B$15000)),4),"-")} -> 5.4718 | G7: {=IFERROR(ROUND(AVERAGE(IF((MONTH(USD!$A$4:$A$15000)=$A7)*(YEAR(USD!$A$4:$A$15000)=G$1),USD!$B$4:$B$15000)),4),"-")} -> 5.5 | H7: {=IFERROR(ROUND(AVERAGE(IF((MONTH(USD!$A$4:$A$15000)=$A7)*(YEAR(USD!$A$4:$A$15000)=H$1),USD!$B$4:$B$15000)),4),"-")} -> 5.5 | I7: {=IFERROR(ROUND(AVERAGE(IF((MONTH(USD!$A$4:$A$15000)=$A7)*(YEAR(USD!$A$4:$A$15000)=I$1),USD!$B$4:$B$15000)),4),"-")} -> 5.5 | J7: {=IFERROR(ROUND(AVERAGE(IF((MONTH(USD!$A$4:$A$15000)=$A7)*(YEAR(USD!$A$4:$A$15000)=J$1),USD!$B$4:$B$15000)),4),"-")} -> 6.1087 | ... X7: {=IFERROR(ROUND(AVERAGE(IF((MONTH(USD!$A$4:$A$15000)=$A7)*(YEAR(USD!$A$4:$A$15000)=X$1),USD!$B$4:$B$15000)),4),"-")} -> 16.052
A8: 6 | B8: Jun | C8: {=IFERROR(ROUND(AVERAGE(IF((MONTH(USD!$A$4:$A$15000)=$A8)*(YEAR(USD!$A$4:$A$15000)=C$1),USD!$B$4:$B$15000)),4),"-")} -> 5.6282 | D8: {=IFERROR(ROUND(AVERAGE(IF((MONTH(USD!$A$4:$A$15000)=$A8)*(YEAR(USD!$A$4:$A$15000)=D$1),USD!$B$4:$B$15000)),4),"-")} -> 5.6542 | E8: {=IFERROR(ROUND(AVERAGE(IF((MONTH(USD!$A$4:$A$15000)=$A8)*(YEAR(USD!$A$4:$A$15000)=E$1),USD!$B$4:$B$15000)),4),"-")} -> 5.4585 | F8: {=IFERROR(ROUND(AVERAGE(IF((MONTH(USD!$A$4:$A$15000)=$A8)*(YEAR(USD!$A$4:$A$15000)=F$1),USD!$B$4:$B$15000)),4),"-")} -> 5.5518 | G8: {=IFERROR(ROUND(AVERAGE(IF((MONTH(USD!$A$4:$A$15000)=$A8)*(YEAR(USD!$A$4:$A$15000)=G$1),USD!$B$4:$B$15000)),4),"-")} -> 5.5 | H8: {=IFERROR(ROUND(AVERAGE(IF((MONTH(USD!$A$4:$A$15000)=$A8)*(YEAR(USD!$A$4:$A$15000)=H$1),USD!$B$4:$B$15000)),4),"-")} -> 5.5 | I8: {=IFERROR(ROUND(AVERAGE(IF((MONTH(USD!$A$4:$A$15000)=$A8)*(YEAR(USD!$A$4:$A$15000)=I$1),USD!$B$4:$B$15000)),4),"-")} -> 5.5 | J8: {=IFERROR(ROUND(AVERAGE(IF((MONTH(USD!$A$4:$A$15000)=$A8)*(YEAR(USD!$A$4:$A$15000)=J$1),USD!$B$4:$B$15000)),4),"-")} -> 6.2473 | ... X8: {=IFERROR(ROUND(AVERAGE(IF((MONTH(USD!$A$4:$A$15000)=$A8)*(YEAR(USD!$A$4:$A$15000)=X$1),USD!$B$4:$B$15000)),4),"-")} -> 16.4688
A9: 7 | B9: Jul | C9: {=IFERROR(ROUND(AVERAGE(IF((MONTH(USD!$A$4:$A$15000)=$A9)*(YEAR(USD!$A$4:$A$15000)=C$1),USD!$B$4:$B$15000)),4),"-")} -> 5.6462 | D9: {=IFERROR(ROUND(AVERAGE(IF((MONTH(USD!$A$4:$A$15000)=$A9)*(YEAR(USD!$A$4:$A$15000)=D$1),USD!$B$4:$B$15000)),4),"-")} -> 5.6394 | E9: {=IFERROR(ROUND(AVERAGE(IF((MONTH(USD!$A$4:$A$15000)=$A9)*(YEAR(USD!$A$4:$A$15000)=E$1),USD!$B$4:$B$15000)),4),"-")} -> 5.3009 | F9: {=IFERROR(ROUND(AVERAGE(IF((MONTH(USD!$A$4:$A$15000)=$A9)*(YEAR(USD!$A$4:$A$15000)=F$1),USD!$B$4:$B$15000)),4),"-")} -> 5.5374 | G9: {=IFERROR(ROUND(AVERAGE(IF((MONTH(USD!$A$4:$A$15000)=$A9)*(YEAR(USD!$A$4:$A$15000)=G$1),USD!$B$4:$B$15000)),4),"-")} -> 5.5 | H9: {=IFERROR(ROUND(AVERAGE(IF((MONTH(USD!$A$4:$A$15000)=$A9)*(YEAR(USD!$A$4:$A$15000)=H$1),USD!$B$4:$B$15000)),4),"-")} -> 5.5 | I9: {=IFERROR(ROUND(AVERAGE(IF((MONTH(USD!$A$4:$A$15000)=$A9)*(YEAR(USD!$A$4:$A$15000)=I$1),USD!$B$4:$B$15000)),4),"-")} -> 5.5 | J9: {=IFERROR(ROUND(AVERAGE(IF((MONTH(USD!$A$4:$A$15000)=$A9)*(YEAR(USD!$A$4:$A$15000)=J$1),USD!$B$4:$B$15000)),4),"-")} -> 6.3691 | ... X9: {=IFERROR(ROUND(AVERAGE(IF((MONTH(USD!$A$4:$A$15000)=$A9)*(YEAR(USD!$A$4:$A$15000)=X$1),USD!$B$4:$B$15000)),4),"-")} -> 15.818
A10: 8 | B10: Aug | C10: {=IFERROR(ROUND(AVERAGE(IF((MONTH(USD!$A$4:$A$15000)=$A10)*(YEAR(USD!$A$4:$A$15000)=C$1),USD!$B$4:$B$15000)),4),"-")} -> 5.7191 | D10: {=IFERROR(ROUND(AVERAGE(IF((MONTH(USD!$A$4:$A$15000)=$A10)*(YEAR(USD!$A$4:$A$15000)=D$1),USD!$B$4:$B$15000)),4),"-")} -> 5.5177 | E10: {=IFERROR(ROUND(AVERAGE(IF((MONTH(USD!$A$4:$A$15000)=$A10)*(YEAR(USD!$A$4:$A$15000)=E$1),USD!$B$4:$B$15000)),4),"-")} -> 5.3716 | F10: {=IFERROR(ROUND(AVERAGE(IF((MONTH(USD!$A$4:$A$15000)=$A10)*(YEAR(USD!$A$4:$A$15000)=F$1),USD!$B$4:$B$15000)),4),"-")} -> 5.5774 | G10: {=IFERROR(ROUND(AVERAGE(IF((MONTH(USD!$A$4:$A$15000)=$A10)*(YEAR(USD!$A$4:$A$15000)=G$1),USD!$B$4:$B$15000)),4),"-")} -> 5.5 | H10: {=IFERROR(ROUND(AVERAGE(IF((MONTH(USD!$A$4:$A$15000)=$A10)*(YEAR(USD!$A$4:$A$15000)=H$1),USD!$B$4:$B$15000)),4),"-")} -> 5.5 | I10: {=IFERROR(ROUND(AVERAGE(IF((MONTH(USD!$A$4:$A$15000)=$A10)*(YEAR(USD!$A$4:$A$15000)=I$1),USD!$B$4:$B$15000)),4),"-")} -> 5.5 | J10: {=IFERROR(ROUND(AVERAGE(IF((MONTH(USD!$A$4:$A$15000)=$A10)*(YEAR(USD!$A$4:$A$15000)=J$1),USD!$B$4:$B$15000)),4),"-")} -> 6.6547 | ... X10: {=IFERROR(ROUND(AVERAGE(IF((MONTH(USD!$A$4:$A$15000)=$A10)*(YEAR(USD!$A$4:$A$15000)=X$1),USD!$B$4:$B$15000)),4),"-")} -> 14.8506
A11: 9 | B11: Sep | C11: {=IFERROR(ROUND(AVERAGE(IF((MONTH(USD!$A$4:$A$15000)=$A11)*(YEAR(USD!$A$4:$A$15000)=C$1),USD!$B$4:$B$15000)),4),"-")} -> 5.8394 | D11: {=IFERROR(ROUND(AVERAGE(IF((MONTH(USD!$A$4:$A$15000)=$A11)*(YEAR(USD!$A$4:$A$15000)=D$1),USD!$B$4:$B$15000)),4),"-")} -> 5.4918 | E11: {=IFERROR(ROUND(AVERAGE(IF((MONTH(USD!$A$4:$A$15000)=$A11)*(YEAR(USD!$A$4:$A$15000)=E$1),USD!$B$4:$B$15000)),4),"-")} -> 5.3595 | F11: {=IFERROR(ROUND(AVERAGE(IF((MONTH(USD!$A$4:$A$15000)=$A11)*(YEAR(USD!$A$4:$A$15000)=F$1),USD!$B$4:$B$15000)),4),"-")} -> 5.5588 | G11: {=IFERROR(ROUND(AVERAGE(IF((MONTH(USD!$A$4:$A$15000)=$A11)*(YEAR(USD!$A$4:$A$15000)=G$1),USD!$B$4:$B$15000)),4),"-")} -> 5.5 | H11: {=IFERROR(ROUND(AVERAGE(IF((MONTH(USD!$A$4:$A$15000)=$A11)*(YEAR(USD!$A$4:$A$15000)=H$1),USD!$B$4:$B$15000)),4),"-")} -> 5.5 | I11: {=IFERROR(ROUND(AVERAGE(IF((MONTH(USD!$A$4:$A$15000)=$A11)*(YEAR(USD!$A$4:$A$15000)=I$1),USD!$B$4:$B$15000)),4),"-")} -> 5.5 | J11: {=IFERROR(ROUND(AVERAGE(IF((MONTH(USD!$A$4:$A$15000)=$A11)*(YEAR(USD!$A$4:$A$15000)=J$1),USD!$B$4:$B$15000)),4),"-")} -> 6.9473 | ... X11: {=IFERROR(ROUND(AVERAGE(IF((MONTH(USD!$A$4:$A$15000)=$A11)*(YEAR(USD!$A$4:$A$15000)=X$1),USD!$B$4:$B$15000)),4),"-")} -> 14.317
A12: 10 | B12: Oct | C12: {=IFERROR(ROUND(AVERAGE(IF((MONTH(USD!$A$4:$A$15000)=$A12)*(YEAR(USD!$A$4:$A$15000)=C$1),USD!$B$4:$B$15000)),4),"-")} -> 5.8942 | D12: {=IFERROR(ROUND(AVERAGE(IF((MONTH(USD!$A$4:$A$15000)=$A12)*(YEAR(USD!$A$4:$A$15000)=D$1),USD!$B$4:$B$15000)),4),"-")} -> 5.5603 | E12: {=IFERROR(ROUND(AVERAGE(IF((MONTH(USD!$A$4:$A$15000)=$A12)*(YEAR(USD!$A$4:$A$15000)=E$1),USD!$B$4:$B$15000)),4),"-")} -> 5.3544 | F12: {=IFERROR(ROUND(AVERAGE(IF((MONTH(USD!$A$4:$A$15000)=$A12)*(YEAR(USD!$A$4:$A$15000)=F$1),USD!$B$4:$B$15000)),4),"-")} -> 5.5 | G12: {=IFERROR(ROUND(AVERAGE(IF((MONTH(USD!$A$4:$A$15000)=$A12)*(YEAR(USD!$A$4:$A$15000)=G$1),USD!$B$4:$B$15000)),4),"-")} -> 5.5 | H12: {=IFERROR(ROUND(AVERAGE(IF((MONTH(USD!$A$4:$A$15000)=$A12)*(YEAR(USD!$A$4:$A$15000)=H$1),USD!$B$4:$B$15000)),4),"-")} -> 5.5 | I12: {=IFERROR(ROUND(AVERAGE(IF((MONTH(USD!$A$4:$A$15000)=$A12)*(YEAR(USD!$A$4:$A$15000)=I$1),USD!$B$4:$B$15000)),4),"-")} -> 5.5244 | J12: {=IFERROR(ROUND(AVERAGE(IF((MONTH(USD!$A$4:$A$15000)=$A12)*(YEAR(USD!$A$4:$A$15000)=J$1),USD!$B$4:$B$15000)),4),"-")} -> 7.8856 | ... X12: {=IFERROR(ROUND(AVERAGE(IF((MONTH(USD!$A$4:$A$15000)=$A12)*(YEAR(USD!$A$4:$A$15000)=X$1),USD!$B$4:$B$15000)),4),"-")} -> 14.6706
A13: 11 | B13: Nov | C13: {=IFERROR(ROUND(AVERAGE(IF((MONTH(USD!$A$4:$A$15000)=$A13)*(YEAR(USD!$A$4:$A$15000)=C$1),USD!$B$4:$B$15000)),4),"-")} -> 6.0397 | D13: {=IFERROR(ROUND(AVERAGE(IF((MONTH(USD!$A$4:$A$15000)=$A13)*(YEAR(USD!$A$4:$A$15000)=D$1),USD!$B$4:$B$15000)),4),"-")} -> 5.6417 | E13: {=IFERROR(ROUND(AVERAGE(IF((MONTH(USD!$A$4:$A$15000)=$A13)*(YEAR(USD!$A$4:$A$15000)=E$1),USD!$B$4:$B$15000)),4),"-")} -> 5.2542 | F13: {=IFERROR(ROUND(AVERAGE(IF((MONTH(USD!$A$4:$A$15000)=$A13)*(YEAR(USD!$A$4:$A$15000)=F$1),USD!$B$4:$B$15000)),4),"-")} -> 5.5 | G13: {=IFERROR(ROUND(AVERAGE(IF((MONTH(USD!$A$4:$A$15000)=$A13)*(YEAR(USD!$A$4:$A$15000)=G$1),USD!$B$4:$B$15000)),4),"-")} -> 5.5 | H13: {=IFERROR(ROUND(AVERAGE(IF((MONTH(USD!$A$4:$A$15000)=$A13)*(YEAR(USD!$A$4:$A$15000)=H$1),USD!$B$4:$B$15000)),4),"-")} -> 5.5 | I13: {=IFERROR(ROUND(AVERAGE(IF((MONTH(USD!$A$4:$A$15000)=$A13)*(YEAR(USD!$A$4:$A$15000)=I$1),USD!$B$4:$B$15000)),4),"-")} -> 5.5699 | J13: {=IFERROR(ROUND(AVERAGE(IF((MONTH(USD!$A$4:$A$15000)=$A13)*(YEAR(USD!$A$4:$A$15000)=J$1),USD!$B$4:$B$15000)),4),"-")} -> 7.992 | ... X13: {=IFERROR(ROUND(AVERAGE(IF((MONTH(USD!$A$4:$A$15000)=$A13)*(YEAR(USD!$A$4:$A$15000)=X$1),USD!$B$4:$B$15000)),4),"-")} -> 14.6893
A14: 12 | B14: Dec | C14: {=IFERROR(ROUND(AVERAGE(IF((MONTH(USD!$A$4:$A$15000)=$A14)*(YEAR(USD!$A$4:$A$15000)=C$1),USD!$B$4:$B$15000)),4),"-")} -> 6.2236 | D14: {=IFERROR(ROUND(AVERAGE(IF((MONTH(USD!$A$4:$A$15000)=$A14)*(YEAR(USD!$A$4:$A$15000)=D$1),USD!$B$4:$B$15000)),4),"-")} -> 5.7144 | E14: {=IFERROR(ROUND(AVERAGE(IF((MONTH(USD!$A$4:$A$15000)=$A14)*(YEAR(USD!$A$4:$A$15000)=E$1),USD!$B$4:$B$15000)),4),"-")} -> 5.1658 | F14: {=IFERROR(ROUND(AVERAGE(IF((MONTH(USD!$A$4:$A$15000)=$A14)*(YEAR(USD!$A$4:$A$15000)=F$1),USD!$B$4:$B$15000)),4),"-")} -> 5.5 | G14: {=IFERROR(ROUND(AVERAGE(IF((MONTH(USD!$A$4:$A$15000)=$A14)*(YEAR(USD!$A$4:$A$15000)=G$1),USD!$B$4:$B$15000)),4),"-")} -> 5.5 | H14: {=IFERROR(ROUND(AVERAGE(IF((MONTH(USD!$A$4:$A$15000)=$A14)*(YEAR(USD!$A$4:$A$15000)=H$1),USD!$B$4:$B$15000)),4),"-")} -> 5.5 | I14: {=IFERROR(ROUND(AVERAGE(IF((MONTH(USD!$A$4:$A$15000)=$A14)*(YEAR(USD!$A$4:$A$15000)=I$1),USD!$B$4:$B$15000)),4),"-")} -> 5.642 | J14: {=IFERROR(ROUND(AVERAGE(IF((MONTH(USD!$A$4:$A$15000)=$A14)*(YEAR(USD!$A$4:$A$15000)=J$1),USD!$B$4:$B$15000)),4),"-")} -> 7.999 | ... X14: {=IFERROR(ROUND(AVERAGE(IF((MONTH(USD!$A$4:$A$15000)=$A14)*(YEAR(USD!$A$4:$A$15000)=X$1),USD!$B$4:$B$15000)),4),"-")} -> 14.6978
A17: 1 | B17: Jan | C17: 5.343405 | D17: 6.3772 | E17: 5.7457857 | F17: 5.0136333 | G17: 5.5 | H17: 5.5 | I17: 5.5 | J17: 5.9436333 | K17: 7.9994952 | L17: 16.726637 | M17: 11.262623 | N17: 12.237444 | O17: 13.944984 | P17: 12.937974 | Q17: 12.0835 | R17: 14.0084 | S17: 13.1168 | T17: 13.5235 | U17: 13.8367 | V17: 14.0279 | W17: 14.0452 | X17: ='[1]US$'!$IT$5 -> 21.600485
A18: 2 | B18: Feb | C18: 5.4555619 | D18: 6.44992 | E18: 5.78294 | F18: 5.009585 | G18: 5.5 | H18: 5.5 | I18: 5.5 | J18: 6.07038 | K18: 7.9993619 | L18: 16.765983 | M18: 11.502998 | N18: 12.23735 | O18: 14.053044 | P18: 12.5471 | Q18: 12.1647 | R18: 13.8247 | S18: 13.1593 | T18: 13.5588 | U18: 13.8656 | V18: 14.0387 | W18: 14.0547 | X18: ='[1]US$'!$IU$5 -> 21.504785
A19: 3 | B19: Mar | C19: 5.5112522 | D19: 6.4464682 | E19: 5.76523 | F19: 5.1844619 | G19: 5.5 | H19: 5.5 | I19: 5.5 | J19: 6.0904818 | K19: 7.9859367 | L19: 16.516587 | M19: 11.634383 | N19: 12.190405 | O19: 14.056193 | P19: 11.756 | Q19: 12.1546 | R19: 13.5893 | S19: 13.264 | T19: 13.5817 | U19: 13.8634 | V19: 14.0202 | W19: 14.0727
A20: 4 | B20: Apr | C20: 5.5459211 | D20: 6.043545 | E20: 5.7188455 | F20: 5.4037048 | G20: 5.5 | H20: 5.5 | I20: 5.5 | J20: 6.104475 | K20: 7.9660539 | L20: 15.074972 | M20: 11.790692 | N20: 12.152655 | O20: 14.080688 | P20: 11.7056 | Q20: 12.1862 | R20: 13.4871 | S20: 13.3036 | T20: 13.6088 | U20: 13.8677 | V20: 14.0297 | W20: 16.7281
A21: 5 | B21: May | C21: 5.7249318 | D21: 5.75385 | E21: 5.582781 | F21: 5.4717905 | G21: 5.5 | H21: 5.5 | I21: 5.5 | J21: 6.1086864 | K21: 7.974875 | L21: 14.180581 | M21: 12.128147 | N21: 12.058746 | O21: 14.206419 | P21: 11.7791 | Q21: 12.1877 | R21: 13.3288 | S21: 13.3094 | T21: 13.607 | U21: 13.8736 | V21: 14.0084 | W21: 18.041975
A22: 6 | B22: Jun | C22: 5.6281778 | D22: 5.6542235 | E22: 5.4585 | F22: 5.5517941 | G22: 5.5 | H22: 5.5 | I22: 5.5 | J22: 6.2473312 | K22: 7.9749778 | L22: 13.748042 | M22: 12.412681 | N22: 12.049805 | O22: 14.418237 | P22: 11.8557 | Q22: 12.2443 | R22: 13.1283 | S22: 13.307 | T22: 13.6097 | U22: 13.8832 | V22: 14.0009 | W22: 18.074511
A23: 7 | B23: Jul | C23: 5.6461905 | D23: 5.6394318 | E23: 5.3008826 | F23: 5.5373783 | G23: 5.5 | H23: 5.5 | I23: 5.5 | J23: 6.3691455 | K23: 7.9650261 | L23: 13.487204 | M23: 12.444538 | N23: 12.164158 | O23: 14.524628 | P23: 11.9675 | Q23: 12.2617 | R23: 13.0421 | S23: 13.3206 | T23: 13.6572 | U23: 13.8874 | V23: 14.0094 | W23: 18.173226
A24: 8 | B24: Aug | C24: 5.7190773 | D24: 5.5177091 | E24: 5.3715571 | F24: 5.57739 | G24: 5.5 | H24: 5.5 | I24: 5.5 | J24: 6.6546909 | K24: 8.00098 | L24: 12.944028 | M24: 12.445367 | N24: 12.223131 | O24: 13.009341 | P24: 11.9855 | Q24: 12.6699 | R24: 13.0529 | S24: 13.3424 | T24: 13.687 | U24: 13.9198 | V24: 14.0299 | W24: 18.361805
A25: 9 | B25: Sep | C25: 5.8393857 | D25: 5.4918053 | E25: 5.359519 | F25: 5.5588045 | G25: 5.5 | H25: 5.5 | I25: 5.5 | J25: 6.947255 | K25: 8.0905773 | L25: 11.540072 | M25: 12.423093 | N25: 12.348988 | O25: 12.994764 | P25: 12.0095 | Q25: 13.0598 | R25: 13.061 | S25: 13.3816 | T25: 13.7049 | U25: 13.9406 | V25: 14.0657 | W25: 18.495414
A26: 10 | B26: Oct | C26: 5.8942409 | D26: 5.560313 | E26: 5.3544174 | F26: 5.5 | G26: 5.5 | H26: 5.5 | I26: 5.5243909 | J26: 7.8856348 | K26: 8.6067087 | L26: 10.334575 | M26: 12.294964 | N26: 12.60162 | O26: 13.054935 | P26: 12.0386 | Q26: 13.7813 | R26: 13.0237 | S26: 13.3998 | T26: 13.7106 | U26: 13.9702 | V26: 14.0616 | W26: ='[1]US$'!$IQ$5 -> 18.973824
A27: 11 | B27: Nov | C27: 6.0397238 | D27: 5.6417095 | E27: 5.254245 | F27: 5.5 | G27: 5.5 | H27: 5.5 | I27: 5.5699048 | J27: 7.991981 | K27: 16.180301 | L27: 10.822811 | M27: 12.237938 | N27: 12.868883 | O27: 13.069881 | P27: 12.0553 | Q27: 14.0737 | R27: 13.1078 | S27: 13.4358 | T27: 13.7453 | U27: 13.9951 | V27: 14.0615 | W27: ='[1]US$'!$IR$5 -> 20.84654
A28: 12 | B28: Dec | C28: 6.2235737 | D28: 5.71443 | E28: 5.1657789 | F28: 5.5 | G28: 5.5 | H28: 5.5 | I28: 5.6419737 | J28: 7.999035 | K28: 16.746919 | L28: 11.176858 | M28: 12.235623 | N28: 13.439198 | O28: 13.03526 | P28: 12.0619 | Q28: 14.0951 | R28: 13.1129 | S28: 13.4891 | T28: 13.7796 | U28: 14.03 | V28: 14.0451 | W28: ='[1]US$'!$IS$5 -> 21.530243
A31: 1 | B31: Jan | C31: =ROUND(C3-C17,4) -> 0 | D31: =ROUND(D3-D17,4) -> 0 | E31: =ROUND(E3-E17,4) -> 0 | F31: =ROUND(F3-F17,4) -> 0 | G31: =ROUND(G3-G17,4) -> 0 | H31: =ROUND(H3-H17,4) -> 0 | I31: =ROUND(I3-I17,4) -> 0 | J31: =ROUND(J3-J17,4) -> 0 | ... S31: =ROUND(S3-S17,4) -> 0 | T31: =IFERROR(ROUND(T3-T17,4),"-") -> 0 | U31: =IFERROR(ROUND(U3-U17,4),"-") -> 0 | V31: =IFERROR(ROUND(V3-V17,4),"-") -> 0 | W31: =IFERROR(ROUND(W3-W17,4),"-") -> 0 | X31: =IFERROR(ROUND(X3-X17,4),"-") -> 0
A32: 2 | B32: Feb | C32: =ROUND(C4-C18,4) -> 0 | D32: =ROUND(D4-D18,4) -> 0 | E32: =ROUND(E4-E18,4) -> 0 | F32: =ROUND(F4-F18,4) -> 0 | G32: =ROUND(G4-G18,4) -> 0 | H32: =ROUND(H4-H18,4) -> 0 | I32: =ROUND(I4-I18,4) -> 0 | J32: =ROUND(J4-J18,4) -> 0 | ... S32: =ROUND(S4-S18,4) -> 0 | T32: =IFERROR(ROUND(T4-T18,4),"-") -> 0 | U32: =IFERROR(ROUND(U4-U18,4),"-") -> 0 | V32: =IFERROR(ROUND(V4-V18,4),"-") -> 0 | W32: =IFERROR(ROUND(W4-W18,4),"-") -> 0 | X32: =IFERROR(ROUND(X4-X18,4),"-") -> 0
A33: 3 | B33: Mar | C33: =ROUND(C5-C19,4) -> 0 | D33: =ROUND(D5-D19,4) -> 0 | E33: =ROUND(E5-E19,4) -> 0 | F33: =ROUND(F5-F19,4) -> 0 | G33: =ROUND(G5-G19,4) -> 0 | H33: =ROUND(H5-H19,4) -> 0 | I33: =ROUND(I5-I19,4) -> 0 | J33: =ROUND(J5-J19,4) -> 0 | ... S33: =ROUND(S5-S19,4) -> 0 | T33: =IFERROR(ROUND(T5-T19,4),"-") -> 0 | U33: =IFERROR(ROUND(U5-U19,4),"-") -> 0 | V33: =IFERROR(ROUND(V5-V19,4),"-") -> 0 | W33: =IFERROR(ROUND(W5-W19,4),"-") -> 0 | X33: =IFERROR(ROUND(X5-X19,4),"-") -> 21.4043
A34: 4 | B34: Apr | C34: =ROUND(C6-C20,4) -> 0 | D34: =ROUND(D6-D20,4) -> 0 | E34: =ROUND(E6-E20,4) -> 0 | F34: =ROUND(F6-F20,4) -> 0 | G34: =ROUND(G6-G20,4) -> 0 | H34: =ROUND(H6-H20,4) -> 0 | I34: =ROUND(I6-I20,4) -> 0 | J34: =ROUND(J6-J20,4) -> 0 | ... S34: =ROUND(S6-S20,4) -> 0 | T34: =IFERROR(ROUND(T6-T20,4),"-") -> 0 | U34: =IFERROR(ROUND(U6-U20,4),"-") -> 0 | V34: =IFERROR(ROUND(V6-V20,4),"-") -> 0 | W34: =IFERROR(ROUND(W6-W20,4),"-") -> 0 | X34: =IFERROR(ROUND(X6-X20,4),"-") -> 16.959
A35: 5 | B35: May | C35: =ROUND(C7-C21,4) -> 0 | D35: =ROUND(D7-D21,4) -> 0 | E35: =ROUND(E7-E21,4) -> 0 | F35: =ROUND(F7-F21,4) -> 0 | G35: =ROUND(G7-G21,4) -> 0 | H35: =ROUND(H7-H21,4) -> 0 | I35: =ROUND(I7-I21,4) -> 0 | J35: =ROUND(J7-J21,4) -> 0 | ... S35: =ROUND(S7-S21,4) -> 0 | T35: =IFERROR(ROUND(T7-T21,4),"-") -> 0 | U35: =IFERROR(ROUND(U7-U21,4),"-") -> 0 | V35: =IFERROR(ROUND(V7-V21,4),"-") -> 0 | W35: =IFERROR(ROUND(W7-W21,4),"-") -> 0 | X35: =IFERROR(ROUND(X7-X21,4),"-") -> 16.052
A36: 6 | B36: Jun | C36: =ROUND(C8-C22,4) -> 0 | D36: =ROUND(D8-D22,4) -> 0 | E36: =ROUND(E8-E22,4) -> 0 | F36: =ROUND(F8-F22,4) -> 0 | G36: =ROUND(G8-G22,4) -> 0 | H36: =ROUND(H8-H22,4) -> 0 | I36: =ROUND(I8-I22,4) -> 0 | J36: =ROUND(J8-J22,4) -> 0 | ... S36: =ROUND(S8-S22,4) -> 0 | T36: =IFERROR(ROUND(T8-T22,4),"-") -> 0 | U36: =IFERROR(ROUND(U8-U22,4),"-") -> 0 | V36: =IFERROR(ROUND(V8-V22,4),"-") -> 0 | W36: =IFERROR(ROUND(W8-W22,4),"-") -> 0 | X36: =IFERROR(ROUND(X8-X22,4),"-") -> 16.4688
A37: 7 | B37: Jul | C37: =ROUND(C9-C23,4) -> 0 | D37: =ROUND(D9-D23,4) -> 0 | E37: =ROUND(E9-E23,4) -> 0 | F37: =ROUND(F9-F23,4) -> 0 | G37: =ROUND(G9-G23,4) -> 0 | H37: =ROUND(H9-H23,4) -> 0 | I37: =ROUND(I9-I23,4) -> 0 | J37: =ROUND(J9-J23,4) -> 0 | ... S37: =ROUND(S9-S23,4) -> 0 | T37: =IFERROR(ROUND(T9-T23,4),"-") -> 0 | U37: =IFERROR(ROUND(U9-U23,4),"-") -> 0 | V37: =IFERROR(ROUND(V9-V23,4),"-") -> 0 | W37: =IFERROR(ROUND(W9-W23,4),"-") -> 0 | X37: =IFERROR(ROUND(X9-X23,4),"-") -> 15.818
A38: 8 | B38: Aug | C38: =ROUND(C10-C24,4) -> 0 | D38: =ROUND(D10-D24,4) -> 0 | E38: =ROUND(E10-E24,4) -> 0 | F38: =ROUND(F10-F24,4) -> 0 | G38: =ROUND(G10-G24,4) -> 0 | H38: =ROUND(H10-H24,4) -> 0 | I38: =ROUND(I10-I24,4) -> 0 | J38: =ROUND(J10-J24,4) -> 0 | ... S38: =ROUND(S10-S24,4) -> 0 | T38: =IFERROR(ROUND(T10-T24,4),"-") -> 0 | U38: =IFERROR(ROUND(U10-U24,4),"-") -> 0 | V38: =IFERROR(ROUND(V10-V24,4),"-") -> 0 | W38: =IFERROR(ROUND(W10-W24,4),"-") -> 0 | X38: =IFERROR(ROUND(X10-X24,4),"-") -> 14.8506
A39: 9 | B39: Sep | C39: =ROUND(C11-C25,4) -> 0 | D39: =ROUND(D11-D25,4) -> 0 | E39: =ROUND(E11-E25,4) -> 0 | F39: =ROUND(F11-F25,4) -> 0 | G39: =ROUND(G11-G25,4) -> 0 | H39: =ROUND(H11-H25,4) -> 0 | I39: =ROUND(I11-I25,4) -> 0 | J39: =ROUND(J11-J25,4) -> 0 | ... S39: =ROUND(S11-S25,4) -> 0 | T39: =IFERROR(ROUND(T11-T25,4),"-") -> 0 | U39: =IFERROR(ROUND(U11-U25,4),"-") -> 0 | V39: =IFERROR(ROUND(V11-V25,4),"-") -> 0 | W39: =IFERROR(ROUND(W11-W25,4),"-") -> 0 | X39: =IFERROR(ROUND(X11-X25,4),"-") -> 14.317
A40: 10 | B40: Oct | C40: =ROUND(C12-C26,4) -> 0 | D40: =ROUND(D12-D26,4) -> 0 | E40: =ROUND(E12-E26,4) -> 0 | F40: =ROUND(F12-F26,4) -> 0 | G40: =ROUND(G12-G26,4) -> 0 | H40: =ROUND(H12-H26,4) -> 0 | I40: =ROUND(I12-I26,4) -> 0 | J40: =ROUND(J12-J26,4) -> 0 | ... S40: =ROUND(S12-S26,4) -> 0 | T40: =IFERROR(ROUND(T12-T26,4),"-") -> 0 | U40: =IFERROR(ROUND(U12-U26,4),"-") -> 0 | V40: =IFERROR(ROUND(V12-V26,4),"-") -> 0 | W40: =IFERROR(ROUND(W12-W26,4),"-") -> 0 | X40: =IFERROR(ROUND(X12-X26,4),"-") -> 14.6706
A41: 11 | B41: Nov | C41: =ROUND(C13-C27,4) -> 0 | D41: =ROUND(D13-D27,4) -> 0 | E41: =ROUND(E13-E27,4) -> 0 | F41: =ROUND(F13-F27,4) -> 0 | G41: =ROUND(G13-G27,4) -> 0 | H41: =ROUND(H13-H27,4) -> 0 | I41: =ROUND(I13-I27,4) -> 0 | J41: =ROUND(J13-J27,4) -> 0 | ... S41: =ROUND(S13-S27,4) -> 0 | T41: =IFERROR(ROUND(T13-T27,4),"-") -> 0 | U41: =IFERROR(ROUND(U13-U27,4),"-") -> 0 | V41: =IFERROR(ROUND(V13-V27,4),"-") -> 0 | W41: =IFERROR(ROUND(W13-W27,4),"-") -> 0 | X41: =IFERROR(ROUND(X13-X27,4),"-") -> 14.6893
A42: 12 | B42: Dec | C42: =ROUND(C14-C28,4) -> 0 | D42: =ROUND(D14-D28,4) -> 0 | E42: =ROUND(E14-E28,4) -> 0 | F42: =ROUND(F14-F28,4) -> 0 | G42: =ROUND(G14-G28,4) -> 0 | H42: =ROUND(H14-H28,4) -> 0 | I42: =ROUND(I14-I28,4) -> 0 | J42: =ROUND(J14-J28,4) -> 0 | ... S42: =ROUND(S14-S28,4) -> 0 | T42: =IFERROR(ROUND(T14-T28,4),"-") -> 0 | U42: =IFERROR(ROUND(U14-U28,4),"-") -> 0 | V42: =IFERROR(ROUND(V14-V28,4),"-") -> 0 | W42: =IFERROR(ROUND(W14-W28,4),"-") -> 0 | X42: =IFERROR(ROUND(X14-X28,4),"-") -> 14.6978
A45: 1 | B45: Jan | C45: {=IFERROR(ROUND(AVERAGE(IF((MONTH(EUR!$A$4:$A$15000)=$A45)*(YEAR(EUR!$A$4:$A$15000)=C$1),EUR!$B$4:$B$15000)),4),"-")} -> 5.4229 | D45: {=IFERROR(ROUND(AVERAGE(IF((MONTH(EUR!$A$4:$A$15000)=$A45)*(YEAR(EUR!$A$4:$A$15000)=D$1),EUR!$B$4:$B$15000)),4),"-")} -> 5.9843 | E45: {=IFERROR(ROUND(AVERAGE(IF((MONTH(EUR!$A$4:$A$15000)=$A45)*(YEAR(EUR!$A$4:$A$15000)=E$1),EUR!$B$4:$B$15000)),4),"-")} -> 5.0809 | F45: {=IFERROR(ROUND(AVERAGE(IF((MONTH(EUR!$A$4:$A$15000)=$A45)*(YEAR(EUR!$A$4:$A$15000)=F$1),EUR!$B$4:$B$15000)),4),"-")} -> 5.3232 | G45: {=IFERROR(ROUND(AVERAGE(IF((MONTH(EUR!$A$4:$A$15000)=$A45)*(YEAR(EUR!$A$4:$A$15000)=G$1),EUR!$B$4:$B$15000)),4),"-")} -> 6.9495 | H45: {=IFERROR(ROUND(AVERAGE(IF((MONTH(EUR!$A$4:$A$15000)=$A45)*(YEAR(EUR!$A$4:$A$15000)=H$1),EUR!$B$4:$B$15000)),4),"-")} -> 7.2191 | I45: {=IFERROR(ROUND(AVERAGE(IF((MONTH(EUR!$A$4:$A$15000)=$A45)*(YEAR(EUR!$A$4:$A$15000)=I$1),EUR!$B$4:$B$15000)),4),"-")} -> 6.6687 | J45: {=IFERROR(ROUND(AVERAGE(IF((MONTH(EUR!$A$4:$A$15000)=$A45)*(YEAR(EUR!$A$4:$A$15000)=J$1),EUR!$B$4:$B$15000)),4),"-")} -> 7.7201 | ... X45: {=IFERROR(ROUND(AVERAGE(IF((MONTH(EUR!$A$4:$A$15000)=$A45)*(YEAR(EUR!$A$4:$A$15000)=X$1),EUR!$B$4:$B$15000)),4),"-")} -> 26.2832
A46: 2 | B46: Feb | C46: {=IFERROR(ROUND(AVERAGE(IF((MONTH(EUR!$A$4:$A$15000)=$A46)*(YEAR(EUR!$A$4:$A$15000)=C$1),EUR!$B$4:$B$15000)),4),"-")} -> 5.3626 | D46: {=IFERROR(ROUND(AVERAGE(IF((MONTH(EUR!$A$4:$A$15000)=$A46)*(YEAR(EUR!$A$4:$A$15000)=D$1),EUR!$B$4:$B$15000)),4),"-")} -> 5.9383 | E46: {=IFERROR(ROUND(AVERAGE(IF((MONTH(EUR!$A$4:$A$15000)=$A46)*(YEAR(EUR!$A$4:$A$15000)=E$1),EUR!$B$4:$B$15000)),4),"-")} -> 5.0336 | F46: {=IFERROR(ROUND(AVERAGE(IF((MONTH(EUR!$A$4:$A$15000)=$A46)*(YEAR(EUR!$A$4:$A$15000)=F$1),EUR!$B$4:$B$15000)),4),"-")} -> 5.4019 | G46: {=IFERROR(ROUND(AVERAGE(IF((MONTH(EUR!$A$4:$A$15000)=$A46)*(YEAR(EUR!$A$4:$A$15000)=G$1),EUR!$B$4:$B$15000)),4),"-")} -> 6.9556 | H46: {=IFERROR(ROUND(AVERAGE(IF((MONTH(EUR!$A$4:$A$15000)=$A46)*(YEAR(EUR!$A$4:$A$15000)=H$1),EUR!$B$4:$B$15000)),4),"-")} -> 7.1527 | I46: {=IFERROR(ROUND(AVERAGE(IF((MONTH(EUR!$A$4:$A$15000)=$A46)*(YEAR(EUR!$A$4:$A$15000)=I$1),EUR!$B$4:$B$15000)),4),"-")} -> 6.5724 | J46: {=IFERROR(ROUND(AVERAGE(IF((MONTH(EUR!$A$4:$A$15000)=$A46)*(YEAR(EUR!$A$4:$A$15000)=J$1),EUR!$B$4:$B$15000)),4),"-")} -> 7.9351 | ... X46: {=IFERROR(ROUND(AVERAGE(IF((MONTH(EUR!$A$4:$A$15000)=$A46)*(YEAR(EUR!$A$4:$A$15000)=X$1),EUR!$B$4:$B$15000)),4),"-")} -> 26.1059
A47: 3 | B47: Mar | C47: {=IFERROR(ROUND(AVERAGE(IF((MONTH(EUR!$A$4:$A$15000)=$A47)*(YEAR(EUR!$A$4:$A$15000)=C$1),EUR!$B$4:$B$15000)),4),"-")} -> 5.3159 | D47: {=IFERROR(ROUND(AVERAGE(IF((MONTH(EUR!$A$4:$A$15000)=$A47)*(YEAR(EUR!$A$4:$A$15000)=D$1),EUR!$B$4:$B$15000)),4),"-")} -> 5.8601 | E47: {=IFERROR(ROUND(AVERAGE(IF((MONTH(EUR!$A$4:$A$15000)=$A47)*(YEAR(EUR!$A$4:$A$15000)=E$1),EUR!$B$4:$B$15000)),4),"-")} -> 5.0539 | F47: {=IFERROR(ROUND(AVERAGE(IF((MONTH(EUR!$A$4:$A$15000)=$A47)*(YEAR(EUR!$A$4:$A$15000)=F$1),EUR!$B$4:$B$15000)),4),"-")} -> 5.5933 | G47: {=IFERROR(ROUND(AVERAGE(IF((MONTH(EUR!$A$4:$A$15000)=$A47)*(YEAR(EUR!$A$4:$A$15000)=G$1),EUR!$B$4:$B$15000)),4),"-")} -> 6.7471 | H47: {=IFERROR(ROUND(AVERAGE(IF((MONTH(EUR!$A$4:$A$15000)=$A47)*(YEAR(EUR!$A$4:$A$15000)=H$1),EUR!$B$4:$B$15000)),4),"-")} -> 7.2651 | I47: {=IFERROR(ROUND(AVERAGE(IF((MONTH(EUR!$A$4:$A$15000)=$A47)*(YEAR(EUR!$A$4:$A$15000)=I$1),EUR!$B$4:$B$15000)),4),"-")} -> 6.6105 | J47: {=IFERROR(ROUND(AVERAGE(IF((MONTH(EUR!$A$4:$A$15000)=$A47)*(YEAR(EUR!$A$4:$A$15000)=J$1),EUR!$B$4:$B$15000)),4),"-")} -> 8.0634 | ... X47: {=IFERROR(ROUND(AVERAGE(IF((MONTH(EUR!$A$4:$A$15000)=$A47)*(YEAR(EUR!$A$4:$A$15000)=X$1),EUR!$B$4:$B$15000)),4),"-")} -> 25.5438
A48: 4 | B48: Apr | C48: {=IFERROR(ROUND(AVERAGE(IF((MONTH(EUR!$A$4:$A$15000)=$A48)*(YEAR(EUR!$A$4:$A$15000)=C$1),EUR!$B$4:$B$15000)),4),"-")} -> 5.2563 | D48: {=IFERROR(ROUND(AVERAGE(IF((MONTH(EUR!$A$4:$A$15000)=$A48)*(YEAR(EUR!$A$4:$A$15000)=D$1),EUR!$B$4:$B$15000)),4),"-")} -> 5.3912 | E48: {=IFERROR(ROUND(AVERAGE(IF((MONTH(EUR!$A$4:$A$15000)=$A48)*(YEAR(EUR!$A$4:$A$15000)=E$1),EUR!$B$4:$B$15000)),4),"-")} -> 5.0592 | F48: {=IFERROR(ROUND(AVERAGE(IF((MONTH(EUR!$A$4:$A$15000)=$A48)*(YEAR(EUR!$A$4:$A$15000)=F$1),EUR!$B$4:$B$15000)),4),"-")} -> 5.86 | G48: {=IFERROR(ROUND(AVERAGE(IF((MONTH(EUR!$A$4:$A$15000)=$A48)*(YEAR(EUR!$A$4:$A$15000)=G$1),EUR!$B$4:$B$15000)),4),"-")} -> 6.5999 | H48: {=IFERROR(ROUND(AVERAGE(IF((MONTH(EUR!$A$4:$A$15000)=$A48)*(YEAR(EUR!$A$4:$A$15000)=H$1),EUR!$B$4:$B$15000)),4),"-")} -> 7.12 | I48: {=IFERROR(ROUND(AVERAGE(IF((MONTH(EUR!$A$4:$A$15000)=$A48)*(YEAR(EUR!$A$4:$A$15000)=I$1),EUR!$B$4:$B$15000)),4),"-")} -> 6.7411 | J48: {=IFERROR(ROUND(AVERAGE(IF((MONTH(EUR!$A$4:$A$15000)=$A48)*(YEAR(EUR!$A$4:$A$15000)=J$1),EUR!$B$4:$B$15000)),4),"-")} -> 8.2428 | ... X48: {=IFERROR(ROUND(AVERAGE(IF((MONTH(EUR!$A$4:$A$15000)=$A48)*(YEAR(EUR!$A$4:$A$15000)=X$1),EUR!$B$4:$B$15000)),4),"-")} -> 20.2728
A49: 5 | B49: May | C49: {=IFERROR(ROUND(AVERAGE(IF((MONTH(EUR!$A$4:$A$15000)=$A49)*(YEAR(EUR!$A$4:$A$15000)=C$1),EUR!$B$4:$B$15000)),4),"-")} -> 5.1859 | D49: {=IFERROR(ROUND(AVERAGE(IF((MONTH(EUR!$A$4:$A$15000)=$A49)*(YEAR(EUR!$A$4:$A$15000)=D$1),EUR!$B$4:$B$15000)),4),"-")} -> 5.0403 | E49: {=IFERROR(ROUND(AVERAGE(IF((MONTH(EUR!$A$4:$A$15000)=$A49)*(YEAR(EUR!$A$4:$A$15000)=E$1),EUR!$B$4:$B$15000)),4),"-")} -> 5.1119 | F49: {=IFERROR(ROUND(AVERAGE(IF((MONTH(EUR!$A$4:$A$15000)=$A49)*(YEAR(EUR!$A$4:$A$15000)=F$1),EUR!$B$4:$B$15000)),4),"-")} -> 6.327 | G49: {=IFERROR(ROUND(AVERAGE(IF((MONTH(EUR!$A$4:$A$15000)=$A49)*(YEAR(EUR!$A$4:$A$15000)=G$1),EUR!$B$4:$B$15000)),4),"-")} -> 6.5993 | H49: {=IFERROR(ROUND(AVERAGE(IF((MONTH(EUR!$A$4:$A$15000)=$A49)*(YEAR(EUR!$A$4:$A$15000)=H$1),EUR!$B$4:$B$15000)),4),"-")} -> 6.9919 | I49: {=IFERROR(ROUND(AVERAGE(IF((MONTH(EUR!$A$4:$A$15000)=$A49)*(YEAR(EUR!$A$4:$A$15000)=I$1),EUR!$B$4:$B$15000)),4),"-")} -> 7.0198 | J49: {=IFERROR(ROUND(AVERAGE(IF((MONTH(EUR!$A$4:$A$15000)=$A49)*(YEAR(EUR!$A$4:$A$15000)=J$1),EUR!$B$4:$B$15000)),4),"-")} -> 8.2576 | ... X49: {=IFERROR(ROUND(AVERAGE(IF((MONTH(EUR!$A$4:$A$15000)=$A49)*(YEAR(EUR!$A$4:$A$15000)=X$1),EUR!$B$4:$B$15000)),4),"-")} -> 19.5174
A50: 6 | B50: Jun | C50: {=IFERROR(ROUND(AVERAGE(IF((MONTH(EUR!$A$4:$A$15000)=$A50)*(YEAR(EUR!$A$4:$A$15000)=C$1),EUR!$B$4:$B$15000)),4),"-")} -> 5.3437 | D50: {=IFERROR(ROUND(AVERAGE(IF((MONTH(EUR!$A$4:$A$15000)=$A50)*(YEAR(EUR!$A$4:$A$15000)=D$1),EUR!$B$4:$B$15000)),4),"-")} -> 4.8232 | E50: {=IFERROR(ROUND(AVERAGE(IF((MONTH(EUR!$A$4:$A$15000)=$A50)*(YEAR(EUR!$A$4:$A$15000)=E$1),EUR!$B$4:$B$15000)),4),"-")} -> 5.2103 | F50: {=IFERROR(ROUND(AVERAGE(IF((MONTH(EUR!$A$4:$A$15000)=$A50)*(YEAR(EUR!$A$4:$A$15000)=F$1),EUR!$B$4:$B$15000)),4),"-")} -> 6.4912 | G50: {=IFERROR(ROUND(AVERAGE(IF((MONTH(EUR!$A$4:$A$15000)=$A50)*(YEAR(EUR!$A$4:$A$15000)=G$1),EUR!$B$4:$B$15000)),4),"-")} -> 6.6824 | H50: {=IFERROR(ROUND(AVERAGE(IF((MONTH(EUR!$A$4:$A$15000)=$A50)*(YEAR(EUR!$A$4:$A$15000)=H$1),EUR!$B$4:$B$15000)),4),"-")} -> 6.6925 | I50: {=IFERROR(ROUND(AVERAGE(IF((MONTH(EUR!$A$4:$A$15000)=$A50)*(YEAR(EUR!$A$4:$A$15000)=I$1),EUR!$B$4:$B$15000)),4),"-")} -> 6.9633 | J50: {=IFERROR(ROUND(AVERAGE(IF((MONTH(EUR!$A$4:$A$15000)=$A50)*(YEAR(EUR!$A$4:$A$15000)=J$1),EUR!$B$4:$B$15000)),4),"-")} -> 8.377 | ... X50: {=IFERROR(ROUND(AVERAGE(IF((MONTH(EUR!$A$4:$A$15000)=$A50)*(YEAR(EUR!$A$4:$A$15000)=X$1),EUR!$B$4:$B$15000)),4),"-")} -> 19.9195
A51: 7 | B51: Jul | C51: {=IFERROR(ROUND(AVERAGE(IF((MONTH(EUR!$A$4:$A$15000)=$A51)*(YEAR(EUR!$A$4:$A$15000)=C$1),EUR!$B$4:$B$15000)),4),"-")} -> 5.3106 | D51: {=IFERROR(ROUND(AVERAGE(IF((MONTH(EUR!$A$4:$A$15000)=$A51)*(YEAR(EUR!$A$4:$A$15000)=D$1),EUR!$B$4:$B$15000)),4),"-")} -> 4.8472 | E51: {=IFERROR(ROUND(AVERAGE(IF((MONTH(EUR!$A$4:$A$15000)=$A51)*(YEAR(EUR!$A$4:$A$15000)=E$1),EUR!$B$4:$B$15000)),4),"-")} -> 5.2639 | F51: {=IFERROR(ROUND(AVERAGE(IF((MONTH(EUR!$A$4:$A$15000)=$A51)*(YEAR(EUR!$A$4:$A$15000)=F$1),EUR!$B$4:$B$15000)),4),"-")} -> 6.3027 | G51: {=IFERROR(ROUND(AVERAGE(IF((MONTH(EUR!$A$4:$A$15000)=$A51)*(YEAR(EUR!$A$4:$A$15000)=G$1),EUR!$B$4:$B$15000)),4),"-")} -> 6.7511 | H51: {=IFERROR(ROUND(AVERAGE(IF((MONTH(EUR!$A$4:$A$15000)=$A51)*(YEAR(EUR!$A$4:$A$15000)=H$1),EUR!$B$4:$B$15000)),4),"-")} -> 6.6183 | I51: {=IFERROR(ROUND(AVERAGE(IF((MONTH(EUR!$A$4:$A$15000)=$A51)*(YEAR(EUR!$A$4:$A$15000)=I$1),EUR!$B$4:$B$15000)),4),"-")} -> 6.976 | J51: {=IFERROR(ROUND(AVERAGE(IF((MONTH(EUR!$A$4:$A$15000)=$A51)*(YEAR(EUR!$A$4:$A$15000)=J$1),EUR!$B$4:$B$15000)),4),"-")} -> 8.734 | ... X51: {=IFERROR(ROUND(AVERAGE(IF((MONTH(EUR!$A$4:$A$15000)=$A51)*(YEAR(EUR!$A$4:$A$15000)=X$1),EUR!$B$4:$B$15000)),4),"-")} -> 18.6487
A52: 8 | B52: Aug | C52: {=IFERROR(ROUND(AVERAGE(IF((MONTH(EUR!$A$4:$A$15000)=$A52)*(YEAR(EUR!$A$4:$A$15000)=C$1),EUR!$B$4:$B$15000)),4),"-")} -> 5.1831 | D52: {=IFERROR(ROUND(AVERAGE(IF((MONTH(EUR!$A$4:$A$15000)=$A52)*(YEAR(EUR!$A$4:$A$15000)=D$1),EUR!$B$4:$B$15000)),4),"-")} -> 4.9639 | E52: {=IFERROR(ROUND(AVERAGE(IF((MONTH(EUR!$A$4:$A$15000)=$A52)*(YEAR(EUR!$A$4:$A$15000)=E$1),EUR!$B$4:$B$15000)),4),"-")} -> 5.251 | F52: {=IFERROR(ROUND(AVERAGE(IF((MONTH(EUR!$A$4:$A$15000)=$A52)*(YEAR(EUR!$A$4:$A$15000)=F$1),EUR!$B$4:$B$15000)),4),"-")} -> 6.2252 | G52: {=IFERROR(ROUND(AVERAGE(IF((MONTH(EUR!$A$4:$A$15000)=$A52)*(YEAR(EUR!$A$4:$A$15000)=G$1),EUR!$B$4:$B$15000)),4),"-")} -> 6.6971 | H52: {=IFERROR(ROUND(AVERAGE(IF((MONTH(EUR!$A$4:$A$15000)=$A52)*(YEAR(EUR!$A$4:$A$15000)=H$1),EUR!$B$4:$B$15000)),4),"-")} -> 6.7538 | I52: {=IFERROR(ROUND(AVERAGE(IF((MONTH(EUR!$A$4:$A$15000)=$A52)*(YEAR(EUR!$A$4:$A$15000)=I$1),EUR!$B$4:$B$15000)),4),"-")} -> 7.0469 | J52: {=IFERROR(ROUND(AVERAGE(IF((MONTH(EUR!$A$4:$A$15000)=$A52)*(YEAR(EUR!$A$4:$A$15000)=J$1),EUR!$B$4:$B$15000)),4),"-")} -> 9.0703 | ... X52: {=IFERROR(ROUND(AVERAGE(IF((MONTH(EUR!$A$4:$A$15000)=$A52)*(YEAR(EUR!$A$4:$A$15000)=X$1),EUR!$B$4:$B$15000)),4),"-")} -> 17.334
A53: 9 | B53: Sep | C53: {=IFERROR(ROUND(AVERAGE(IF((MONTH(EUR!$A$4:$A$15000)=$A53)*(YEAR(EUR!$A$4:$A$15000)=C$1),EUR!$B$4:$B$15000)),4),"-")} -> 5.0853 | D53: {=IFERROR(ROUND(AVERAGE(IF((MONTH(EUR!$A$4:$A$15000)=$A53)*(YEAR(EUR!$A$4:$A$15000)=D$1),EUR!$B$4:$B$15000)),4),"-")} -> 4.9898 | E53: {=IFERROR(ROUND(AVERAGE(IF((MONTH(EUR!$A$4:$A$15000)=$A53)*(YEAR(EUR!$A$4:$A$15000)=E$1),EUR!$B$4:$B$15000)),4),"-")} -> 5.2537 | F53: {=IFERROR(ROUND(AVERAGE(IF((MONTH(EUR!$A$4:$A$15000)=$A53)*(YEAR(EUR!$A$4:$A$15000)=F$1),EUR!$B$4:$B$15000)),4),"-")} -> 6.2383 | G53: {=IFERROR(ROUND(AVERAGE(IF((MONTH(EUR!$A$4:$A$15000)=$A53)*(YEAR(EUR!$A$4:$A$15000)=G$1),EUR!$B$4:$B$15000)),4),"-")} -> 6.713 | H53: {=IFERROR(ROUND(AVERAGE(IF((MONTH(EUR!$A$4:$A$15000)=$A53)*(YEAR(EUR!$A$4:$A$15000)=H$1),EUR!$B$4:$B$15000)),4),"-")} -> 6.7436 | I53: {=IFERROR(ROUND(AVERAGE(IF((MONTH(EUR!$A$4:$A$15000)=$A53)*(YEAR(EUR!$A$4:$A$15000)=I$1),EUR!$B$4:$B$15000)),4),"-")} -> 7.0029 | J53: {=IFERROR(ROUND(AVERAGE(IF((MONTH(EUR!$A$4:$A$15000)=$A53)*(YEAR(EUR!$A$4:$A$15000)=J$1),EUR!$B$4:$B$15000)),4),"-")} -> 9.6448 | ... X53: {=IFERROR(ROUND(AVERAGE(IF((MONTH(EUR!$A$4:$A$15000)=$A53)*(YEAR(EUR!$A$4:$A$15000)=X$1),EUR!$B$4:$B$15000)),4),"-")} -> 16.873
A54: 10 | B54: Oct | C54: {=IFERROR(ROUND(AVERAGE(IF((MONTH(EUR!$A$4:$A$15000)=$A54)*(YEAR(EUR!$A$4:$A$15000)=C$1),EUR!$B$4:$B$15000)),4),"-")} -> 5.0377 | D54: {=IFERROR(ROUND(AVERAGE(IF((MONTH(EUR!$A$4:$A$15000)=$A54)*(YEAR(EUR!$A$4:$A$15000)=D$1),EUR!$B$4:$B$15000)),4),"-")} -> 5.0362 | E54: {=IFERROR(ROUND(AVERAGE(IF((MONTH(EUR!$A$4:$A$15000)=$A54)*(YEAR(EUR!$A$4:$A$15000)=E$1),EUR!$B$4:$B$15000)),4),"-")} -> 5.2543 | F54: {=IFERROR(ROUND(AVERAGE(IF((MONTH(EUR!$A$4:$A$15000)=$A54)*(YEAR(EUR!$A$4:$A$15000)=F$1),EUR!$B$4:$B$15000)),4),"-")} -> 6.4459 | G54: {=IFERROR(ROUND(AVERAGE(IF((MONTH(EUR!$A$4:$A$15000)=$A54)*(YEAR(EUR!$A$4:$A$15000)=G$1),EUR!$B$4:$B$15000)),4),"-")} -> 6.8681 | H54: {=IFERROR(ROUND(AVERAGE(IF((MONTH(EUR!$A$4:$A$15000)=$A54)*(YEAR(EUR!$A$4:$A$15000)=H$1),EUR!$B$4:$B$15000)),4),"-")} -> 6.6164 | I54: {=IFERROR(ROUND(AVERAGE(IF((MONTH(EUR!$A$4:$A$15000)=$A54)*(YEAR(EUR!$A$4:$A$15000)=I$1),EUR!$B$4:$B$15000)),4),"-")} -> 6.9675 | J54: {=IFERROR(ROUND(AVERAGE(IF((MONTH(EUR!$A$4:$A$15000)=$A54)*(YEAR(EUR!$A$4:$A$15000)=J$1),EUR!$B$4:$B$15000)),4),"-")} -> 11.2154 | ... X54: {=IFERROR(ROUND(AVERAGE(IF((MONTH(EUR!$A$4:$A$15000)=$A54)*(YEAR(EUR!$A$4:$A$15000)=X$1),EUR!$B$4:$B$15000)),4),"-")} -> 17.0625
A55: 11 | B55: Nov | C55: {=IFERROR(ROUND(AVERAGE(IF((MONTH(EUR!$A$4:$A$15000)=$A55)*(YEAR(EUR!$A$4:$A$15000)=C$1),EUR!$B$4:$B$15000)),4),"-")} -> 5.1567 | D55: {=IFERROR(ROUND(AVERAGE(IF((MONTH(EUR!$A$4:$A$15000)=$A55)*(YEAR(EUR!$A$4:$A$15000)=D$1),EUR!$B$4:$B$15000)),4),"-")} -> 5.0122 | E55: {=IFERROR(ROUND(AVERAGE(IF((MONTH(EUR!$A$4:$A$15000)=$A55)*(YEAR(EUR!$A$4:$A$15000)=E$1),EUR!$B$4:$B$15000)),4),"-")} -> 5.2638 | F55: {=IFERROR(ROUND(AVERAGE(IF((MONTH(EUR!$A$4:$A$15000)=$A55)*(YEAR(EUR!$A$4:$A$15000)=F$1),EUR!$B$4:$B$15000)),4),"-")} -> 6.4298 | G55: {=IFERROR(ROUND(AVERAGE(IF((MONTH(EUR!$A$4:$A$15000)=$A55)*(YEAR(EUR!$A$4:$A$15000)=G$1),EUR!$B$4:$B$15000)),4),"-")} -> 7.1426 | H55: {=IFERROR(ROUND(AVERAGE(IF((MONTH(EUR!$A$4:$A$15000)=$A55)*(YEAR(EUR!$A$4:$A$15000)=H$1),EUR!$B$4:$B$15000)),4),"-")} -> 6.4848 | I55: {=IFERROR(ROUND(AVERAGE(IF((MONTH(EUR!$A$4:$A$15000)=$A55)*(YEAR(EUR!$A$4:$A$15000)=I$1),EUR!$B$4:$B$15000)),4),"-")} -> 7.1694 | J55: {=IFERROR(ROUND(AVERAGE(IF((MONTH(EUR!$A$4:$A$15000)=$A55)*(YEAR(EUR!$A$4:$A$15000)=J$1),EUR!$B$4:$B$15000)),4),"-")} -> 11.7334 | ... X55: {=IFERROR(ROUND(AVERAGE(IF((MONTH(EUR!$A$4:$A$15000)=$A55)*(YEAR(EUR!$A$4:$A$15000)=X$1),EUR!$B$4:$B$15000)),4),"-")} -> 16.7634
A56: 12 | B56: Dec | C56: {=IFERROR(ROUND(AVERAGE(IF((MONTH(EUR!$A$4:$A$15000)=$A56)*(YEAR(EUR!$A$4:$A$15000)=C$1),EUR!$B$4:$B$15000)),4),"-")} -> 5.5737 | D56: {=IFERROR(ROUND(AVERAGE(IF((MONTH(EUR!$A$4:$A$15000)=$A56)*(YEAR(EUR!$A$4:$A$15000)=D$1),EUR!$B$4:$B$15000)),4),"-")} -> 5.0928 | E56: {=IFERROR(ROUND(AVERAGE(IF((MONTH(EUR!$A$4:$A$15000)=$A56)*(YEAR(EUR!$A$4:$A$15000)=E$1),EUR!$B$4:$B$15000)),4),"-")} -> 5.2587 | F56: {=IFERROR(ROUND(AVERAGE(IF((MONTH(EUR!$A$4:$A$15000)=$A56)*(YEAR(EUR!$A$4:$A$15000)=F$1),EUR!$B$4:$B$15000)),4),"-")} -> 6.752 | G56: {=IFERROR(ROUND(AVERAGE(IF((MONTH(EUR!$A$4:$A$15000)=$A56)*(YEAR(EUR!$A$4:$A$15000)=G$1),EUR!$B$4:$B$15000)),4),"-")} -> 7.3621 | H56: {=IFERROR(ROUND(AVERAGE(IF((MONTH(EUR!$A$4:$A$15000)=$A56)*(YEAR(EUR!$A$4:$A$15000)=H$1),EUR!$B$4:$B$15000)),4),"-")} -> 6.5271 | I56: {=IFERROR(ROUND(AVERAGE(IF((MONTH(EUR!$A$4:$A$15000)=$A56)*(YEAR(EUR!$A$4:$A$15000)=I$1),EUR!$B$4:$B$15000)),4),"-")} -> 7.4488 | J56: {=IFERROR(ROUND(AVERAGE(IF((MONTH(EUR!$A$4:$A$15000)=$A56)*(YEAR(EUR!$A$4:$A$15000)=J$1),EUR!$B$4:$B$15000)),4),"-")} -> 11.649 | ... X56: {=IFERROR(ROUND(AVERAGE(IF((MONTH(EUR!$A$4:$A$15000)=$A56)*(YEAR(EUR!$A$4:$A$15000)=X$1),EUR!$B$4:$B$15000)),4),"-")} -> 16.6526
A59: 1 | B59: Jan | C59: 5.422865 | D59: 5.9842762 | E59: 5.0809286 | F59: 5.3231667 | G59: 6.94947 | H59: 7.219055 | I59: 6.6687 | J59: 7.7200857 | K59: 11.77321 | L59: 22.184192 | M59: 16.188761 | N59: 16.248196 | O59: 18.018422 | P59: 17.115555 | Q59: 16.498 | R59: 16.2928 | S59: 14.258 | T59: 14.4289 | U59: 16.8909 | V59: 16.0555 | W59: 15.6414 | X59: =[1]Euro!$IT$5 -> 26.28318
A60: 2 | B60: Feb | C60: 5.3626286 | D60: 5.93825 | E60: 5.033625 | F60: 5.40191 | G60: 6.9556 | H60: 7.15273 | I60: 6.572355 | J60: 7.93507 | K60: 11.790148 | L60: 21.510198 | M60: 15.889343 | N60: 16.577669 | O60: 18.632022 | P60: 16.756 | Q60: 16.5948 | R60: 15.7065 | S60: 14.644 | T60: 14.4759 | U60: 17.1454 | V60: 15.9598 | W60: 15.3682 | X60: =[1]Euro!$IU$5 -> 26.105935
A61: 3 | B61: Mar | C61: 5.3159435 | D61: 5.8600818 | E61: 5.053855 | F61: 5.593319 | G61: 6.7470913 | H61: 7.2651045 | I61: 6.6105435 | J61: 8.0634182 | K61: 12.3737 | L61: 21.572631 | M61: 15.835879 | N61: 16.933909 | O61: 18.637343 | P61: 15.224 | Q61: 16.8146 | R61: 14.7217 | S61: 14.7439 | T61: 14.5549 | U61: 17.1263 | V61: 15.8967 | W61: 15.6429
A62: 4 | B62: Apr | C62: 5.2562684 | D62: 5.391245 | E62: 5.0591909 | F62: 5.8600286 | G62: 6.5999476 | H62: 7.1200238 | I62: 6.7410842 | J62: 8.242825 | K62: 12.557969 | L62: 19.809044 | M62: 15.870489 | N62: 17.394341 | O62: 18.58917 | P62: 15.218 | Q62: 16.8413 | R62: 14.5279 | S62: 15.0913 | T62: 14.6017 | U62: 17.0857 | V62: 15.8079 | W62: 18.3244
A63: 5 | B63: May | C63: 5.1858682 | D63: 5.0402682 | E63: 5.1118905 | F63: 6.3269857 | G63: 6.5993476 | H63: 6.991925 | I63: 7.0197773 | J63: 8.2575636 | K63: 12.40443 | L63: 19.147497 | M63: 15.413048 | N63: 17.31362 | O63: 18.299619 | P63: 15.3248 | Q63: 16.8103 | R63: 14.8136 | S63: 15.0595 | T63: 15.057 | U63: 16.4669 | V63: 15.7306 | W63: 19.700895
A64: 6 | B64: Jun | C64: 5.3436944 | D64: 4.8232059 | E64: 5.2103444 | F64: 6.4911529 | G64: 6.6823737 | H64: 6.69247 | I64: 6.9632944 | J64: 8.3770118 | K64: 12.400478 | L64: 19.221377 | M64: 15.247747 | N64: 17.31971 | O64: 18.166123 | P64: 15.6217 | Q64: 16.7093 | R64: 14.6893 | S64: 14.9604 | T64: 15.3147 | U64: 16.2507 | V64: 15.8665 | W64: 20.366547
A65: 7 | B65: Jul | C65: 5.310581 | D65: 4.8471864 | E65: 5.2638652 | F65: 6.3027304 | G65: 6.7511 | H65: 6.618281 | I65: 6.97603 | J65: 8.734 | K65: 12.55923 | L65: 18.818884 | M65: 15.831927 | N65: 17.372356 | O65: 17.917635 | P65: 15.6413 | Q65: 16.6767 | R65: 14.3624 | S65: 14.7583 | T65: 15.7615 | U65: 16.2582 | V65: 15.7779 | W65: 20.798839
A66: 8 | B66: Aug | C66: 5.1830727 | D66: 4.9639182 | E66: 5.2510476 | F66: 6.225175 | G66: 6.6970571 | H66: 6.7538318 | I66: 7.0469409 | J66: 9.0703091 | K66: 12.00601 | L66: 18.360034 | M66: 16.093282 | N66: 17.485137 | O66: 16.139105 | P66: 15.9533 | Q66: 16.882 | R66: 14.5039 | S66: 14.9505 | T66: 16.1727 | U66: 16.144 | V66: 15.6803 | W66: 21.768057
A67: 9 | B67: Sep | C67: 5.0852857 | D67: 4.9897737 | E67: 5.2536667 | F67: 6.2382591 | G67: 6.7130409 | H67: 6.7435727 | I67: 7.0028714 | J67: 9.64475 | K67: 11.636873 | L67: 16.516953 | M67: 16.117979 | N67: 17.063257 | O67: 16.689409 | P67: 16.0476 | Q67: 16.9532 | R67: 14.6467 | S67: 15.0205 | T67: 16.3536 | U67: 16.2802 | V67: 15.531 | W67: 21.902014
A68: 10 | B68: Oct | C68: 5.0377182 | D68: 5.0362043 | E68: 5.2543435 | F68: 6.4458783 | G68: 6.8681333 | H68: 6.6164143 | I68: 6.9675409 | J68: 11.215435 | K68: 11.470087 | L68: 15.033608 | M68: 16.960018 | N68: 17.317767 | O68: 16.898396 | P68: 16.3935 | Q68: 17.4716 | R68: 14.6316 | S68: 14.8158 | T68: 16.1823 | U68: 16.1158 | V68: 15.5621 | W68: =[1]Euro!$IQ$5 -> 22.381886
A69: 11 | B69: Nov | C69: 5.1567143 | D69: 5.0122286 | E69: 5.263795 | F69: 6.42984 | G69: 7.1426143 | H69: 6.4847619 | I69: 7.1694333 | J69: 11.733362 | K69: 20.379875 | L69: 16.072102 | M69: 16.722704 | N69: 17.581902 | O69: 16.796921 | P69: 16.2857 | Q69: 17.6021 | R69: 14.0277 | S69: 14.5536 | T69: 16.1847 | U69: 15.9498 | V69: 15.5728 | W69: =[1]Euro!$IR$5 -> 24.7434
A70: 12 | B70: Dec | C70: 5.5737263 | D70: 5.09283 | E70: 5.2586947 | F70: 6.7519571 | G70: 7.3620905 | H70: 6.52706 | I70: 7.4488474 | J70: 11.648965 | K70: 22.172404 | L70: 16.356315 | M70: 16.152669 | N70: 17.750912 | O70: 17.032765 | P70: 16.5113 | Q70: 17.3723 | R70: 14.2439 | S70: 14.2243 | T70: 16.3427 | U70: 15.9585 | V70: 15.6449 | W70: =[1]Euro!$IS$5 -> 26.2288
A73: 1 | B73: Jan | C73: =ROUND(C45-C59,4) -> 0 | D73: =ROUND(D45-D59,4) -> 0 | E73: =ROUND(E45-E59,4) -> 0 | F73: =ROUND(F45-F59,4) -> 0 | G73: =ROUND(G45-G59,4) -> 0 | H73: =ROUND(H45-H59,4) -> 0 | I73: =ROUND(I45-I59,4) -> 0 | J73: =ROUND(J45-J59,4) -> 0 | ... S73: =ROUND(S45-S59,4) -> 0 | T73: =IFERROR(ROUND(T45-T59,4),"-") -> 0 | U73: =IFERROR(ROUND(U45-U59,4),"-") -> 0 | V73: =IFERROR(ROUND(V45-V59,4),"-") -> 0 | W73: =IFERROR(ROUND(W45-W59,4),"-") -> 0 | X73: =IFERROR(ROUND(X45-X59,4),"-") -> 0
A74: 2 | B74: Feb | C74: =ROUND(C46-C60,4) -> 0 | D74: =ROUND(D46-D60,4) -> 0 | E74: =ROUND(E46-E60,4) -> 0 | F74: =ROUND(F46-F60,4) -> 0 | G74: =ROUND(G46-G60,4) -> 0 | H74: =ROUND(H46-H60,4) -> 0 | I74: =ROUND(I46-I60,4) -> 0 | J74: =ROUND(J46-J60,4) -> 0 | ... S74: =ROUND(S46-S60,4) -> 0 | T74: =IFERROR(ROUND(T46-T60,4),"-") -> 0 | U74: =IFERROR(ROUND(U46-U60,4),"-") -> 0 | V74: =IFERROR(ROUND(V46-V60,4),"-") -> 0 | W74: =IFERROR(ROUND(W46-W60,4),"-") -> 0 | X74: =IFERROR(ROUND(X46-X60,4),"-") -> 0
A75: 3 | B75: Mar | C75: =ROUND(C47-C61,4) -> 0 | D75: =ROUND(D47-D61,4) -> 0 | E75: =ROUND(E47-E61,4) -> 0 | F75: =ROUND(F47-F61,4) -> 0 | G75: =ROUND(G47-G61,4) -> 0 | H75: =ROUND(H47-H61,4) -> 0 | I75: =ROUND(I47-I61,4) -> 0 | J75: =ROUND(J47-J61,4) -> 0 | ... S75: =ROUND(S47-S61,4) -> 0 | T75: =IFERROR(ROUND(T47-T61,4),"-") -> 0 | U75: =IFERROR(ROUND(U47-U61,4),"-") -> 0 | V75: =IFERROR(ROUND(V47-V61,4),"-") -> 0 | W75: =IFERROR(ROUND(W47-W61,4),"-") -> 0 | X75: =IFERROR(ROUND(X47-X61,4),"-") -> 25.5438
A76: 4 | B76: Apr | C76: =ROUND(C48-C62,4) -> 0 | D76: =ROUND(D48-D62,4) -> 0 | E76: =ROUND(E48-E62,4) -> 0 | F76: =ROUND(F48-F62,4) -> 0 | G76: =ROUND(G48-G62,4) -> 0 | H76: =ROUND(H48-H62,4) -> 0 | I76: =ROUND(I48-I62,4) -> 0 | J76: =ROUND(J48-J62,4) -> 0 | ... S76: =ROUND(S48-S62,4) -> 0 | T76: =IFERROR(ROUND(T48-T62,4),"-") -> 0 | U76: =IFERROR(ROUND(U48-U62,4),"-") -> 0 | V76: =IFERROR(ROUND(V48-V62,4),"-") -> 0 | W76: =IFERROR(ROUND(W48-W62,4),"-") -> 0 | X76: =IFERROR(ROUND(X48-X62,4),"-") -> 20.2728
A77: 5 | B77: May | C77: =ROUND(C49-C63,4) -> 0 | D77: =ROUND(D49-D63,4) -> 0 | E77: =ROUND(E49-E63,4) -> 0 | F77: =ROUND(F49-F63,4) -> 0 | G77: =ROUND(G49-G63,4) -> 0 | H77: =ROUND(H49-H63,4) -> 0 | I77: =ROUND(I49-I63,4) -> 0 | J77: =ROUND(J49-J63,4) -> 0 | ... S77: =ROUND(S49-S63,4) -> 0 | T77: =IFERROR(ROUND(T49-T63,4),"-") -> 0 | U77: =IFERROR(ROUND(U49-U63,4),"-") -> 0 | V77: =IFERROR(ROUND(V49-V63,4),"-") -> 0 | W77: =IFERROR(ROUND(W49-W63,4),"-") -> 0 | X77: =IFERROR(ROUND(X49-X63,4),"-") -> 19.5174
A78: 6 | B78: Jun | C78: =ROUND(C50-C64,4) -> 0 | D78: =ROUND(D50-D64,4) -> 0 | E78: =ROUND(E50-E64,4) -> 0 | F78: =ROUND(F50-F64,4) -> 0 | G78: =ROUND(G50-G64,4) -> 0 | H78: =ROUND(H50-H64,4) -> 0 | I78: =ROUND(I50-I64,4) -> 0 | J78: =ROUND(J50-J64,4) -> 0 | ... S78: =ROUND(S50-S64,4) -> 0 | T78: =IFERROR(ROUND(T50-T64,4),"-") -> 0 | U78: =IFERROR(ROUND(U50-U64,4),"-") -> 0 | V78: =IFERROR(ROUND(V50-V64,4),"-") -> 0 | W78: =IFERROR(ROUND(W50-W64,4),"-") -> 0 | X78: =IFERROR(ROUND(X50-X64,4),"-") -> 19.9195
A79: 7 | B79: Jul | C79: =ROUND(C51-C65,4) -> 0 | D79: =ROUND(D51-D65,4) -> 0 | E79: =ROUND(E51-E65,4) -> 0 | F79: =ROUND(F51-F65,4) -> 0 | G79: =ROUND(G51-G65,4) -> 0 | H79: =ROUND(H51-H65,4) -> 0 | I79: =ROUND(I51-I65,4) -> 0 | J79: =ROUND(J51-J65,4) -> 0 | ... S79: =ROUND(S51-S65,4) -> 0 | T79: =IFERROR(ROUND(T51-T65,4),"-") -> 0 | U79: =IFERROR(ROUND(U51-U65,4),"-") -> 0 | V79: =IFERROR(ROUND(V51-V65,4),"-") -> 0 | W79: =IFERROR(ROUND(W51-W65,4),"-") -> 0 | X79: =IFERROR(ROUND(X51-X65,4),"-") -> 18.6487
A80: 8 | B80: Aug | C80: =ROUND(C52-C66,4) -> 0 | D80: =ROUND(D52-D66,4) -> 0 | E80: =ROUND(E52-E66,4) -> 0 | F80: =ROUND(F52-F66,4) -> 0 | G80: =ROUND(G52-G66,4) -> 0 | H80: =ROUND(H52-H66,4) -> 0 | I80: =ROUND(I52-I66,4) -> 0 | J80: =ROUND(J52-J66,4) -> 0 | ... S80: =ROUND(S52-S66,4) -> 0 | T80: =IFERROR(ROUND(T52-T66,4),"-") -> 0 | U80: =IFERROR(ROUND(U52-U66,4),"-") -> 0 | V80: =IFERROR(ROUND(V52-V66,4),"-") -> 0 | W80: =IFERROR(ROUND(W52-W66,4),"-") -> 0 | X80: =IFERROR(ROUND(X52-X66,4),"-") -> 17.334
A81: 9 | B81: Sep | C81: =ROUND(C53-C67,4) -> 0 | D81: =ROUND(D53-D67,4) -> 0 | E81: =ROUND(E53-E67,4) -> 0 | F81: =ROUND(F53-F67,4) -> 0 | G81: =ROUND(G53-G67,4) -> 0 | H81: =ROUND(H53-H67,4) -> 0 | I81: =ROUND(I53-I67,4) -> 0 | J81: =ROUND(J53-J67,4) -> 0 | ... S81: =ROUND(S53-S67,4) -> 0 | T81: =IFERROR(ROUND(T53-T67,4),"-") -> 0 | U81: =IFERROR(ROUND(U53-U67,4),"-") -> 0 | V81: =IFERROR(ROUND(V53-V67,4),"-") -> 0 | W81: =IFERROR(ROUND(W53-W67,4),"-") -> 0 | X81: =IFERROR(ROUND(X53-X67,4),"-") -> 16.873
A82: 10 | B82: Oct | C82: =ROUND(C54-C68,4) -> 0 | D82: =ROUND(D54-D68,4) -> 0 | E82: =ROUND(E54-E68,4) -> 0 | F82: =ROUND(F54-F68,4) -> 0 | G82: =ROUND(G54-G68,4) -> 0 | H82: =ROUND(H54-H68,4) -> 0 | I82: =ROUND(I54-I68,4) -> 0 | J82: =ROUND(J54-J68,4) -> 0 | ... S82: =ROUND(S54-S68,4) -> 0 | T82: =IFERROR(ROUND(T54-T68,4),"-") -> 0 | U82: =IFERROR(ROUND(U54-U68,4),"-") -> 0 | V82: =IFERROR(ROUND(V54-V68,4),"-") -> 0 | W82: =IFERROR(ROUND(W54-W68,4),"-") -> 0 | X82: =IFERROR(ROUND(X54-X68,4),"-") -> 17.0625
A83: 11 | B83: Nov | C83: =ROUND(C55-C69,4) -> 0 | D83: =ROUND(D55-D69,4) -> 0 | E83: =ROUND(E55-E69,4) -> 0 | F83: =ROUND(F55-F69,4) -> 0 | G83: =ROUND(G55-G69,4) -> 0 | H83: =ROUND(H55-H69,4) -> 0 | I83: =ROUND(I55-I69,4) -> 0 | J83: =ROUND(J55-J69,4) -> 0 | ... S83: =ROUND(S55-S69,4) -> 0 | T83: =IFERROR(ROUND(T55-T69,4),"-") -> 0 | U83: =IFERROR(ROUND(U55-U69,4),"-") -> 0 | V83: =IFERROR(ROUND(V55-V69,4),"-") -> 0 | W83: =IFERROR(ROUND(W55-W69,4),"-") -> 0 | X83: =IFERROR(ROUND(X55-X69,4),"-") -> 16.7634
A84: 12 | B84: Dec | C84: =ROUND(C56-C70,4) -> 0 | D84: =ROUND(D56-D70,4) -> 0 | E84: =ROUND(E56-E70,4) -> 0 | F84: =ROUND(F56-F70,4) -> 0 | G84: =ROUND(G56-G70,4) -> 0 | H84: =ROUND(H56-H70,4) -> 0 | I84: =ROUND(I56-I70,4) -> 0 | J84: =ROUND(J56-J70,4) -> 0 | ... S84: =ROUND(S56-S70,4) -> 0 | T84: =IFERROR(ROUND(T56-T70,4),"-") -> 0 | U84: =IFERROR(ROUND(U56-U70,4),"-") -> 0 | V84: =IFERROR(ROUND(V56-V70,4),"-") -> 0 | W84: =IFERROR(ROUND(W56-W70,4),"-") -> 0 | X84: =IFERROR(ROUND(X56-X70,4),"-") -> 16.6526
A87: 1 | B87: Jan | C87: {=IFERROR(ROUND(AVERAGE(IF((MONTH(GBP!$A$4:$A$14999)=$A87)*(YEAR(GBP!$A$4:$A$14999)=C$1),GBP!$B$4:$B$14997)),4),"-")} -> 8.7698 | D87: {=IFERROR(ROUND(AVERAGE(IF((MONTH(GBP!$A$4:$A$14999)=$A87)*(YEAR(GBP!$A$4:$A$14999)=D$1),GBP!$B$4:$B$14997)),4),"-")} -> 9.427 | E87: {=IFERROR(ROUND(AVERAGE(IF((MONTH(GBP!$A$4:$A$14999)=$A87)*(YEAR(GBP!$A$4:$A$14999)=E$1),GBP!$B$4:$B$14997)),4),"-")} -> 8.2356 | F87: {=IFERROR(ROUND(AVERAGE(IF((MONTH(GBP!$A$4:$A$14999)=$A87)*(YEAR(GBP!$A$4:$A$14999)=F$1),GBP!$B$4:$B$14997)),4),"-")} -> 8.1026 | G87: {=IFERROR(ROUND(AVERAGE(IF((MONTH(GBP!$A$4:$A$14999)=$A87)*(YEAR(GBP!$A$4:$A$14999)=G$1),GBP!$B$4:$B$14997)),4),"-")} -> 10.0341 | H87: {=IFERROR(ROUND(AVERAGE(IF((MONTH(GBP!$A$4:$A$14999)=$A87)*(YEAR(GBP!$A$4:$A$14999)=H$1),GBP!$B$4:$B$14997)),4),"-")} -> 10.3342 | I87: {=IFERROR(ROUND(AVERAGE(IF((MONTH(GBP!$A$4:$A$14999)=$A87)*(YEAR(GBP!$A$4:$A$14999)=I$1),GBP!$B$4:$B$14997)),4),"-")} -> 9.7255 | J87: {=IFERROR(ROUND(AVERAGE(IF((MONTH(GBP!$A$4:$A$14999)=$A87)*(YEAR(GBP!$A$4:$A$14999)=J$1),GBP!$B$4:$B$14997)),4),"-")} -> 11.6411 | ... X87: {=IFERROR(ROUND(AVERAGE(IF((MONTH(GBP!$A$4:$A$14999)=$A87)*(YEAR(GBP!$A$4:$A$14999)=X$1),GBP!$B$4:$B$14997)),4),"-")} -> 29.2658
A88: 2 | B88: Feb | C88: {=IFERROR(ROUND(AVERAGE(IF((MONTH(GBP!$A$4:$A$14999)=$A88)*(YEAR(GBP!$A$4:$A$14999)=C$1),GBP!$B$4:$B$14997)),4),"-")} -> 8.7341 | D88: {=IFERROR(ROUND(AVERAGE(IF((MONTH(GBP!$A$4:$A$14999)=$A88)*(YEAR(GBP!$A$4:$A$14999)=D$1),GBP!$B$4:$B$14997)),4),"-")} -> 9.3686 | E88: {=IFERROR(ROUND(AVERAGE(IF((MONTH(GBP!$A$4:$A$14999)=$A88)*(YEAR(GBP!$A$4:$A$14999)=E$1),GBP!$B$4:$B$14997)),4),"-")} -> 8.2288 | F88: {=IFERROR(ROUND(AVERAGE(IF((MONTH(GBP!$A$4:$A$14999)=$A88)*(YEAR(GBP!$A$4:$A$14999)=F$1),GBP!$B$4:$B$14997)),4),"-")} -> 8.0725 | G88: {=IFERROR(ROUND(AVERAGE(IF((MONTH(GBP!$A$4:$A$14999)=$A88)*(YEAR(GBP!$A$4:$A$14999)=G$1),GBP!$B$4:$B$14997)),4),"-")} -> 10.2646 | H88: {=IFERROR(ROUND(AVERAGE(IF((MONTH(GBP!$A$4:$A$14999)=$A88)*(YEAR(GBP!$A$4:$A$14999)=H$1),GBP!$B$4:$B$14997)),4),"-")} -> 10.3703 | I88: {=IFERROR(ROUND(AVERAGE(IF((MONTH(GBP!$A$4:$A$14999)=$A88)*(YEAR(GBP!$A$4:$A$14999)=I$1),GBP!$B$4:$B$14997)),4),"-")} -> 9.6196 | J88: {=IFERROR(ROUND(AVERAGE(IF((MONTH(GBP!$A$4:$A$14999)=$A88)*(YEAR(GBP!$A$4:$A$14999)=J$1),GBP!$B$4:$B$14997)),4),"-")} -> 11.8886 | ... X88: {=IFERROR(ROUND(AVERAGE(IF((MONTH(GBP!$A$4:$A$14999)=$A88)*(YEAR(GBP!$A$4:$A$14999)=X$1),GBP!$B$4:$B$14997)),4),"-")} -> 29.7141
A89: 3 | B89: Mar | C89: {=IFERROR(ROUND(AVERAGE(IF((MONTH(GBP!$A$4:$A$14999)=$A89)*(YEAR(GBP!$A$4:$A$14999)=C$1),GBP!$B$4:$B$14997)),4),"-")} -> 8.7043 | D89: {=IFERROR(ROUND(AVERAGE(IF((MONTH(GBP!$A$4:$A$14999)=$A89)*(YEAR(GBP!$A$4:$A$14999)=D$1),GBP!$B$4:$B$14997)),4),"-")} -> 9.3133 | E89: {=IFERROR(ROUND(AVERAGE(IF((MONTH(GBP!$A$4:$A$14999)=$A89)*(YEAR(GBP!$A$4:$A$14999)=E$1),GBP!$B$4:$B$14997)),4),"-")} -> 8.2002 | F89: {=IFERROR(ROUND(AVERAGE(IF((MONTH(GBP!$A$4:$A$14999)=$A89)*(YEAR(GBP!$A$4:$A$14999)=F$1),GBP!$B$4:$B$14997)),4),"-")} -> 8.2016 | G89: {=IFERROR(ROUND(AVERAGE(IF((MONTH(GBP!$A$4:$A$14999)=$A89)*(YEAR(GBP!$A$4:$A$14999)=G$1),GBP!$B$4:$B$14997)),4),"-")} -> 10.0478 | H89: {=IFERROR(ROUND(AVERAGE(IF((MONTH(GBP!$A$4:$A$14999)=$A89)*(YEAR(GBP!$A$4:$A$14999)=H$1),GBP!$B$4:$B$14997)),4),"-")} -> 10.4911 | I89: {=IFERROR(ROUND(AVERAGE(IF((MONTH(GBP!$A$4:$A$14999)=$A89)*(YEAR(GBP!$A$4:$A$14999)=I$1),GBP!$B$4:$B$14997)),4),"-")} -> 9.5965 | J89: {=IFERROR(ROUND(AVERAGE(IF((MONTH(GBP!$A$4:$A$14999)=$A89)*(YEAR(GBP!$A$4:$A$14999)=J$1),GBP!$B$4:$B$14997)),4),"-")} -> 11.8589 | ... X89: {=IFERROR(ROUND(AVERAGE(IF((MONTH(GBP!$A$4:$A$14999)=$A89)*(YEAR(GBP!$A$4:$A$14999)=X$1),GBP!$B$4:$B$14997)),4),"-")} -> 29.6318
A90: 4 | B90: Apr | C90: {=IFERROR(ROUND(AVERAGE(IF((MONTH(GBP!$A$4:$A$14999)=$A90)*(YEAR(GBP!$A$4:$A$14999)=C$1),GBP!$B$4:$B$14997)),4),"-")} -> 8.7866 | D90: {=IFERROR(ROUND(AVERAGE(IF((MONTH(GBP!$A$4:$A$14999)=$A90)*(YEAR(GBP!$A$4:$A$14999)=D$1),GBP!$B$4:$B$14997)),4),"-")} -> 8.6657 | E90: {=IFERROR(ROUND(AVERAGE(IF((MONTH(GBP!$A$4:$A$14999)=$A90)*(YEAR(GBP!$A$4:$A$14999)=E$1),GBP!$B$4:$B$14997)),4),"-")} -> 8.2433 | F90: {=IFERROR(ROUND(AVERAGE(IF((MONTH(GBP!$A$4:$A$14999)=$A90)*(YEAR(GBP!$A$4:$A$14999)=F$1),GBP!$B$4:$B$14997)),4),"-")} -> 8.5021 | G90: {=IFERROR(ROUND(AVERAGE(IF((MONTH(GBP!$A$4:$A$14999)=$A90)*(YEAR(GBP!$A$4:$A$14999)=G$1),GBP!$B$4:$B$14997)),4),"-")} -> 9.9265 | H90: {=IFERROR(ROUND(AVERAGE(IF((MONTH(GBP!$A$4:$A$14999)=$A90)*(YEAR(GBP!$A$4:$A$14999)=H$1),GBP!$B$4:$B$14997)),4),"-")} -> 10.4225 | I90: {=IFERROR(ROUND(AVERAGE(IF((MONTH(GBP!$A$4:$A$14999)=$A90)*(YEAR(GBP!$A$4:$A$14999)=I$1),GBP!$B$4:$B$14997)),4),"-")} -> 9.7047 | J90: {=IFERROR(ROUND(AVERAGE(IF((MONTH(GBP!$A$4:$A$14999)=$A90)*(YEAR(GBP!$A$4:$A$14999)=J$1),GBP!$B$4:$B$14997)),4),"-")} -> 12.1306 | ... X90: {=IFERROR(ROUND(AVERAGE(IF((MONTH(GBP!$A$4:$A$14999)=$A90)*(YEAR(GBP!$A$4:$A$14999)=X$1),GBP!$B$4:$B$14997)),4),"-")} -> 23.5032
A91: 5 | B91: May | C91: {=IFERROR(ROUND(AVERAGE(IF((MONTH(GBP!$A$4:$A$14999)=$A91)*(YEAR(GBP!$A$4:$A$14999)=C$1),GBP!$B$4:$B$14997)),4),"-")} -> 8.6357 | D91: {=IFERROR(ROUND(AVERAGE(IF((MONTH(GBP!$A$4:$A$14999)=$A91)*(YEAR(GBP!$A$4:$A$14999)=D$1),GBP!$B$4:$B$14997)),4),"-")} -> 8.2088 | E91: {=IFERROR(ROUND(AVERAGE(IF((MONTH(GBP!$A$4:$A$14999)=$A91)*(YEAR(GBP!$A$4:$A$14999)=E$1),GBP!$B$4:$B$14997)),4),"-")} -> 8.1485 | F91: {=IFERROR(ROUND(AVERAGE(IF((MONTH(GBP!$A$4:$A$14999)=$A91)*(YEAR(GBP!$A$4:$A$14999)=F$1),GBP!$B$4:$B$14997)),4),"-")} -> 8.8773 | G91: {=IFERROR(ROUND(AVERAGE(IF((MONTH(GBP!$A$4:$A$14999)=$A91)*(YEAR(GBP!$A$4:$A$14999)=G$1),GBP!$B$4:$B$14997)),4),"-")} -> 9.8203 | H91: {=IFERROR(ROUND(AVERAGE(IF((MONTH(GBP!$A$4:$A$14999)=$A91)*(YEAR(GBP!$A$4:$A$14999)=H$1),GBP!$B$4:$B$14997)),4),"-")} -> 10.2139 | I91: {=IFERROR(ROUND(AVERAGE(IF((MONTH(GBP!$A$4:$A$14999)=$A91)*(YEAR(GBP!$A$4:$A$14999)=I$1),GBP!$B$4:$B$14997)),4),"-")} -> 10.2738 | J91: {=IFERROR(ROUND(AVERAGE(IF((MONTH(GBP!$A$4:$A$14999)=$A91)*(YEAR(GBP!$A$4:$A$14999)=J$1),GBP!$B$4:$B$14997)),4),"-")} -> 12.122 | ... X91: {=IFERROR(ROUND(AVERAGE(IF((MONTH(GBP!$A$4:$A$14999)=$A91)*(YEAR(GBP!$A$4:$A$14999)=X$1),GBP!$B$4:$B$14997)),4),"-")} -> 22.4271
A92: 6 | B92: Jun | C92: {=IFERROR(ROUND(AVERAGE(IF((MONTH(GBP!$A$4:$A$14999)=$A92)*(YEAR(GBP!$A$4:$A$14999)=C$1),GBP!$B$4:$B$14997)),4),"-")} -> 8.4906 | D92: {=IFERROR(ROUND(AVERAGE(IF((MONTH(GBP!$A$4:$A$14999)=$A92)*(YEAR(GBP!$A$4:$A$14999)=D$1),GBP!$B$4:$B$14997)),4),"-")} -> 7.9278 | E92: {=IFERROR(ROUND(AVERAGE(IF((MONTH(GBP!$A$4:$A$14999)=$A92)*(YEAR(GBP!$A$4:$A$14999)=E$1),GBP!$B$4:$B$14997)),4),"-")} -> 8.0875 | F92: {=IFERROR(ROUND(AVERAGE(IF((MONTH(GBP!$A$4:$A$14999)=$A92)*(YEAR(GBP!$A$4:$A$14999)=F$1),GBP!$B$4:$B$14997)),4),"-")} -> 9.2155 | G92: {=IFERROR(ROUND(AVERAGE(IF((MONTH(GBP!$A$4:$A$14999)=$A92)*(YEAR(GBP!$A$4:$A$14999)=G$1),GBP!$B$4:$B$14997)),4),"-")} -> 10.0558 | H92: {=IFERROR(ROUND(AVERAGE(IF((MONTH(GBP!$A$4:$A$14999)=$A92)*(YEAR(GBP!$A$4:$A$14999)=H$1),GBP!$B$4:$B$14997)),4),"-")} -> 10.008 | I92: {=IFERROR(ROUND(AVERAGE(IF((MONTH(GBP!$A$4:$A$14999)=$A92)*(YEAR(GBP!$A$4:$A$14999)=I$1),GBP!$B$4:$B$14997)),4),"-")} -> 10.1404 | J92: {=IFERROR(ROUND(AVERAGE(IF((MONTH(GBP!$A$4:$A$14999)=$A92)*(YEAR(GBP!$A$4:$A$14999)=J$1),GBP!$B$4:$B$14997)),4),"-")} -> 12.3963 | ... X92: {=IFERROR(ROUND(AVERAGE(IF((MONTH(GBP!$A$4:$A$14999)=$A92)*(YEAR(GBP!$A$4:$A$14999)=X$1),GBP!$B$4:$B$14997)),4),"-")} -> 23.0674
A93: 7 | B93: Jul | C93: {=IFERROR(ROUND(AVERAGE(IF((MONTH(GBP!$A$4:$A$14999)=$A93)*(YEAR(GBP!$A$4:$A$14999)=C$1),GBP!$B$4:$B$14997)),4),"-")} -> 8.5176 | D93: {=IFERROR(ROUND(AVERAGE(IF((MONTH(GBP!$A$4:$A$14999)=$A93)*(YEAR(GBP!$A$4:$A$14999)=D$1),GBP!$B$4:$B$14997)),4),"-")} -> 7.9713 | E93: {=IFERROR(ROUND(AVERAGE(IF((MONTH(GBP!$A$4:$A$14999)=$A93)*(YEAR(GBP!$A$4:$A$14999)=E$1),GBP!$B$4:$B$14997)),4),"-")} -> 8.2331 | F93: {=IFERROR(ROUND(AVERAGE(IF((MONTH(GBP!$A$4:$A$14999)=$A93)*(YEAR(GBP!$A$4:$A$14999)=F$1),GBP!$B$4:$B$14997)),4),"-")} -> 9.004 | G93: {=IFERROR(ROUND(AVERAGE(IF((MONTH(GBP!$A$4:$A$14999)=$A93)*(YEAR(GBP!$A$4:$A$14999)=G$1),GBP!$B$4:$B$14997)),4),"-")} -> 10.136 | H93: {=IFERROR(ROUND(AVERAGE(IF((MONTH(GBP!$A$4:$A$14999)=$A93)*(YEAR(GBP!$A$4:$A$14999)=H$1),GBP!$B$4:$B$14997)),4),"-")} -> 9.6435 | I93: {=IFERROR(ROUND(AVERAGE(IF((MONTH(GBP!$A$4:$A$14999)=$A93)*(YEAR(GBP!$A$4:$A$14999)=I$1),GBP!$B$4:$B$14997)),4),"-")} -> 10.1321 | J93: {=IFERROR(ROUND(AVERAGE(IF((MONTH(GBP!$A$4:$A$14999)=$A93)*(YEAR(GBP!$A$4:$A$14999)=J$1),GBP!$B$4:$B$14997)),4),"-")} -> 12.9506 | ... X93: {=IFERROR(ROUND(AVERAGE(IF((MONTH(GBP!$A$4:$A$14999)=$A93)*(YEAR(GBP!$A$4:$A$14999)=X$1),GBP!$B$4:$B$14997)),4),"-")} -> 21.6607
A94: 8 | B94: Aug | C94: {=IFERROR(ROUND(AVERAGE(IF((MONTH(GBP!$A$4:$A$14999)=$A94)*(YEAR(GBP!$A$4:$A$14999)=C$1),GBP!$B$4:$B$14997)),4),"-")} -> 8.5227 | D94: {=IFERROR(ROUND(AVERAGE(IF((MONTH(GBP!$A$4:$A$14999)=$A94)*(YEAR(GBP!$A$4:$A$14999)=D$1),GBP!$B$4:$B$14997)),4),"-")} -> 7.9251 | E94: {=IFERROR(ROUND(AVERAGE(IF((MONTH(GBP!$A$4:$A$14999)=$A94)*(YEAR(GBP!$A$4:$A$14999)=E$1),GBP!$B$4:$B$14997)),4),"-")} -> 8.2568 | F94: {=IFERROR(ROUND(AVERAGE(IF((MONTH(GBP!$A$4:$A$14999)=$A94)*(YEAR(GBP!$A$4:$A$14999)=F$1),GBP!$B$4:$B$14997)),4),"-")} -> 8.8962 | G94: {=IFERROR(ROUND(AVERAGE(IF((MONTH(GBP!$A$4:$A$14999)=$A94)*(YEAR(GBP!$A$4:$A$14999)=G$1),GBP!$B$4:$B$14997)),4),"-")} -> 10.0094 | H94: {=IFERROR(ROUND(AVERAGE(IF((MONTH(GBP!$A$4:$A$14999)=$A94)*(YEAR(GBP!$A$4:$A$14999)=H$1),GBP!$B$4:$B$14997)),4),"-")} -> 9.8526 | I94: {=IFERROR(ROUND(AVERAGE(IF((MONTH(GBP!$A$4:$A$14999)=$A94)*(YEAR(GBP!$A$4:$A$14999)=I$1),GBP!$B$4:$B$14997)),4),"-")} -> 10.4099 | J94: {=IFERROR(ROUND(AVERAGE(IF((MONTH(GBP!$A$4:$A$14999)=$A94)*(YEAR(GBP!$A$4:$A$14999)=J$1),GBP!$B$4:$B$14997)),4),"-")} -> 13.3906 | ... X94: {=IFERROR(ROUND(AVERAGE(IF((MONTH(GBP!$A$4:$A$14999)=$A94)*(YEAR(GBP!$A$4:$A$14999)=X$1),GBP!$B$4:$B$14997)),4),"-")} -> 20.4319
A95: 9 | B95: Sep | C95: {=IFERROR(ROUND(AVERAGE(IF((MONTH(GBP!$A$4:$A$14999)=$A95)*(YEAR(GBP!$A$4:$A$14999)=C$1),GBP!$B$4:$B$14997)),4),"-")} -> 8.3699 | D95: {=IFERROR(ROUND(AVERAGE(IF((MONTH(GBP!$A$4:$A$14999)=$A95)*(YEAR(GBP!$A$4:$A$14999)=D$1),GBP!$B$4:$B$14997)),4),"-")} -> 8.0237 | E95: {=IFERROR(ROUND(AVERAGE(IF((MONTH(GBP!$A$4:$A$14999)=$A95)*(YEAR(GBP!$A$4:$A$14999)=E$1),GBP!$B$4:$B$14997)),4),"-")} -> 8.3331 | F95: {=IFERROR(ROUND(AVERAGE(IF((MONTH(GBP!$A$4:$A$14999)=$A95)*(YEAR(GBP!$A$4:$A$14999)=F$1),GBP!$B$4:$B$14997)),4),"-")} -> 8.9477 | G95: {=IFERROR(ROUND(AVERAGE(IF((MONTH(GBP!$A$4:$A$14999)=$A95)*(YEAR(GBP!$A$4:$A$14999)=G$1),GBP!$B$4:$B$14997)),4),"-")} -> 9.8593 | H95: {=IFERROR(ROUND(AVERAGE(IF((MONTH(GBP!$A$4:$A$14999)=$A95)*(YEAR(GBP!$A$4:$A$14999)=H$1),GBP!$B$4:$B$14997)),4),"-")} -> 9.9524 | I95: {=IFERROR(ROUND(AVERAGE(IF((MONTH(GBP!$A$4:$A$14999)=$A95)*(YEAR(GBP!$A$4:$A$14999)=I$1),GBP!$B$4:$B$14997)),4),"-")} -> 10.375 | J95: {=IFERROR(ROUND(AVERAGE(IF((MONTH(GBP!$A$4:$A$14999)=$A95)*(YEAR(GBP!$A$4:$A$14999)=J$1),GBP!$B$4:$B$14997)),4),"-")} -> 14.0142 | ... X95: {=IFERROR(ROUND(AVERAGE(IF((MONTH(GBP!$A$4:$A$14999)=$A95)*(YEAR(GBP!$A$4:$A$14999)=X$1),GBP!$B$4:$B$14997)),4),"-")} -> 19.6884
A96: 10 | B96: Oct | C96: {=IFERROR(ROUND(AVERAGE(IF((MONTH(GBP!$A$4:$A$14999)=$A96)*(YEAR(GBP!$A$4:$A$14999)=C$1),GBP!$B$4:$B$14997)),4),"-")} -> 8.5559 | D96: {=IFERROR(ROUND(AVERAGE(IF((MONTH(GBP!$A$4:$A$14999)=$A96)*(YEAR(GBP!$A$4:$A$14999)=D$1),GBP!$B$4:$B$14997)),4),"-")} -> 8.0708 | E96: {=IFERROR(ROUND(AVERAGE(IF((MONTH(GBP!$A$4:$A$14999)=$A96)*(YEAR(GBP!$A$4:$A$14999)=E$1),GBP!$B$4:$B$14997)),4),"-")} -> 8.3426 | F96: {=IFERROR(ROUND(AVERAGE(IF((MONTH(GBP!$A$4:$A$14999)=$A96)*(YEAR(GBP!$A$4:$A$14999)=F$1),GBP!$B$4:$B$14997)),4),"-")} -> 9.2241 | G96: {=IFERROR(ROUND(AVERAGE(IF((MONTH(GBP!$A$4:$A$14999)=$A96)*(YEAR(GBP!$A$4:$A$14999)=G$1),GBP!$B$4:$B$14997)),4),"-")} -> 9.9345 | H96: {=IFERROR(ROUND(AVERAGE(IF((MONTH(GBP!$A$4:$A$14999)=$A96)*(YEAR(GBP!$A$4:$A$14999)=H$1),GBP!$B$4:$B$14997)),4),"-")} -> 9.7068 | I96: {=IFERROR(ROUND(AVERAGE(IF((MONTH(GBP!$A$4:$A$14999)=$A96)*(YEAR(GBP!$A$4:$A$14999)=I$1),GBP!$B$4:$B$14997)),4),"-")} -> 10.3559 | J96: {=IFERROR(ROUND(AVERAGE(IF((MONTH(GBP!$A$4:$A$14999)=$A96)*(YEAR(GBP!$A$4:$A$14999)=J$1),GBP!$B$4:$B$14997)),4),"-")} -> 16.1123 | ... X96: {=IFERROR(ROUND(AVERAGE(IF((MONTH(GBP!$A$4:$A$14999)=$A96)*(YEAR(GBP!$A$4:$A$14999)=X$1),GBP!$B$4:$B$14997)),4),"-")} -> 20.0444
A97: 11 | B97: Nov | C97: {=IFERROR(ROUND(AVERAGE(IF((MONTH(GBP!$A$4:$A$14999)=$A97)*(YEAR(GBP!$A$4:$A$14999)=C$1),GBP!$B$4:$B$14997)),4),"-")} -> 8.6078 | D97: {=IFERROR(ROUND(AVERAGE(IF((MONTH(GBP!$A$4:$A$14999)=$A97)*(YEAR(GBP!$A$4:$A$14999)=D$1),GBP!$B$4:$B$14997)),4),"-")} -> 8.1077 | E97: {=IFERROR(ROUND(AVERAGE(IF((MONTH(GBP!$A$4:$A$14999)=$A97)*(YEAR(GBP!$A$4:$A$14999)=E$1),GBP!$B$4:$B$14997)),4),"-")} -> 8.2618 | F97: {=IFERROR(ROUND(AVERAGE(IF((MONTH(GBP!$A$4:$A$14999)=$A97)*(YEAR(GBP!$A$4:$A$14999)=F$1),GBP!$B$4:$B$14997)),4),"-")} -> 9.2855 | G97: {=IFERROR(ROUND(AVERAGE(IF((MONTH(GBP!$A$4:$A$14999)=$A97)*(YEAR(GBP!$A$4:$A$14999)=G$1),GBP!$B$4:$B$14997)),4),"-")} -> 10.2209 | H97: {=IFERROR(ROUND(AVERAGE(IF((MONTH(GBP!$A$4:$A$14999)=$A97)*(YEAR(GBP!$A$4:$A$14999)=H$1),GBP!$B$4:$B$14997)),4),"-")} -> 9.5437 | I97: {=IFERROR(ROUND(AVERAGE(IF((MONTH(GBP!$A$4:$A$14999)=$A97)*(YEAR(GBP!$A$4:$A$14999)=I$1),GBP!$B$4:$B$14997)),4),"-")} -> 10.6378 | J97: {=IFERROR(ROUND(AVERAGE(IF((MONTH(GBP!$A$4:$A$14999)=$A97)*(YEAR(GBP!$A$4:$A$14999)=J$1),GBP!$B$4:$B$14997)),4),"-")} -> 16.5575 | ... X97: {=IFERROR(ROUND(AVERAGE(IF((MONTH(GBP!$A$4:$A$14999)=$A97)*(YEAR(GBP!$A$4:$A$14999)=X$1),GBP!$B$4:$B$14997)),4),"-")} -> 19.7608
A98: 12 | B98: Dec | C98: {=IFERROR(ROUND(AVERAGE(IF((MONTH(GBP!$A$4:$A$14999)=$A98)*(YEAR(GBP!$A$4:$A$14999)=C$1),GBP!$B$4:$B$14997)),4),"-")} -> 9.0844 | D98: {=IFERROR(ROUND(AVERAGE(IF((MONTH(GBP!$A$4:$A$14999)=$A98)*(YEAR(GBP!$A$4:$A$14999)=D$1),GBP!$B$4:$B$14997)),4),"-")} -> 8.2258 | E98: {=IFERROR(ROUND(AVERAGE(IF((MONTH(GBP!$A$4:$A$14999)=$A98)*(YEAR(GBP!$A$4:$A$14999)=E$1),GBP!$B$4:$B$14997)),4),"-")} -> 8.1866 | F98: {=IFERROR(ROUND(AVERAGE(IF((MONTH(GBP!$A$4:$A$14999)=$A98)*(YEAR(GBP!$A$4:$A$14999)=F$1),GBP!$B$4:$B$14997)),4),"-")} -> 9.624 | G98: {=IFERROR(ROUND(AVERAGE(IF((MONTH(GBP!$A$4:$A$14999)=$A98)*(YEAR(GBP!$A$4:$A$14999)=G$1),GBP!$B$4:$B$14997)),4),"-")} -> 10.6021 | H98: {=IFERROR(ROUND(AVERAGE(IF((MONTH(GBP!$A$4:$A$14999)=$A98)*(YEAR(GBP!$A$4:$A$14999)=H$1),GBP!$B$4:$B$14997)),4),"-")} -> 9.6126 | I98: {=IFERROR(ROUND(AVERAGE(IF((MONTH(GBP!$A$4:$A$14999)=$A98)*(YEAR(GBP!$A$4:$A$14999)=I$1),GBP!$B$4:$B$14997)),4),"-")} -> 11.0772 | J98: {=IFERROR(ROUND(AVERAGE(IF((MONTH(GBP!$A$4:$A$14999)=$A98)*(YEAR(GBP!$A$4:$A$14999)=J$1),GBP!$B$4:$B$14997)),4),"-")} -> 16.1553 | ... X98: {=IFERROR(ROUND(AVERAGE(IF((MONTH(GBP!$A$4:$A$14999)=$A98)*(YEAR(GBP!$A$4:$A$14999)=X$1),GBP!$B$4:$B$14997)),4),"-")} -> 19.6069
A101: 1 | B101: Jan | C101: 8.769775 | D101: 9.4270143 | E101: 8.2356381 | F101: 8.1025524 | G101: 10.03406 | H101: 10.334245 | I101: 9.72551 | J101: 11.6411 | K101: 15.746986 | L101: 24.174824 | M101: 18.261446 | N101: 19.194708 | O101: 21.552271 | P101: 20.662724 | Q101: 19.8644 | R101: 21.1593 | S101: 18.8782 | T101: 16.6324 | U101: 18.9503 | V101: 18.0044 | W101: 18.3152 | X101: ='[1]£'!$IT$5 -> 29.265755
A102: 2 | B102: Feb | C102: 8.7340857 | D102: 9.36857 | E102: 8.22884 | F102: 8.07249 | G102: 10.264565 | H102: 10.370265 | I102: 9.61961 | J102: 11.888635 | K102: 15.715467 | L102: 24.207095 | M102: 18.040412 | N102: 19.553974 | O102: 22.115188 | P102: 19.5905 | Q102: 20.0533 | R102: 21.1796 | S102: 18.8677 | T102: 16.9125 | U102: 19.3066 | V102: 18.1937 | W102: 18.1713 | X102: ='[1]£'!$IU$5 -> 29.714095
A103: 3 | B103: Mar | C103: 8.7042696 | D103: 9.3132955 | E103: 8.200195 | F103: 8.2015571 | G103: 10.047761 | H103: 10.491068 | I103: 9.5965478 | J103: 11.8589 | K103: 15.991577 | L103: 23.454295 | M103: 17.557883 | N103: 19.577035 | O103: 22.167643 | P103: 17.8443 | Q103: 20.09 | R103: 20.3997 | S103: 18.8023 | T103: 16.7161 | U103: 19.2941 | V103: 18.473 | W103: 17.3257
A104: 4 | B104: Apr | C104: 8.7866316 | D104: 8.665665 | E104: 8.2433045 | F104: 8.5021333 | G104: 9.926519 | H104: 10.422471 | I104: 9.7047263 | J104: 12.13058 | K104: 15.785561 | L104: 22.102725 | M104: 18.027665 | N104: 19.69895 | O104: 22.409601 | P104: 18.0199 | Q104: 20.2293 | R104: 20.0777 | S104: 18.9603 | T104: 17.0987 | U104: 19.4478 | V104: 18.2717 | W104: 20.6965
A105: 5 | B105: May | C105: 8.6356864 | D105: 8.2087636 | E105: 8.1484571 | F105: 8.8772952 | G105: 9.8202714 | H105: 10.21393 | I105: 10.273795 | J105: 12.121968 | K105: 15.67062 | L105: 21.874211 | M105: 17.826644 | N105: 19.681984 | O105: 22.537352 | P105: 18.1086 | Q105: 20.4491 | R105: 20.5187 | S105: 19.2303 | T105: 17.4896 | U105: 18.6457 | V105: 17.994 | W105: 22.0559
A106: 6 | B106: Jun | C106: 8.4905667 | D106: 7.9278176 | E106: 8.0875056 | F106: 9.2155294 | G106: 10.055816 | H106: 10.00801 | I106: 10.140428 | J106: 12.396329 | K106: 15.675711 | L106: 22.458723 | M106: 18.281394 | N106: 19.482557 | O106: 22.362597 | P106: 18.339 | Q106: 20.5415 | R106: 20.3567 | S106: 18.8794 | T106: 17.3176 | U106: 18.3602 | V106: 17.7436 | W106: 22.531584
A107: 7 | B107: Jul | C107: 8.5175762 | D107: 7.9713273 | E107: 8.2331217 | F107: 9.0040174 | G107: 10.136041 | H107: 9.6434667 | I107: 10.132125 | J107: 12.950627 | K107: 15.845783 | L107: 22.040775 | M107: 18.949352 | N107: 19.561538 | O107: 22.570509 | P107: 18.1432 | Q107: 20.8388 | R107: 20.262 | S107: 17.5063 | T107: 17.6718 | U107: 18.276 | V107: 17.483 | W107: 22.844909
A108: 8 | B108: Aug | C108: 8.5226955 | D108: 7.9250727 | E108: 8.2568 | F108: 8.896155 | G108: 10.00941 | H108: 9.8526455 | I108: 10.409895 | J108: 13.390623 | K108: 15.16385 | L108: 21.449988 | M108: 19.472632 | N108: 19.888523 | O108: 20.398681 | P108: 18.5212 | Q108: 21.0408 | R108: 20.2664 | S108: 17.4631 | T108: 17.6732 | U108: 17.8753 | V108: 17.0466 | W108: 24.070581
A109: 9 | B109: Sep | C109: 8.3699333 | D109: 8.0237474 | E109: 8.3330952 | F109: 8.9476591 | G109: 9.8593045 | H109: 9.9523727 | I109: 10.374981 | J109: 14.01418 | K109: 14.564055 | L109: 19.016448 | M109: 19.367272 | N109: 19.451345 | O109: 20.849756 | P109: 18.978 | Q109: 21.2571 | R109: 19.925 | S109: 17.6118 | T109: 18.1165 | U109: 18.1254 | V109: 17.2608 | W109: 23.924277
A110: 10 | B110: Oct | C110: 8.5559364 | D110: 8.070787 | E110: 8.3425696 | F110: 9.2240913 | G110: 9.9344619 | H110: 9.7068476 | I110: 10.355859 | J110: 16.11227 | K110: 14.575739 | L110: 16.683091 | M110: 19.495011 | N110: 19.870927 | O110: 20.89433 | P110: 19.2843 | Q110: 22.0326 | R110: 19.9293 | S110: 16.5986 | T110: 18.0722 | U110: 18.147 | V110: 17.6669 | W110: ='[1]£'!$IQ$5 -> 24.556619
A111: 11 | B111: Nov | C111: 8.6078 | D111: 8.1076905 | E111: 8.261845 | F111: 9.28553 | G111: 10.220852 | H111: 9.5437238 | I111: 10.637843 | J111: 16.557533 | K111: 24.736699 | L111: 17.89401 | M111: 19.472388 | N111: 20.286512 | O111: 20.819698 | P111: 19.3449 | Q111: 22.1922 | R111: 19.8003 | S111: 16.7037 | T111: 18.1449 | U111: 18.0359 | V111: 18.0736 | W111: ='[1]£'!$IR$5 -> 27.37546
A112: 12 | B112: Dec | C112: 9.0844368 | D112: 8.225805 | E112: 8.1866211 | F112: 9.6239762 | G112: 10.602071 | H112: 9.61256 | I112: 11.077158 | J112: 16.1553 | K112: 24.599035 | L112: 18.195283 | M112: 19.066289 | N112: 20.841978 | O112: 20.979448 | P112: 19.673 | Q112: 21.9494 | R112: 19.5581 | S112: 16.7571 | T112: 18.4176 | U112: 17.6743 | V112: 18.3635 | W112: ='[1]£'!$IS$5 -> 28.858233
A115: 1 | B115: Jan | C115: =ROUND(C87-C101,4) -> 0 | D115: =ROUND(D87-D101,4) -> 0 | E115: =ROUND(E87-E101,4) -> 0 | F115: =ROUND(F87-F101,4) -> 0 | G115: =ROUND(G87-G101,4) -> 0 | H115: =ROUND(H87-H101,4) -> 0 | I115: =ROUND(I87-I101,4) -> 0 | J115: =ROUND(J87-J101,4) -> 0 | ... S115: =ROUND(S87-S101,4) -> 0 | T115: =IFERROR(ROUND(T87-T101,4),"-") -> 0 | U115: =IFERROR(ROUND(U87-U101,4),"-") -> 0 | V115: =IFERROR(ROUND(V87-V101,4),"-") -> 0 | W115: =IFERROR(ROUND(W87-W101,4),"-") -> 0 | X115: =IFERROR(ROUND(X87-X101,4),"-") -> 0
A116: 2 | B116: Feb | C116: =ROUND(C88-C102,4) -> 0 | D116: =ROUND(D88-D102,4) -> 0 | E116: =ROUND(E88-E102,4) -> 0 | F116: =ROUND(F88-F102,4) -> 0 | G116: =ROUND(G88-G102,4) -> 0 | H116: =ROUND(H88-H102,4) -> 0 | I116: =ROUND(I88-I102,4) -> 0 | J116: =ROUND(J88-J102,4) -> 0 | ... S116: =ROUND(S88-S102,4) -> 0 | T116: =IFERROR(ROUND(T88-T102,4),"-") -> 0 | U116: =IFERROR(ROUND(U88-U102,4),"-") -> 0 | V116: =IFERROR(ROUND(V88-V102,4),"-") -> 0 | W116: =IFERROR(ROUND(W88-W102,4),"-") -> 0 | X116: =IFERROR(ROUND(X88-X102,4),"-") -> 0
A117: 3 | B117: Mar | C117: =ROUND(C89-C103,4) -> 0 | D117: =ROUND(D89-D103,4) -> 0 | E117: =ROUND(E89-E103,4) -> 0 | F117: =ROUND(F89-F103,4) -> 0 | G117: =ROUND(G89-G103,4) -> 0 | H117: =ROUND(H89-H103,4) -> 0 | I117: =ROUND(I89-I103,4) -> 0 | J117: =ROUND(J89-J103,4) -> 0 | ... S117: =ROUND(S89-S103,4) -> 0 | T117: =IFERROR(ROUND(T89-T103,4),"-") -> 0 | U117: =IFERROR(ROUND(U89-U103,4),"-") -> 0 | V117: =IFERROR(ROUND(V89-V103,4),"-") -> 0 | W117: =IFERROR(ROUND(W89-W103,4),"-") -> 0 | X117: =IFERROR(ROUND(X89-X103,4),"-") -> 29.6318
...
