Workbook

Sheet Notes
B2: Notes on content of file
B4: Exchange Rates File includes: | C4: Worksheet Name | D4: Description | E4: Frequency | F4: Start of series | G4: As at:
C5: USD | D5: SCR/USD mid Exchange Rates, Published, Average of all authorised dealers | E5: Daily | F5: 36529 | G5: =MAX(USD!A:A) -> 46296
C6: EUR | D6: SCR/EUR mid Exchange Rates, Published, Average of all authorised dealers | E6: Daily | F6: 36529 | G6: =MAX(EUR!A:A) -> 46296
C7: GDP | D7: SCR/GBP mid Exchange Rates, Published, Average of all authorised dealers | E7: Daily | F7: 36529 | G7: =MAX(GBP!A:A) -> 46296
B10: Source: | C10: Central Bank of Seychelles
B11: Contact Details: | C11: statistics@cbs.sc
B12: Tel: | C12: +(248) 4282115, 4282117, 4282116, 4282114, 4282113
B14: Unlisted Dates: | C14: =HYPERLINK("https://www.cbs.sc/PublicHolidays.html","Weekends and Public Holidays(PH)") -> Weekends and Public Holidays(PH)

Sheet USD
A3: Date | B3: SCR/USD | D3: Change
A4: 36529 | B4: 5.3441
A5: 36530 | B5: 5.3125 | D5: =IFERROR(B5-B4," ") -> -0.0316
A6: 36531 | B6: 5.307 | D6: =IFERROR(B6-B5," ") -> -0.0055
A7: 36532 | B7: 5.3057 | D7: =IFERROR(B7-B6," ") -> -0.0013
A8: 36535 | B8: 5.3141 | D8: =IFERROR(B8-B7," ") -> 0.0084
A9: 36536 | B9: 5.3222 | D9: =IFERROR(B9-B8," ") -> 0.0081
A10: 36537 | B10: 5.3089 | D10: =IFERROR(B10-B9," ") -> -0.0133
A11: 36538 | B11: 5.3156 | D11: =IFERROR(B11-B10," ") -> 0.0067
A12: 36539 | B12: 5.317 | D12: =IFERROR(B12-B11," ") -> 0.0014
A13: 36542 | B13: 5.348 | D13: =IFERROR(B13-B12," ") -> 0.031
A14: 36543 | B14: 5.348 | D14: =IFERROR(B14-B13," ") -> 0
A15: 36544 | B15: 5.3477 | D15: =IFERROR(B15-B14," ") -> -0.0003
A16: 36545 | B16: 5.3475 | D16: =IFERROR(B16-B15," ") -> -0.0002
... A4500: 43098 | B4500: 13.8357 | D4500: =IFERROR(B4500-B4499," ") -> 0.0522
A4501: =5+A4500 -> 43103 | B4501: 13.7981 | D4501: =IFERROR(B4501-B4500," ") -> -0.0376
A4502: 43104 | B4502: 13.8245 | D4502: =IFERROR(B4502-B4501," ") -> 0.0264
A4503: 43105 | B4503: 13.8288 | D4503: =IFERROR(B4503-B4502," ") -> 0.0043
A4504: 43108 | B4504: 13.7891 | D4504: =IFERROR(B4504-B4503," ") -> -0.0397
A4505: 43109 | B4505: 13.7904 | D4505: =IFERROR(B4505-B4504," ") -> 0.0013
A4506: 43110 | B4506: 13.8157 | D4506: =IFERROR(B4506-B4505," ") -> 0.0253
A4507: 43111 | B4507: 13.8412 | D4507: =IFERROR(B4507-B4506," ") -> 0.0255
A4508: 43112 | B4508: 13.8267 | D4508: =IFERROR(B4508-B4507," ") -> -0.0145
A4509: 43115 | B4509: 13.8882 | D4509: =IFERROR(B4509-B4508," ") -> 0.0615
A4510: 43116 | B4510: 13.8039 | D4510: =IFERROR(B4510-B4509," ") -> -0.0843
A4511: 43117 | B4511: 13.8715 | D4511: =IFERROR(B4511-B4510," ") -> 0.0676
A4512: 43118 | B4512: 13.8321 | D4512: =IFERROR(B4512-B4511," ") -> -0.0394
A4513: 43119 | B4513: 13.8563 | D4513: =IFERROR(B4513-B4512," ") -> 0.0242
... A5921: 45177 | B5921: 14.046933 | D5921: =IFERROR(B5921-B5920," ") -> -0.015869548
A5922: =WORKDAY(A5921,1) -> 45180 | B5922: 14.041063 | D5922: =IFERROR(B5922-B5921," ") -> -0.0058706774
A5923: =WORKDAY(A5922,1) -> 45181 | B5923: 14.072812 | D5923: =IFERROR(B5923-B5922," ") -> 0.031749408
A5924: =WORKDAY(A5923,1) -> 45182 | B5924: 14.122308 | D5924: =IFERROR(B5924-B5923," ") -> 0.049495844
A5925: =WORKDAY(A5924,1) -> 45183 | B5925: 14.079904 | D5925: =IFERROR(B5925-B5924," ") -> -0.042404356
A5926: =WORKDAY(A5925,1) -> 45184 | B5926: 14.092461 | D5926: =IFERROR(B5926-B5925," ") -> 0.01255749
A5927: =WORKDAY(A5926,1) -> 45187 | B5927: 14.164765 | D5927: =IFERROR(B5927-B5926," ") -> 0.072303777
A5928: =WORKDAY(A5927,1) -> 45188 | B5928: 14.144306 | D5928: =IFERROR(B5928-B5927," ") -> -0.02045926
A5929: =WORKDAY(A5928,1) -> 45189 | B5929: 14.222307 | D5929: =IFERROR(B5929-B5928," ") -> 0.078000974
A5930: =WORKDAY(A5929,1) -> 45190 | B5930: 14.180058 | D5930: =IFERROR(B5930-B5929," ") -> -0.042248324
A5931: =WORKDAY(A5930,1) -> 45191 | B5931: 14.146247 | D5931: =IFERROR(B5931-B5930," ") -> -0.033811439
A5932: =WORKDAY(A5931,1) -> 45194 | B5932: 14.162732 | D5932: =IFERROR(B5932-B5931," ") -> 0.016485198
...

Sheet EUR
A3: Date | B3: SCR/EUR | D3: Change
A4: 36529 | B4: 5.427
A5: 36530 | B5: 5.4766 | D5: =IFERROR(B5-B4," ") -> 0.0496
A6: 36531 | B6: 5.4848 | D6: =IFERROR(B6-B5," ") -> 0.0082
A7: 36532 | B7: 5.4776 | D7: =IFERROR(B7-B6," ") -> -0.0072
A8: 36535 | B8: 5.4703 | D8: =IFERROR(B8-B7," ") -> -0.0073 | L8: =1200*3.8 -> 4560
A9: 36536 | B9: 5.4563 | D9: =IFERROR(B9-B8," ") -> -0.014
A10: 36537 | B10: 5.4798 | D10: =IFERROR(B10-B9," ") -> 0.0235
A11: 36538 | B11: 5.465 | D11: =IFERROR(B11-B10," ") -> -0.0148
A12: 36539 | B12: 5.4606 | D12: =IFERROR(B12-B11," ") -> -0.0044
A13: 36542 | B13: 5.4165 | D13: =IFERROR(B13-B12," ") -> -0.0441
A14: 36543 | B14: 5.4165 | D14: =IFERROR(B14-B13," ") -> 0
A15: 36544 | B15: 5.4124 | D15: =IFERROR(B15-B14," ") -> -0.0041
A16: 36545 | B16: 5.409 | D16: =IFERROR(B16-B15," ") -> -0.0034
A17: 36546 | B17: 5.4105 | D17: =IFERROR(B17-B16," ") -> 0.0015
A18: 36549 | B18: 5.3999 | D18: =IFERROR(B18-B17," ") -> -0.0106
A19: 36550 | B19: 5.3747 | D19: =IFERROR(B19-B18," ") -> -0.0252
A20: 36551 | B20: 5.386 | D20: =IFERROR(B20-B19," ") -> 0.0113
... A4500: 43098 | B4500: 16.5296 | D4500: =IFERROR(B4500-B4499," ") -> 0.1882
A4501: =5+A4500 -> 43103 | B4501: 16.5771 | D4501: =IFERROR(B4501-B4500," ") -> 0.0475
A4502: 43104 | B4502: 16.6278 | D4502: =IFERROR(B4502-B4501," ") -> 0.0507
A4503: 43105 | B4503: 16.6512 | D4503: =IFERROR(B4503-B4502," ") -> 0.0234
A4504: 43108 | B4504: 16.7539 | D4504: =IFERROR(B4504-B4503," ") -> 0.1027
A4505: 43109 | B4505: 16.6282 | D4505: =IFERROR(B4505-B4504," ") -> -0.1257
A4506: 43110 | B4506: 16.5424 | D4506: =IFERROR(B4506-B4505," ") -> -0.0858
A4507: 43111 | B4507: 16.5491 | D4507: =IFERROR(B4507-B4506," ") -> 0.0067
A4508: 43112 | B4508: 16.7202 | D4508: =IFERROR(B4508-B4507," ") -> 0.1711
A4509: 43115 | B4509: 16.8109 | D4509: =IFERROR(B4509-B4508," ") -> 0.0907
A4510: 43116 | B4510: 16.9575 | D4510: =IFERROR(B4510-B4509," ") -> 0.1466
A4511: 43117 | B4511: 16.8961 | D4511: =IFERROR(B4511-B4510," ") -> -0.0614
A4512: 43118 | B4512: 16.9428 | D4512: =IFERROR(B4512-B4511," ") -> 0.0467
A4513: 43119 | B4513: 16.9718 | D4513: =IFERROR(B4513-B4512," ") -> 0.029
... A5319: 44300 | B5319: 19.3928 | D5319: =IFERROR(B5319-B5318," ") -> -1.5039
A5320: =IFERROR(USD!A5320,"") -> 44301 | B5320: 19.2213 | D5320: =IFERROR(B5320-B5319," ") -> -0.1715
A5321: =IFERROR(USD!A5321,"") -> 44302 | B5321: 18.8222 | D5321: =IFERROR(B5321-B5320," ") -> -0.3991
A5322: 44305 | B5322: 19.0732 | D5322: =IFERROR(B5322-B5321," ") -> 0.251
A5323: 44306 | B5323: 19.2507 | D5323: =IFERROR(B5323-B5322," ") -> 0.1775
A5324: 44307 | B5324: 19.0841 | D5324: =IFERROR(B5324-B5323," ") -> -0.1666
A5325: 44308 | B5325: 18.6861 | D5325: =IFERROR(B5325-B5324," ") -> -0.398
A5326: 44309 | B5326: 18.2146 | D5326: =IFERROR(B5326-B5325," ") -> -0.4715
...

Sheet GBP
A3: Date | B3: SCR/GBP | D3: Change
A4: 36529 | B4: 8.6949
A5: 36530 | B5: 8.6965 | D5: =IFERROR(B5-B4," ") -> 0.0016
A6: 36531 | B6: 8.7115 | D6: =IFERROR(B6-B5," ") -> 0.015
A7: 36532 | B7: 8.7411 | D7: =IFERROR(B7-B6," ") -> 0.0296
A8: 36535 | B8: 8.7066 | D8: =IFERROR(B8-B7," ") -> -0.0345
A9: 36536 | B9: 8.7145 | D9: =IFERROR(B9-B8," ") -> 0.0079
A10: 36537 | B10: 8.7494 | D10: =IFERROR(B10-B9," ") -> 0.0349
A11: 36538 | B11: 8.7522 | D11: =IFERROR(B11-B10," ") -> 0.0028
A12: 36539 | B12: 8.7635 | D12: =IFERROR(B12-B11," ") -> 0.0113
A13: 36542 | B13: 8.7456 | D13: =IFERROR(B13-B12," ") -> -0.0179
A14: 36543 | B14: 8.7456 | D14: =IFERROR(B14-B13," ") -> 0
A15: 36544 | B15: 8.7595 | D15: =IFERROR(B15-B14," ") -> 0.0139
A16: 36545 | B16: 8.7903 | D16: =IFERROR(B16-B15," ") -> 0.0308
... A4500: 43098 | B4500: 18.4591 | D4500: =IFERROR(B4500-B4499," ") -> 0.0826
A4501: =5+A4500 -> 43103 | B4501: 18.6818 | D4501: =IFERROR(B4501-B4500," ") -> 0.2227
A4502: 43104 | B4502: 18.5809 | D4502: =IFERROR(B4502-B4501," ") -> -0.1009
A4503: 43105 | B4503: 18.5252 | D4503: =IFERROR(B4503-B4502," ") -> -0.0557
A4504: 43108 | B4504: 18.6143 | D4504: =IFERROR(B4504-B4503," ") -> 0.0891
A4505: 43109 | B4505: 18.6709 | D4505: =IFERROR(B4505-B4504," ") -> 0.0566
A4506: 43110 | B4506: 18.5257 | D4506: =IFERROR(B4506-B4505," ") -> -0.1452
A4507: 43111 | B4507: 18.7792 | D4507: =IFERROR(B4507-B4506," ") -> 0.2535
A4508: 43112 | B4508: 18.5442 | D4508: =IFERROR(B4508-B4507," ") -> -0.235
A4509: 43115 | B4509: 18.9931 | D4509: =IFERROR(B4509-B4508," ") -> 0.4489
A4510: 43116 | B4510: 18.9376 | D4510: =IFERROR(B4510-B4509," ") -> -0.0555
A4511: 43117 | B4511: 18.959 | D4511: =IFERROR(B4511-B4510," ") -> 0.0214
A4512: 43118 | B4512: 19.0732 | D4512: =IFERROR(B4512-B4511," ") -> 0.1142
A4513: 43119 | B4513: 19.0754 | D4513: =IFERROR(B4513-B4512," ") -> 0.0022
... A5067: 43929 | B5067: 19.9935 | D5067: =IFERROR(B5067-B5066," ") -> 1.7546
A5068: 43930 | B5068: - | D5068: =IFERROR(B5068-B5067,"- ") -> -
A5069: 43935 | B5069: 21.2703 | D5069: =IFERROR(B5069-B5068,"- ") -> -
A5070: 43936 | B5070: 21.5316 | D5070: =IFERROR(B5070-B5069,"- ") -> 0.2613
A5071: 43937 | B5071: 21.774 | D5071: =IFERROR(B5071-B5070,"- ") -> 0.2424
A5072: 43938 | B5072: 22.0821 | D5072: =IFERROR(B5072-B5071,"- ") -> 0.3081
A5073: 43941 | B5073: 22.0104 | D5073: =IFERROR(B5073-B5072,"- ") -> -0.0717
A5074: 43942 | B5074: 21.9436 | D5074: =IFERROR(B5074-B5073,"- ") -> -0.0668
A5075: 43943 | B5075: 21.7683 | D5075: =IFERROR(B5075-B5074,"- ") -> -0.1753
A5076: 43944 | B5076: 21.8217 | D5076: =IFERROR(B5076-B5075,"- ") -> 0.0534
A5077: 43945 | B5077: 22.1009 | D5077: =IFERROR(B5077-B5076,"- ") -> 0.2792
A5078: 43948 | B5078: 21.919 | D5078: =IFERROR(B5078-B5077,"- ") -> -0.1819
...

Sheet AVG
C1: 2000 | D1: 2001 | E1: 2002 | F1: 2003 | G1: 2004 | H1: 2005 | I1: 2006 | J1: 2007 | K1: 2008 | L1: 2009 | M1: 2010 | N1: 2011 | O1: 2012 | P1: 2013 | Q1: 2014 | R1: 2015 | S1: 2016 | T1: 2017 | U1: 2018 | V1: 2019 | W1: 2020 | X1: 2021
A3: 1 | B3: Jan | C3: {=IFERROR(ROUND(AVERAGE(IF((MONTH(USD!$A$4:$A$15000)=$A3)*(YEAR(USD!$A$4:$A$15000)=C$1),USD!$B$4:$B$15000)),4),"-")} -> 5.3434 | D3: {=IFERROR(ROUND(AVERAGE(IF((MONTH(USD!$A$4:$A$15000)=$A3)*(YEAR(USD!$A$4:$A$15000)=D$1),USD!$B$4:$B$15000)),4),"-")} -> 6.3772 | E3: {=IFERROR(ROUND(AVERAGE(IF((MONTH(USD!$A$4:$A$15000)=$A3)*(YEAR(USD!$A$4:$A$15000)=E$1),USD!$B$4:$B$15000)),4),"-")} -> 5.7458 | F3: {=IFERROR(ROUND(AVERAGE(IF((MONTH(USD!$A$4:$A$15000)=$A3)*(YEAR(USD!$A$4:$A$15000)=F$1),USD!$B$4:$B$15000)),4),"-")} -> 5.0136 | G3: {=IFERROR(ROUND(AVERAGE(IF((MONTH(USD!$A$4:$A$15000)=$A3)*(YEAR(USD!$A$4:$A$15000)=G$1),USD!$B$4:$B$15000)),4),"-")} -> 5.5 | H3: {=IFERROR(ROUND(AVERAGE(IF((MONTH(USD!$A$4:$A$15000)=$A3)*(YEAR(USD!$A$4:$A$15000)=H$1),USD!$B$4:$B$15000)),4),"-")} -> 5.5 | I3: {=IFERROR(ROUND(AVERAGE(IF((MONTH(USD!$A$4:$A$15000)=$A3)*(YEAR(USD!$A$4:$A$15000)=I$1),USD!$B$4:$B$15000)),4),"-")} -> 5.5 | J3: {=IFERROR(ROUND(AVERAGE(IF((MONTH(USD!$A$4:$A$15000)=$A3)*(YEAR(USD!$A$4:$A$15000)=J$1),USD!$B$4:$B$15000)),4),"-")} -> 5.9436 | ... X3: {=IFERROR(ROUND(AVERAGE(IF((MONTH(USD!$A$4:$A$15000)=$A3)*(YEAR(USD!$A$4:$A$15000)=X$1),USD!$B$4:$B$15000)),4),"-")} -> 21.6005
A4: 2 | B4: Feb | C4: {=IFERROR(ROUND(AVERAGE(IF((MONTH(USD!$A$4:$A$15000)=$A4)*(YEAR(USD!$A$4:$A$15000)=C$1),USD!$B$4:$B$15000)),4),"-")} -> 5.4556 | D4: {=IFERROR(ROUND(AVERAGE(IF((MONTH(USD!$A$4:$A$15000)=$A4)*(YEAR(USD!$A$4:$A$15000)=D$1),USD!$B$4:$B$15000)),4),"-")} -> 6.4499 | E4: {=IFERROR(ROUND(AVERAGE(IF((MONTH(USD!$A$4:$A$15000)=$A4)*(YEAR(USD!$A$4:$A$15000)=E$1),USD!$B$4:$B$15000)),4),"-")} -> 5.7829 | F4: {=IFERROR(ROUND(AVERAGE(IF((MONTH(USD!$A$4:$A$15000)=$A4)*(YEAR(USD!$A$4:$A$15000)=F$1),USD!$B$4:$B$15000)),4),"-")} -> 5.0096 | G4: {=IFERROR(ROUND(AVERAGE(IF((MONTH(USD!$A$4:$A$15000)=$A4)*(YEAR(USD!$A$4:$A$15000)=G$1),USD!$B$4:$B$15000)),4),"-")} -> 5.5 | H4: {=IFERROR(ROUND(AVERAGE(IF((MONTH(USD!$A$4:$A$15000)=$A4)*(YEAR(USD!$A$4:$A$15000)=H$1),USD!$B$4:$B$15000)),4),"-")} -> 5.5 | I4: {=IFERROR(ROUND(AVERAGE(IF((MONTH(USD!$A$4:$A$15000)=$A4)*(YEAR(USD!$A$4:$A$15000)=I$1),USD!$B$4:$B$15000)),4),"-")} -> 5.5 | J4: {=IFERROR(ROUND(AVERAGE(IF((MONTH(USD!$A$4:$A$15000)=$A4)*(YEAR(USD!$A$4:$A$15000)=J$1),USD!$B$4:$B$15000)),4),"-")} -> 6.0704 | ... X4: {=IFERROR(ROUND(AVERAGE(IF((MONTH(USD!$A$4:$A$15000)=$A4)*(YEAR(USD!$A$4:$A$15000)=X$1),USD!$B$4:$B$15000)),4),"-")} -> 21.5048
A5: 3 | B5: Mar | C5: {=IFERROR(ROUND(AVERAGE(IF((MONTH(USD!$A$4:$A$15000)=$A5)*(YEAR(USD!$A$4:$A$15000)=C$1),USD!$B$4:$B$15000)),4),"-")} -> 5.5113 | D5: {=IFERROR(ROUND(AVERAGE(IF((MONTH(USD!$A$4:$A$15000)=$A5)*(YEAR(USD!$A$4:$A$15000)=D$1),USD!$B$4:$B$15000)),4),"-")} -> 6.4465 | E5: {=IFERROR(ROUND(AVERAGE(IF((MONTH(USD!$A$4:$A$15000)=$A5)*(YEAR(USD!$A$4:$A$15000)=E$1),USD!$B$4:$B$15000)),4),"-")} -> 5.7652 | F5: {=IFERROR(ROUND(AVERAGE(IF((MONTH(USD!$A$4:$A$15000)=$A5)*(YEAR(USD!$A$4:$A$15000)=F$1),USD!$B$4:$B$15000)),4),"-")} -> 5.1845 | G5: {=IFERROR(ROUND(AVERAGE(IF((MONTH(USD!$A$4:$A$15000)=$A5)*(YEAR(USD!$A$4:$A$15000)=G$1),USD!$B$4:$B$15000)),4),"-")} -> 5.5 | H5: {=IFERROR(ROUND(AVERAGE(IF((MONTH(USD!$A$4:$A$15000)=$A5)*(YEAR(USD!$A$4:$A$15000)=H$1),USD!$B$4:$B$15000)),4),"-")} -> 5.5 | I5: {=IFERROR(ROUND(AVERAGE(IF((MONTH(USD!$A$4:$A$15000)=$A5)*(YEAR(USD!$A$4:$A$15000)=I$1),USD!$B$4:$B$15000)),4),"-")} -> 5.5 | J5: {=IFERROR(ROUND(AVERAGE(IF((MONTH(USD!$A$4:$A$15000)=$A5)*(YEAR(USD!$A$4:$A$15000)=J$1),USD!$B$4:$B$15000)),4),"-")} -> 6.0905 | ... X5: {=IFERROR(ROUND(AVERAGE(IF((MONTH(USD!$A$4:$A$15000)=$A5)*(YEAR(USD!$A$4:$A$15000)=X$1),USD!$B$4:$B$15000)),4),"-")} -> 21.4043
A6: 4 | B6: Apr | C6: {=IFERROR(ROUND(AVERAGE(IF((MONTH(USD!$A$4:$A$15000)=$A6)*(YEAR(USD!$A$4:$A$15000)=C$1),USD!$B$4:$B$15000)),4),"-")} -> 5.5459 | D6: {=IFERROR(ROUND(AVERAGE(IF((MONTH(USD!$A$4:$A$15000)=$A6)*(YEAR(USD!$A$4:$A$15000)=D$1),USD!$B$4:$B$15000)),4),"-")} -> 6.0435 | E6: {=IFERROR(ROUND(AVERAGE(IF((MONTH(USD!$A$4:$A$15000)=$A6)*(YEAR(USD!$A$4:$A$15000)=E$1),USD!$B$4:$B$15000)),4),"-")} -> 5.7188 | F6: {=IFERROR(ROUND(AVERAGE(IF((MONTH(USD!$A$4:$A$15000)=$A6)*(YEAR(USD!$A$4:$A$15000)=F$1),USD!$B$4:$B$15000)),4),"-")} -> 5.4037 | G6: {=IFERROR(ROUND(AVERAGE(IF((MONTH(USD!$A$4:$A$15000)=$A6)*(YEAR(USD!$A$4:$A$15000)=G$1),USD!$B$4:$B$15000)),4),"-")} -> 5.5 | H6: {=IFERROR(ROUND(AVERAGE(IF((MONTH(USD!$A$4:$A$15000)=$A6)*(YEAR(USD!$A$4:$A$15000)=H$1),USD!$B$4:$B$15000)),4),"-")} -> 5.5 | I6: {=IFERROR(ROUND(AVERAGE(IF((MONTH(USD!$A$4:$A$15000)=$A6)*(YEAR(USD!$A$4:$A$15000)=I$1),USD!$B$4:$B$15000)),4),"-")} -> 5.5 | J6: {=IFERROR(ROUND(AVERAGE(IF((MONTH(USD!$A$4:$A$15000)=$A6)*(YEAR(USD!$A$4:$A$15000)=J$1),USD!$B$4:$B$15000)),4),"-")} -> 6.1045 | ... X6: {=IFERROR(ROUND(AVERAGE(IF((MONTH(USD!$A$4:$A$15000)=$A6)*(YEAR(USD!$A$4:$A$15000)=X$1),USD!$B$4:$B$15000)),4),"-")} -> 16.959
A7: 5 | B7: May | C7: {=IFERROR(ROUND(AVERAGE(IF((MONTH(USD!$A$4:$A$15000)=$A7)*(YEAR(USD!$A$4:$A$15000)=C$1),USD!$B$4:$B$15000)),4),"-")} -> 5.7249 | D7: {=IFERROR(ROUND(AVERAGE(IF((MONTH(USD!$A$4:$A$15000)=$A7)*(YEAR(USD!$A$4:$A$15000)=D$1),USD!$B$4:$B$15000)),4),"-")} -> 5.7539 | E7: {=IFERROR(ROUND(AVERAGE(IF((MONTH(USD!$A$4:$A$15000)=$A7)*(YEAR(USD!$A$4:$A$15000)=E$1),USD!$B$4:$B$15000)),4),"-")} -> 5.5828 | F7: {=IFERROR(ROUND(AVERAGE(IF((MONTH(USD!$A$4:$A$15000)=$A7)*(YEAR(USD!$A$4:$A$15000)=F$1),USD!$B$4:$B$15000)),4),"-")} -> 5.4718 | G7: {=IFERROR(ROUND(AVERAGE(IF((MONTH(USD!$A$4:$A$15000)=$A7)*(YEAR(USD!$A$4:$A$15000)=G$1),USD!$B$4:$B$15000)),4),"-")} -> 5.5 | H7: {=IFERROR(ROUND(AVERAGE(IF((MONTH(USD!$A$4:$A$15000)=$A7)*(YEAR(USD!$A$4:$A$15000)=H$1),USD!$B$4:$B$15000)),4),"-")} -> 5.5 | I7: {=IFERROR(ROUND(AVERAGE(IF((MONTH(USD!$A$4:$A$15000)=$A7)*(YEAR(USD!$A$4:$A$15000)=I$1),USD!$B$4:$B$15000)),4),"-")} -> 5.5 | J7: {=IFERROR(ROUND(AVERAGE(IF((MONTH(USD!$A$4:$A$15000)=$A7)*(YEAR(USD!$A$4:$A$15000)=J$1),USD!$B$4:$B$15000)),4),"-")} -> 6.1087 | ... X7: {=IFERROR(ROUND(AVERAGE(IF((MONTH(USD!$A$4:$A$15000)=$A7)*(YEAR(USD!$A$4:$A$15000)=X$1),USD!$B$4:$B$15000)),4),"-")} -> 16.052
A8: 6 | B8: Jun | C8: {=IFERROR(ROUND(AVERAGE(IF((MONTH(USD!$A$4:$A$15000)=$A8)*(YEAR(USD!$A$4:$A$15000)=C$1),USD!$B$4:$B$15000)),4),"-")} -> 5.6282 | D8: {=IFERROR(ROUND(AVERAGE(IF((MONTH(USD!$A$4:$A$15000)=$A8)*(YEAR(USD!$A$4:$A$15000)=D$1),USD!$B$4:$B$15000)),4),"-")} -> 5.6542 | E8: {=IFERROR(ROUND(AVERAGE(IF((MONTH(USD!$A$4:$A$15000)=$A8)*(YEAR(USD!$A$4:$A$15000)=E$1),USD!$B$4:$B$15000)),4),"-")} -> 5.4585 | F8: {=IFERROR(ROUND(AVERAGE(IF((MONTH(USD!$A$4:$A$15000)=$A8)*(YEAR(USD!$A$4:$A$15000)=F$1),USD!$B$4:$B$15000)),4),"-")} -> 5.5518 | G8: {=IFERROR(ROUND(AVERAGE(IF((MONTH(USD!$A$4:$A$15000)=$A8)*(YEAR(USD!$A$4:$A$15000)=G$1),USD!$B$4:$B$15000)),4),"-")} -> 5.5 | H8: {=IFERROR(ROUND(AVERAGE(IF((MONTH(USD!$A$4:$A$15000)=$A8)*(YEAR(USD!$A$4:$A$15000)=H$1),USD!$B$4:$B$15000)),4),"-")} -> 5.5 | I8: {=IFERROR(ROUND(AVERAGE(IF((MONTH(USD!$A$4:$A$15000)=$A8)*(YEAR(USD!$A$4:$A$15000)=I$1),USD!$B$4:$B$15000)),4),"-")} -> 5.5 | J8: {=IFERROR(ROUND(AVERAGE(IF((MONTH(USD!$A$4:$A$15000)=$A8)*(YEAR(USD!$A$4:$A$15000)=J$1),USD!$B$4:$B$15000)),4),"-")} -> 6.2473 | ... X8: {=IFERROR(ROUND(AVERAGE(IF((MONTH(USD!$A$4:$A$15000)=$A8)*(YEAR(USD!$A$4:$A$15000)=X$1),USD!$B$4:$B$15000)),4),"-")} -> 16.4688
A9: 7 | B9: Jul | C9: {=IFERROR(ROUND(AVERAGE(IF((MONTH(USD!$A$4:$A$15000)=$A9)*(YEAR(USD!$A$4:$A$15000)=C$1),USD!$B$4:$B$15000)),4),"-")} -> 5.6462 | D9: {=IFERROR(ROUND(AVERAGE(IF((MONTH(USD!$A$4:$A$15000)=$A9)*(YEAR(USD!$A$4:$A$15000)=D$1),USD!$B$4:$B$15000)),4),"-")} -> 5.6394 | E9: {=IFERROR(ROUND(AVERAGE(IF((MONTH(USD!$A$4:$A$15000)=$A9)*(YEAR(USD!$A$4:$A$15000)=E$1),USD!$B$4:$B$15000)),4),"-")} -> 5.3009 | F9: {=IFERROR(ROUND(AVERAGE(IF((MONTH(USD!$A$4:$A$15000)=$A9)*(YEAR(USD!$A$4:$A$15000)=F$1),USD!$B$4:$B$15000)),4),"-")} -> 5.5374 | G9: {=IFERROR(ROUND(AVERAGE(IF((MONTH(USD!$A$4:$A$15000)=$A9)*(YEAR(USD!$A$4:$A$15000)=G$1),USD!$B$4:$B$15000)),4),"-")} -> 5.5 | H9: {=IFERROR(ROUND(AVERAGE(IF((MONTH(USD!$A$4:$A$15000)=$A9)*(YEAR(USD!$A$4:$A$15000)=H$1),USD!$B$4:$B$15000)),4),"-")} -> 5.5 | I9: {=IFERROR(ROUND(AVERAGE(IF((MONTH(USD!$A$4:$A$15000)=$A9)*(YEAR(USD!$A$4:$A$15000)=I$1),USD!$B$4:$B$15000)),4),"-")} -> 5.5 | J9: {=IFERROR(ROUND(AVERAGE(IF((MONTH(USD!$A$4:$A$15000)=$A9)*(YEAR(USD!$A$4:$A$15000)=J$1),USD!$B$4:$B$15000)),4),"-")} -> 6.3691 | ... X9: {=IFERROR(ROUND(AVERAGE(IF((MONTH(USD!$A$4:$A$15000)=$A9)*(YEAR(USD!$A$4:$A$15000)=X$1),USD!$B$4:$B$15000)),4),"-")} -> 15.818
A10: 8 | B10: Aug | C10: {=IFERROR(ROUND(AVERAGE(IF((MONTH(USD!$A$4:$A$15000)=$A10)*(YEAR(USD!$A$4:$A$15000)=C$1),USD!$B$4:$B$15000)),4),"-")} -> 5.7191 | D10: {=IFERROR(ROUND(AVERAGE(IF((MONTH(USD!$A$4:$A$15000)=$A10)*(YEAR(USD!$A$4:$A$15000)=D$1),USD!$B$4:$B$15000)),4),"-")} -> 5.5177 | E10: {=IFERROR(ROUND(AVERAGE(IF((MONTH(USD!$A$4:$A$15000)=$A10)*(YEAR(USD!$A$4:$A$15000)=E$1),USD!$B$4:$B$15000)),4),"-")} -> 5.3716 | F10: {=IFERROR(ROUND(AVERAGE(IF((MONTH(USD!$A$4:$A$15000)=$A10)*(YEAR(USD!$A$4:$A$15000)=F$1),USD!$B$4:$B$15000)),4),"-")} -> 5.5774 | G10: {=IFERROR(ROUND(AVERAGE(IF((MONTH(USD!$A$4:$A$15000)=$A10)*(YEAR(USD!$A$4:$A$15000)=G$1),USD!$B$4:$B$15000)),4),"-")} -> 5.5 | H10: {=IFERROR(ROUND(AVERAGE(IF((MONTH(USD!$A$4:$A$15000)=$A10)*(YEAR(USD!$A$4:$A$15000)=H$1),USD!$B$4:$B$15000)),4),"-")} -> 5.5 | I10: {=IFERROR(ROUND(AVERAGE(IF((MONTH(USD!$A$4:$A$15000)=$A10)*(YEAR(USD!$A$4:$A$15000)=I$1),USD!$B$4:$B$15000)),4),"-")} -> 5.5 | J10: {=IFERROR(ROUND(AVERAGE(IF((MONTH(USD!$A$4:$A$15000)=$A10)*(YEAR(USD!$A$4:$A$15000)=J$1),USD!$B$4:$B$15000)),4),"-")} -> 6.6547 | ... X10: {=IFERROR(ROUND(AVERAGE(IF((MONTH(USD!$A$4:$A$15000)=$A10)*(YEAR(USD!$A$4:$A$15000)=X$1),USD!$B$4:$B$15000)),4),"-")} -> 14.8506
A11: 9 | B11: Sep | C11: {=IFERROR(ROUND(AVERAGE(IF((MONTH(USD!$A$4:$A$15000)=$A11)*(YEAR(USD!$A$4:$A$15000)=C$1),USD!$B$4:$B$15000)),4),"-")} -> 5.8394 | D11: {=IFERROR(ROUND(AVERAGE(IF((MONTH(USD!$A$4:$A$15000)=$A11)*(YEAR(USD!$A$4:$A$15000)=D$1),USD!$B$4:$B$15000)),4),"-")} -> 5.4918 | E11: {=IFERROR(ROUND(AVERAGE(IF((MONTH(USD!$A$4:$A$15000)=$A11)*(YEAR(USD!$A$4:$A$15000)=E$1),USD!$B$4:$B$15000)),4),"-")} -> 5.3595 | F11: {=IFERROR(ROUND(AVERAGE(IF((MONTH(USD!$A$4:$A$15000)=$A11)*(YEAR(USD!$A$4:$A$15000)=F$1),USD!$B$4:$B$15000)),4),"-")} -> 5.5588 | G11: {=IFERROR(ROUND(AVERAGE(IF((MONTH(USD!$A$4:$A$15000)=$A11)*(YEAR(USD!$A$4:$A$15000)=G$1),USD!$B$4:$B$15000)),4),"-")} -> 5.5 | H11: {=IFERROR(ROUND(AVERAGE(IF((MONTH(USD!$A$4:$A$15000)=$A11)*(YEAR(USD!$A$4:$A$15000)=H$1),USD!$B$4:$B$15000)),4),"-")} -> 5.5 | I11: {=IFERROR(ROUND(AVERAGE(IF((MONTH(USD!$A$4:$A$15000)=$A11)*(YEAR(USD!$A$4:$A$15000)=I$1),USD!$B$4:$B$15000)),4),"-")} -> 5.5 | J11: {=IFERROR(ROUND(AVERAGE(IF((MONTH(USD!$A$4:$A$15000)=$A11)*(YEAR(USD!$A$4:$A$15000)=J$1),USD!$B$4:$B$15000)),4),"-")} -> 6.9473 | ... X11: {=IFERROR(ROUND(AVERAGE(IF((MONTH(USD!$A$4:$A$15000)=$A11)*(YEAR(USD!$A$4:$A$15000)=X$1),USD!$B$4:$B$15000)),4),"-")} -> 14.317
A12: 10 | B12: Oct | C12: {=IFERROR(ROUND(AVERAGE(IF((MONTH(USD!$A$4:$A$15000)=$A12)*(YEAR(USD!$A$4:$A$15000)=C$1),USD!$B$4:$B$15000)),4),"-")} -> 5.8942 | D12: {=IFERROR(ROUND(AVERAGE(IF((MONTH(USD!$A$4:$A$15000)=$A12)*(YEAR(USD!$A$4:$A$15000)=D$1),USD!$B$4:$B$15000)),4),"-")} -> 5.5603 | E12: {=IFERROR(ROUND(AVERAGE(IF((MONTH(USD!$A$4:$A$15000)=$A12)*(YEAR(USD!$A$4:$A$15000)=E$1),USD!$B$4:$B$15000)),4),"-")} -> 5.3544 | F12: {=IFERROR(ROUND(AVERAGE(IF((MONTH(USD!$A$4:$A$15000)=$A12)*(YEAR(USD!$A$4:$A$15000)=F$1),USD!$B$4:$B$15000)),4),"-")} -> 5.5 | G12: {=IFERROR(ROUND(AVERAGE(IF((MONTH(USD!$A$4:$A$15000)=$A12)*(YEAR(USD!$A$4:$A$15000)=G$1),USD!$B$4:$B$15000)),4),"-")} -> 5.5 | H12: {=IFERROR(ROUND(AVERAGE(IF((MONTH(USD!$A$4:$A$15000)=$A12)*(YEAR(USD!$A$4:$A$15000)=H$1),USD!$B$4:$B$15000)),4),"-")} -> 5.5 | I12: {=IFERROR(ROUND(AVERAGE(IF((MONTH(USD!$A$4:$A$15000)=$A12)*(YEAR(USD!$A$4:$A$15000)=I$1),USD!$B$4:$B$15000)),4),"-")} -> 5.5244 | J12: {=IFERROR(ROUND(AVERAGE(IF((MONTH(USD!$A$4:$A$15000)=$A12)*(YEAR(USD!$A$4:$A$15000)=J$1),USD!$B$4:$B$15000)),4),"-")} -> 7.8856 | ... X12: {=IFERROR(ROUND(AVERAGE(IF((MONTH(USD!$A$4:$A$15000)=$A12)*(YEAR(USD!$A$4:$A$15000)=X$1),USD!$B$4:$B$15000)),4),"-")} -> 14.6706
A13: 11 | B13: Nov | C13: {=IFERROR(ROUND(AVERAGE(IF((MONTH(USD!$A$4:$A$15000)=$A13)*(YEAR(USD!$A$4:$A$15000)=C$1),USD!$B$4:$B$15000)),4),"-")} -> 6.0397 | D13: {=IFERROR(ROUND(AVERAGE(IF((MONTH(USD!$A$4:$A$15000)=$A13)*(YEAR(USD!$A$4:$A$15000)=D$1),USD!$B$4:$B$15000)),4),"-")} -> 5.6417 | E13: {=IFERROR(ROUND(AVERAGE(IF((MONTH(USD!$A$4:$A$15000)=$A13)*(YEAR(USD!$A$4:$A$15000)=E$1),USD!$B$4:$B$15000)),4),"-")} -> 5.2542 | F13: {=IFERROR(ROUND(AVERAGE(IF((MONTH(USD!$A$4:$A$15000)=$A13)*(YEAR(USD!$A$4:$A$15000)=F$1),USD!$B$4:$B$15000)),4),"-")} -> 5.5 | G13: {=IFERROR(ROUND(AVERAGE(IF((MONTH(USD!$A$4:$A$15000)=$A13)*(YEAR(USD!$A$4:$A$15000)=G$1),USD!$B$4:$B$15000)),4),"-")} -> 5.5 | H13: {=IFERROR(ROUND(AVERAGE(IF((MONTH(USD!$A$4:$A$15000)=$A13)*(YEAR(USD!$A$4:$A$15000)=H$1),USD!$B$4:$B$15000)),4),"-")} -> 5.5 | I13: {=IFERROR(ROUND(AVERAGE(IF((MONTH(USD!$A$4:$A$15000)=$A13)*(YEAR(USD!$A$4:$A$15000)=I$1),USD!$B$4:$B$15000)),4),"-")} -> 5.5699 | J13: {=IFERROR(ROUND(AVERAGE(IF((MONTH(USD!$A$4:$A$15000)=$A13)*(YEAR(USD!$A$4:$A$15000)=J$1),USD!$B$4:$B$15000)),4),"-")} -> 7.992 | ... X13: {=IFERROR(ROUND(AVERAGE(IF((MONTH(USD!$A$4:$A$15000)=$A13)*(YEAR(USD!$A$4:$A$15000)=X$1),USD!$B$4:$B$15000)),4),"-")} -> 14.6893
A14: 12 | B14: Dec | C14: {=IFERROR(ROUND(AVERAGE(IF((MONTH(USD!$A$4:$A$15000)=$A14)*(YEAR(USD!$A$4:$A$15000)=C$1),USD!$B$4:$B$15000)),4),"-")} -> 6.2236 | D14: {=IFERROR(ROUND(AVERAGE(IF((MONTH(USD!$A$4:$A$15000)=$A14)*(YEAR(USD!$A$4:$A$15000)=D$1),USD!$B$4:$B$15000)),4),"-")} -> 5.7144 | E14: {=IFERROR(ROUND(AVERAGE(IF((MONTH(USD!$A$4:$A$15000)=$A14)*(YEAR(USD!$A$4:$A$15000)=E$1),USD!$B$4:$B$15000)),4),"-")} -> 5.1658 | F14: {=IFERROR(ROUND(AVERAGE(IF((MONTH(USD!$A$4:$A$15000)=$A14)*(YEAR(USD!$A$4:$A$15000)=F$1),USD!$B$4:$B$15000)),4),"-")} -> 5.5 | G14: {=IFERROR(ROUND(AVERAGE(IF((MONTH(USD!$A$4:$A$15000)=$A14)*(YEAR(USD!$A$4:$A$15000)=G$1),USD!$B$4:$B$15000)),4),"-")} -> 5.5 | H14: {=IFERROR(ROUND(AVERAGE(IF((MONTH(USD!$A$4:$A$15000)=$A14)*(YEAR(USD!$A$4:$A$15000)=H$1),USD!$B$4:$B$15000)),4),"-")} -> 5.5 | I14: {=IFERROR(ROUND(AVERAGE(IF((MONTH(USD!$A$4:$A$15000)=$A14)*(YEAR(USD!$A$4:$A$15000)=I$1),USD!$B$4:$B$15000)),4),"-")} -> 5.642 | J14: {=IFERROR(ROUND(AVERAGE(IF((MONTH(USD!$A$4:$A$15000)=$A14)*(YEAR(USD!$A$4:$A$15000)=J$1),USD!$B$4:$B$15000)),4),"-")} -> 7.999 | ... X14: {=IFERROR(ROUND(AVERAGE(IF((MONTH(USD!$A$4:$A$15000)=$A14)*(YEAR(USD!$A$4:$A$15000)=X$1),USD!$B$4:$B$15000)),4),"-")} -> 14.6978
A17: 1 | B17: Jan | C17: 5.343405 | D17: 6.3772 | E17: 5.7457857 | F17: 5.0136333 | G17: 5.5 | H17: 5.5 | I17: 5.5 | J17: 5.9436333 | K17: 7.9994952 | L17: 16.726637 | M17: 11.262623 | N17: 12.237444 | O17: 13.944984 | P17: 12.937974 | Q17: 12.0835 | R17: 14.0084 | S17: 13.1168 | T17: 13.5235 | U17: 13.8367 | V17: 14.0279 | W17: 14.0452 | X17: ='[1]US$'!$IT$5 -> 21.600485
A18: 2 | B18: Feb | C18: 5.4555619 | D18: 6.44992 | E18: 5.78294 | F18: 5.009585 | G18: 5.5 | H18: 5.5 | I18: 5.5 | J18: 6.07038 | K18: 7.9993619 | L18: 16.765983 | M18: 11.502998 | N18: 12.23735 | O18: 14.053044 | P18: 12.5471 | Q18: 12.1647 | R18: 13.8247 | S18: 13.1593 | T18: 13.5588 | U18: 13.8656 | V18: 14.0387 | W18: 14.0547 | X18: ='[1]US$'!$IU$5 -> 21.504785
A19: 3 | B19: Mar | C19: 5.5112522 | D19: 6.4464682 | E19: 5.76523 | F19: 5.1844619 | G19: 5.5 | H19: 5.5 | I19: 5.5 | J19: 6.0904818 | K19: 7.9859367 | L19: 16.516587 | M19: 11.634383 | N19: 12.190405 | O19: 14.056193 | P19: 11.756 | Q19: 12.1546 | R19: 13.5893 | S19: 13.264 | T19: 13.5817 | U19: 13.8634 | V19: 14.0202 | W19: 14.0727
A20: 4 | B20: Apr | C20: 5.5459211 | D20: 6.043545 | E20: 5.7188455 | F20: 5.4037048 | G20: 5.5 | H20: 5.5 | I20: 5.5 | J20: 6.104475 | K20: 7.9660539 | L20: 15.074972 | M20: 11.790692 | N20: 12.152655 | O20: 14.080688 | P20: 11.7056 | Q20: 12.1862 | R20: 13.4871 | S20: 13.3036 | T20: 13.6088 | U20: 13.8677 | V20: 14.0297 | W20: 16.7281
A21: 5 | B21: May | C21: 5.7249318 | D21: 5.75385 | E21: 5.582781 | F21: 5.4717905 | G21: 5.5 | H21: 5.5 | I21: 5.5 | J21: 6.1086864 | K21: 7.974875 | L21: 14.180581 | M21: 12.128147 | N21: 12.058746 | O21: 14.206419 | P21: 11.7791 | Q21: 12.1877 | R21: 13.3288 | S21: 13.3094 | T21: 13.607 | U21: 13.8736 | V21: 14.0084 | W21: 18.041975
A22: 6 | B22: Jun | C22: 5.6281778 | D22: 5.6542235 | E22: 5.4585 | F22: 5.5517941 | G22: 5.5 | H22: 5.5 | I22: 5.5 | J22: 6.2473312 | K22: 7.9749778 | L22: 13.748042 | M22: 12.412681 | N22: 12.049805 | O22: 14.418237 | P22: 11.8557 | Q22: 12.2443 | R22: 13.1283 | S22: 13.307 | T22: 13.6097 | U22: 13.8832 | V22: 14.0009 | W22: 18.074511
A23: 7 | B23: Jul | C23: 5.6461905 | D23: 5.6394318 | E23: 5.3008826 | F23: 5.5373783 | G23: 5.5 | H23: 5.5 | I23: 5.5 | J23: 6.3691455 | K23: 7.9650261 | L23: 13.487204 | M23: 12.444538 | N23: 12.164158 | O23: 14.524628 | P23: 11.9675 | Q23: 12.2617 | R23: 13.0421 | S23: 13.3206 | T23: 13.6572 | U23: 13.8874 | V23: 14.0094 | W23: 18.173226
A24: 8 | B24: Aug | C24: 5.7190773 | D24: 5.5177091 | E24: 5.3715571 | F24: 5.57739 | G24: 5.5 | H24: 5.5 | I24: 5.5 | J24: 6.6546909 | K24: 8.00098 | L24: 12.944028 | M24: 12.445367 | N24: 12.223131 | O24: 13.009341 | P24: 11.9855 | Q24: 12.6699 | R24: 13.0529 | S24: 13.3424 | T24: 13.687 | U24: 13.9198 | V24: 14.0299 | W24: 18.361805
A25: 9 | B25: Sep | C25: 5.8393857 | D25: 5.4918053 | E25: 5.359519 | F25: 5.5588045 | G25: 5.5 | H25: 5.5 | I25: 5.5 | J25: 6.947255 | K25: 8.0905773 | L25: 11.540072 | M25: 12.423093 | N25: 12.348988 | O25: 12.994764 | P25: 12.0095 | Q25: 13.0598 | R25: 13.061 | S25: 13.3816 | T25: 13.7049 | U25: 13.9406 | V25: 14.0657 | W25: 18.495414
A26: 10 | B26: Oct | C26: 5.8942409 | D26: 5.560313 | E26: 5.3544174 | F26: 5.5 | G26: 5.5 | H26: 5.5 | I26: 5.5243909 | J26: 7.8856348 | K26: 8.6067087 | L26: 10.334575 | M26: 12.294964 | N26: 12.60162 | O26: 13.054935 | P26: 12.0386 | Q26: 13.7813 | R26: 13.0237 | S26: 13.3998 | T26: 13.7106 | U26: 13.9702 | V26: 14.0616 | W26: ='[1]US$'!$IQ$5 -> 18.973824
A27: 11 | B27: Nov | C27: 6.0397238 | D27: 5.6417095 | E27: 5.254245 | F27: 5.5 | G27: 5.5 | H27: 5.5 | I27: 5.5699048 | J27: 7.991981 | K27: 16.180301 | L27: 10.822811 | M27: 12.237938 | N27: 12.868883 | O27: 13.069881 | P27: 12.0553 | Q27: 14.0737 | R27: 13.1078 | S27: 13.4358 | T27: 13.7453 | U27: 13.9951 | V27: 14.0615 | W27: ='[1]US$'!$IR$5 -> 20.84654
A28: 12 | B28: Dec | C28: 6.2235737 | D28: 5.71443 | E28: 5.1657789 | F28: 5.5 | G28: 5.5 | H28: 5.5 | I28: 5.6419737 | J28: 7.999035 | K28: 16.746919 | L28: 11.176858 | M28: 12.235623 | N28: 13.439198 | O28: 13.03526 | P28: 12.0619 | Q28: 14.0951 | R28: 13.1129 | S28: 13.4891 | T28: 13.7796 | U28: 14.03 | V28: 14.0451 | W28: ='[1]US$'!$IS$5 -> 21.530243
A31: 1 | B31: Jan | C31: =ROUND(C3-C17,4) -> 0 | D31: =ROUND(D3-D17,4) -> 0 | E31: =ROUND(E3-E17,4) -> 0 | F31: =ROUND(F3-F17,4) -> 0 | G31: =ROUND(G3-G17,4) -> 0 | H31: =ROUND(H3-H17,4) -> 0 | I31: =ROUND(I3-I17,4) -> 0 | J31: =ROUND(J3-J17,4) -> 0 | ... S31: =ROUND(S3-S17,4) -> 0 | T31: =IFERROR(ROUND(T3-T17,4),"-") -> 0 | U31: =IFERROR(ROUND(U3-U17,4),"-") -> 0 | V31: =IFERROR(ROUND(V3-V17,4),"-") -> 0 | W31: =IFERROR(ROUND(W3-W17,4),"-") -> 0 | X31: =IFERROR(ROUND(X3-X17,4),"-") -> 0
A32: 2 | B32: Feb | C32: =ROUND(C4-C18,4) -> 0 | D32: =ROUND(D4-D18,4) -> 0 | E32: =ROUND(E4-E18,4) -> 0 | F32: =ROUND(F4-F18,4) -> 0 | G32: =ROUND(G4-G18,4) -> 0 | H32: =ROUND(H4-H18,4) -> 0 | I32: =ROUND(I4-I18,4) -> 0 | J32: =ROUND(J4-J18,4) -> 0 | ... S32: =ROUND(S4-S18,4) -> 0 | T32: =IFERROR(ROUND(T4-T18,4),"-") -> 0 | U32: =IFERROR(ROUND(U4-U18,4),"-") -> 0 | V32: =IFERROR(ROUND(V4-V18,4),"-") -> 0 | W32: =IFERROR(ROUND(W4-W18,4),"-") -> 0 | X32: =IFERROR(ROUND(X4-X18,4),"-") -> 0
A33: 3 | B33: Mar | C33: =ROUND(C5-C19,4) -> 0 | D33: =ROUND(D5-D19,4) -> 0 | E33: =ROUND(E5-E19,4) -> 0 | F33: =ROUND(F5-F19,4) -> 0 | G33: =ROUND(G5-G19,4) -> 0 | H33: =ROUND(H5-H19,4) -> 0 | I33: =ROUND(I5-I19,4) -> 0 | J33: =ROUND(J5-J19,4) -> 0 | ... S33: =ROUND(S5-S19,4) -> 0 | T33: =IFERROR(ROUND(T5-T19,4),"-") -> 0 | U33: =IFERROR(ROUND(U5-U19,4),"-") -> 0 | V33: =IFERROR(ROUND(V5-V19,4),"-") -> 0 | W33: =IFERROR(ROUND(W5-W19,4),"-") -> 0 | X33: =IFERROR(ROUND(X5-X19,4),"-") -> 21.4043
A34: 4 | B34: Apr | C34: =ROUND(C6-C20,4) -> 0 | D34: =ROUND(D6-D20,4) -> 0 | E34: =ROUND(E6-E20,4) -> 0 | F34: =ROUND(F6-F20,4) -> 0 | G34: =ROUND(G6-G20,4) -> 0 | H34: =ROUND(H6-H20,4) -> 0 | I34: =ROUND(I6-I20,4) -> 0 | J34: =ROUND(J6-J20,4) -> 0 | ... S34: =ROUND(S6-S20,4) -> 0 | T34: =IFERROR(ROUND(T6-T20,4),"-") -> 0 | U34: =IFERROR(ROUND(U6-U20,4),"-") -> 0 | V34: =IFERROR(ROUND(V6-V20,4),"-") -> 0 | W34: =IFERROR(ROUND(W6-W20,4),"-") -> 0 | X34: =IFERROR(ROUND(X6-X20,4),"-") -> 16.959
A35: 5 | B35: May | C35: =ROUND(C7-C21,4) -> 0 | D35: =ROUND(D7-D21,4) -> 0 | E35: =ROUND(E7-E21,4) -> 0 | F35: =ROUND(F7-F21,4) -> 0 | G35: =ROUND(G7-G21,4) -> 0 | H35: =ROUND(H7-H21,4) -> 0 | I35: =ROUND(I7-I21,4) -> 0 | J35: =ROUND(J7-J21,4) -> 0 | ... S35: =ROUND(S7-S21,4) -> 0 | T35: =IFERROR(ROUND(T7-T21,4),"-") -> 0 | U35: =IFERROR(ROUND(U7-U21,4),"-") -> 0 | V35: =IFERROR(ROUND(V7-V21,4),"-") -> 0 | W35: =IFERROR(ROUND(W7-W21,4),"-") -> 0 | X35: =IFERROR(ROUND(X7-X21,4),"-") -> 16.052
A36: 6 | B36: Jun | C36: =ROUND(C8-C22,4) -> 0 | D36: =ROUND(D8-D22,4) -> 0 | E36: =ROUND(E8-E22,4) -> 0 | F36: =ROUND(F8-F22,4) -> 0 | G36: =ROUND(G8-G22,4) -> 0 | H36: =ROUND(H8-H22,4) -> 0 | I36: =ROUND(I8-I22,4) -> 0 | J36: =ROUND(J8-J22,4) -> 0 | ... S36: =ROUND(S8-S22,4) -> 0 | T36: =IFERROR(ROUND(T8-T22,4),"-") -> 0 | U36: =IFERROR(ROUND(U8-U22,4),"-") -> 0 | V36: =IFERROR(ROUND(V8-V22,4),"-") -> 0 | W36: =IFERROR(ROUND(W8-W22,4),"-") -> 0 | X36: =IFERROR(ROUND(X8-X22,4),"-") -> 16.4688
A37: 7 | B37: Jul | C37: =ROUND(C9-C23,4) -> 0 | D37: =ROUND(D9-D23,4) -> 0 | E37: =ROUND(E9-E23,4) -> 0 | F37: =ROUND(F9-F23,4) -> 0 | G37: =ROUND(G9-G23,4) -> 0 | H37: =ROUND(H9-H23,4) -> 0 | I37: =ROUND(I9-I23,4) -> 0 | J37: =ROUND(J9-J23,4) -> 0 | ... S37: =ROUND(S9-S23,4) -> 0 | T37: =IFERROR(ROUND(T9-T23,4),"-") -> 0 | U37: =IFERROR(ROUND(U9-U23,4),"-") -> 0 | V37: =IFERROR(ROUND(V9-V23,4),"-") -> 0 | W37: =IFERROR(ROUND(W9-W23,4),"-") -> 0 | X37: =IFERROR(ROUND(X9-X23,4),"-") -> 15.818
A38: 8 | B38: Aug | C38: =ROUND(C10-C24,4) -> 0 | D38: =ROUND(D10-D24,4) -> 0 | E38: =ROUND(E10-E24,4) -> 0 | F38: =ROUND(F10-F24,4) -> 0 | G38: =ROUND(G10-G24,4) -> 0 | H38: =ROUND(H10-H24,4) -> 0 | I38: =ROUND(I10-I24,4) -> 0 | J38: =ROUND(J10-J24,4) -> 0 | ... S38: =ROUND(S10-S24,4) -> 0 | T38: =IFERROR(ROUND(T10-T24,4),"-") -> 0 | U38: =IFERROR(ROUND(U10-U24,4),"-") -> 0 | V38: =IFERROR(ROUND(V10-V24,4),"-") -> 0 | W38: =IFERROR(ROUND(W10-W24,4),"-") -> 0 | X38: =IFERROR(ROUND(X10-X24,4),"-") -> 14.8506
A39: 9 | B39: Sep | C39: =ROUND(C11-C25,4) -> 0 | D39: =ROUND(D11-D25,4) -> 0 | E39: =ROUND(E11-E25,4) -> 0 | F39: =ROUND(F11-F25,4) -> 0 | G39: =ROUND(G11-G25,4) -> 0 | H39: =ROUND(H11-H25,4) -> 0 | I39: =ROUND(I11-I25,4) -> 0 | J39: =ROUND(J11-J25,4) -> 0 | ... S39: =ROUND(S11-S25,4) -> 0 | T39: =IFERROR(ROUND(T11-T25,4),"-") -> 0 | U39: =IFERROR(ROUND(U11-U25,4),"-") -> 0 | V39: =IFERROR(ROUND(V11-V25,4),"-") -> 0 | W39: =IFERROR(ROUND(W11-W25,4),"-") -> 0 | X39: =IFERROR(ROUND(X11-X25,4),"-") -> 14.317
A40: 10 | B40: Oct | C40: =ROUND(C12-C26,4) -> 0 | D40: =ROUND(D12-D26,4) -> 0 | E40: =ROUND(E12-E26,4) -> 0 | F40: =ROUND(F12-F26,4) -> 0 | G40: =ROUND(G12-G26,4) -> 0 | H40: =ROUND(H12-H26,4) -> 0 | I40: =ROUND(I12-I26,4) -> 0 | J40: =ROUND(J12-J26,4) -> 0 | ... S40: =ROUND(S12-S26,4) -> 0 | T40: =IFERROR(ROUND(T12-T26,4),"-") -> 0 | U40: =IFERROR(ROUND(U12-U26,4),"-") -> 0 | V40: =IFERROR(ROUND(V12-V26,4),"-") -> 0 | W40: =IFERROR(ROUND(W12-W26,4),"-") -> 0 | X40: =IFERROR(ROUND(X12-X26,4),"-") -> 14.6706
A41: 11 | B41: Nov | C41: =ROUND(C13-C27,4) -> 0 | D41: =ROUND(D13-D27,4) -> 0 | E41: =ROUND(E13-E27,4) -> 0 | F41: =ROUND(F13-F27,4) -> 0 | G41: =ROUND(G13-G27,4) -> 0 | H41: =ROUND(H13-H27,4) -> 0 | I41: =ROUND(I13-I27,4) -> 0 | J41: =ROUND(J13-J27,4) -> 0 | ... S41: =ROUND(S13-S27,4) -> 0 | T41: =IFERROR(ROUND(T13-T27,4),"-") -> 0 | U41: =IFERROR(ROUND(U13-U27,4),"-") -> 0 | V41: =IFERROR(ROUND(V13-V27,4),"-") -> 0 | W41: =IFERROR(ROUND(W13-W27,4),"-") -> 0 | X41: =IFERROR(ROUND(X13-X27,4),"-") -> 14.6893
A42: 12 | B42: Dec | C42: =ROUND(C14-C28,4) -> 0 | D42: =ROUND(D14-D28,4) -> 0 | E42: =ROUND(E14-E28,4) -> 0 | F42: =ROUND(F14-F28,4) -> 0 | G42: =ROUND(G14-G28,4) -> 0 | H42: =ROUND(H14-H28,4) -> 0 | I42: =ROUND(I14-I28,4) -> 0 | J42: =ROUND(J14-J28,4) -> 0 | ... S42: =ROUND(S14-S28,4) -> 0 | T42: =IFERROR(ROUND(T14-T28,4),"-") -> 0 | U42: =IFERROR(ROUND(U14-U28,4),"-") -> 0 | V42: =IFERROR(ROUND(V14-V28,4),"-") -> 0 | W42: =IFERROR(ROUND(W14-W28,4),"-") -> 0 | X42: =IFERROR(ROUND(X14-X28,4),"-") -> 14.6978
A45: 1 | B45: Jan | C45: {=IFERROR(ROUND(AVERAGE(IF((MONTH(EUR!$A$4:$A$15000)=$A45)*(YEAR(EUR!$A$4:$A$15000)=C$1),EUR!$B$4:$B$15000)),4),"-")} -> 5.4229 | D45: {=IFERROR(ROUND(AVERAGE(IF((MONTH(EUR!$A$4:$A$15000)=$A45)*(YEAR(EUR!$A$4:$A$15000)=D$1),EUR!$B$4:$B$15000)),4),"-")} -> 5.9843 | E45: {=IFERROR(ROUND(AVERAGE(IF((MONTH(EUR!$A$4:$A$15000)=$A45)*(YEAR(EUR!$A$4:$A$15000)=E$1),EUR!$B$4:$B$15000)),4),"-")} -> 5.0809 | F45: {=IFERROR(ROUND(AVERAGE(IF((MONTH(EUR!$A$4:$A$15000)=$A45)*(YEAR(EUR!$A$4:$A$15000)=F$1),EUR!$B$4:$B$15000)),4),"-")} -> 5.3232 | G45: {=IFERROR(ROUND(AVERAGE(IF((MONTH(EUR!$A$4:$A$15000)=$A45)*(YEAR(EUR!$A$4:$A$15000)=G$1),EUR!$B$4:$B$15000)),4),"-")} -> 6.9495 | H45: {=IFERROR(ROUND(AVERAGE(IF((MONTH(EUR!$A$4:$A$15000)=$A45)*(YEAR(EUR!$A$4:$A$15000)=H$1),EUR!$B$4:$B$15000)),4),"-")} -> 7.2191 | I45: {=IFERROR(ROUND(AVERAGE(IF((MONTH(EUR!$A$4:$A$15000)=$A45)*(YEAR(EUR!$A$4:$A$15000)=I$1),EUR!$B$4:$B$15000)),4),"-")} -> 6.6687 | J45: {=IFERROR(ROUND(AVERAGE(IF((MONTH(EUR!$A$4:$A$15000)=$A45)*(YEAR(EUR!$A$4:$A$15000)=J$1),EUR!$B$4:$B$15000)),4),"-")} -> 7.7201 | ... X45: {=IFERROR(ROUND(AVERAGE(IF((MONTH(EUR!$A$4:$A$15000)=$A45)*(YEAR(EUR!$A$4:$A$15000)=X$1),EUR!$B$4:$B$15000)),4),"-")} -> 26.2832
A46: 2 | B46: Feb | C46: {=IFERROR(ROUND(AVERAGE(IF((MONTH(EUR!$A$4:$A$15000)=$A46)*(YEAR(EUR!$A$4:$A$15000)=C$1),EUR!$B$4:$B$15000)),4),"-")} -> 5.3626 | D46: {=IFERROR(ROUND(AVERAGE(IF((MONTH(EUR!$A$4:$A$15000)=$A46)*(YEAR(EUR!$A$4:$A$15000)=D$1),EUR!$B$4:$B$15000)),4),"-")} -> 5.9383 | E46: {=IFERROR(ROUND(AVERAGE(IF((MONTH(EUR!$A$4:$A$15000)=$A46)*(YEAR(EUR!$A$4:$A$15000)=E$1),EUR!$B$4:$B$15000)),4),"-")} -> 5.0336 | F46: {=IFERROR(ROUND(AVERAGE(IF((MONTH(EUR!$A$4:$A$15000)=$A46)*(YEAR(EUR!$A$4:$A$15000)=F$1),EUR!$B$4:$B$15000)),4),"-")} -> 5.4019 | G46: {=IFERROR(ROUND(AVERAGE(IF((MONTH(EUR!$A$4:$A$15000)=$A46)*(YEAR(EUR!$A$4:$A$15000)=G$1),EUR!$B$4:$B$15000)),4),"-")} -> 6.9556 | H46: {=IFERROR(ROUND(AVERAGE(IF((MONTH(EUR!$A$4:$A$15000)=$A46)*(YEAR(EUR!$A$4:$A$15000)=H$1),EUR!$B$4:$B$15000)),4),"-")} -> 7.1527 | I46: {=IFERROR(ROUND(AVERAGE(IF((MONTH(EUR!$A$4:$A$15000)=$A46)*(YEAR(EUR!$A$4:$A$15000)=I$1),EUR!$B$4:$B$15000)),4),"-")} -> 6.5724 | J46: {=IFERROR(ROUND(AVERAGE(IF((MONTH(EUR!$A$4:$A$15000)=$A46)*(YEAR(EUR!$A$4:$A$15000)=J$1),EUR!$B$4:$B$15000)),4),"-")} -> 7.9351 | ... X46: {=IFERROR(ROUND(AVERAGE(IF((MONTH(EUR!$A$4:$A$15000)=$A46)*(YEAR(EUR!$A$4:$A$15000)=X$1),EUR!$B$4:$B$15000)),4),"-")} -> 26.1059
A47: 3 | B47: Mar | C47: {=IFERROR(ROUND(AVERAGE(IF((MONTH(EUR!$A$4:$A$15000)=$A47)*(YEAR(EUR!$A$4:$A$15000)=C$1),EUR!$B$4:$B$15000)),4),"-")} -> 5.3159 | D47: {=IFERROR(ROUND(AVERAGE(IF((MONTH(EUR!$A$4:$A$15000)=$A47)*(YEAR(EUR!$A$4:$A$15000)=D$1),EUR!$B$4:$B$15000)),4),"-")} -> 5.8601 | E47: {=IFERROR(ROUND(AVERAGE(IF((MONTH(EUR!$A$4:$A$15000)=$A47)*(YEAR(EUR!$A$4:$A$15000)=E$1),EUR!$B$4:$B$15000)),4),"-")} -> 5.0539 | F47: {=IFERROR(ROUND(AVERAGE(IF((MONTH(EUR!$A$4:$A$15000)=$A47)*(YEAR(EUR!$A$4:$A$15000)=F$1),EUR!$B$4:$B$15000)),4),"-")} -> 5.5933 | G47: {=IFERROR(ROUND(AVERAGE(IF((MONTH(EUR!$A$4:$A$15000)=$A47)*(YEAR(EUR!$A$4:$A$15000)=G$1),EUR!$B$4:$B$15000)),4),"-")} -> 6.7471 | H47: {=IFERROR(ROUND(AVERAGE(IF((MONTH(EUR!$A$4:$A$15000)=$A47)*(YEAR(EUR!$A$4:$A$15000)=H$1),EUR!$B$4:$B$15000)),4),"-")} -> 7.2651 | I47: {=IFERROR(ROUND(AVERAGE(IF((MONTH(EUR!$A$4:$A$15000)=$A47)*(YEAR(EUR!$A$4:$A$15000)=I$1),EUR!$B$4:$B$15000)),4),"-")} -> 6.6105 | J47: {=IFERROR(ROUND(AVERAGE(IF((MONTH(EUR!$A$4:$A$15000)=$A47)*(YEAR(EUR!$A$4:$A$15000)=J$1),EUR!$B$4:$B$15000)),4),"-")} -> 8.0634 | ... X47: {=IFERROR(ROUND(AVERAGE(IF((MONTH(EUR!$A$4:$A$15000)=$A47)*(YEAR(EUR!$A$4:$A$15000)=X$1),EUR!$B$4:$B$15000)),4),"-")} -> 25.5438
...
